{"text_format":"1","workbook":"xlsx","n_sheets":8,"sheets":["Welcome","Instructions","Data Entry","Predictive Model","Chart Background","Backend Data","Chart Data","Dropdown list"],"not_rendered":{"charts":2,"images":3,"macros":1,"external_links":0,"defined_names":1,"comments":2,"pivot_tables":0},"unopened":[],"bounds":{"document_bytes":16777216,"sheet_cells":100000,"rows_first":2000,"rows_last":500,"rows_between":2000,"halvings":0,"cell_chars":16384,"cell_head_chars":4096},"cells_cut":0,"cells_raw":0,"read":"whole","date_system":"1900"}

{"sheet":"Welcome","index":0,"n_rows":25,"n_cols":15,"rows_kept":25,"cut":false,"hidden":false,"merged":[[1,2,1,14],[25,11,26,11],[24,12,25,12],[15,17,19,22]]}
[null,null,null,null,null,null,null,null,null,null,null,null,null,null,"Advancement Forum"]
[null,null,"Introduction"]
[]
[]
[]
[]
[]
[]
[]
[]
[]
[]
[]
[]
[]
[]
[]
[null,null,null,"Table of Contents"]
[]
[null,null,null,null,"Section 1","Instructions"]
[null,null,null,null,"Section 2","Data Entry"]
[null,null,null,null,"Section 3","Predictive Model"]
[]
[]
[null,null,null,null,null,null,null,null,null,null,null,null,"Next >>"]

{"sheet":"Instructions","index":1,"n_rows":28,"n_cols":11,"rows_kept":28,"cut":false,"hidden":false,"merged":[[1,2,1,11],[0,9,0,11],[27,10,28,10],[27,3,28,3]]}
[null,null,null,null,null,null,null,null,null,"Advancement Forum"]
[null,null,"Data Entry Instructions"]
[]
[]
[]
[]
[null,null,"Who to Include?"]
[]
[]
[]
[]
[null,null,"Estimated Percentage of Time Spent on Fundraising"]
[]
[]
[]
[]
[]
[]
[]
[]
[]
[]
[null,null,"Total Dollars Raised"]
[]
[]
[]
[]
[null,null,null,"<< Previous",null,null,null,null,null,null,"Next >>"]

{"sheet":"Data Entry","index":2,"n_rows":6,"n_cols":7,"rows_kept":6,"cut":false,"hidden":false,"merged":[[1,2,1,6]]}
[null,null,null,null,null,null,"Advancement Forum"]
[null,null,"Data Entry"]
[]
[]
[]
[null,null,"Gift Officer Name","Estimated % of Time Spent on Fundraising","Total Dollars Raised in FY19","Total Dollars Raised in FY18","Total Dollars Raised in FY17"]

{"sheet":"Predictive Model","index":3,"n_rows":40,"n_cols":18,"rows_kept":40,"cut":false,"hidden":false,"merged":[[31,3,31,4],[59,10,59,11],[59,13,59,14],[59,16,59,18],[46,10,46,11],[46,13,46,14],[46,16,46,18],[50,10,50,11],[50,13,50,14],[54,10,54,11],[54,13,54,14],[54,16,54,18],[38,16,38,18],[44,10,44,11],[44,13,44,14],[44,16,44,18],[50,16,50,18],[51,10,51,11],[51,13,51,14],[51,16,51,18],[53,10,53,11],[53,13,53,14],[53,16,53,18],[38,3,38,4],[42,10,42,11],[42,13,42,14],[42,16,42,18],[49,13,49,15],[73,10,73,11],[77,16,77,18],[79,10,79,11],[79,13,79,14],[79,16,79,18],[75,10,75,11],[75,13,75,14],[75,16,75,18],[76,10,76,11],[76,13,76,14],[76,16,76,18],[71,16,71,18],[71,10,71,11],[71,13,71,14],[56,10,56,11],[56,13,56,14],[56,16,56,18],[57,10,57,11],[57,13,57,14],[57,16,57,18],[1,3,1,18],[3,3,4,16],[81,10,81,11],[81,13,81,14],[81,16,81,18],[83,10,83,11],[83,13,83,14],[83,16,83,18],[77,10,77,11],[77,13,77,14],[61,10,61,11],[61,13,61,14],[61,16,61,18],[63,10,63,11],[63,13,63,14],[63,16,63,18],[73,13,73,14],[73,16,73,18],[65,10,65,11],[65,13,65,14],[65,16,65,18],[67,10,67,11],[67,13,67,14],[67,16,67,18],[25,10,25,11],[25,13,25,14],[25,16,25,18],[29,10,29,11],[29,13,29,14],[29,16,29,18],[40,10,40,11],[40,13,40,14],[40,16,40,18],[32,10,32,11],[32,13,32,14],[32,16,32,18],[33,10,33,11],[33,13,33,14],[33,16,33,18],[35,10,35,11],[35,13,35,14],[35,16,35,18],[36,10,36,11],[36,13,36,14],[36,16,36,18],[37,13,37,14],[38,10,38,11],[38,13,38,14],[9,10,9,11],[11,10,11,11],[11,13,11,14],[11,16,11,18],[13,10,13,11],[22,11,22,12],[23,10,23,11],[23,13,23,14],[23,16,23,18],[14,3,14,4],[33,3,33,4],[39,3,39,4],[13,3,13,4],[17,3,18,9],[30,10,30,11],[30,13,30,14],[7,3,7,7],[7,10,7,11],[7,13,7,14],[15,10,15,11],[15,13,15,14],[9,3,9,4],[19,3,21,18],[22,3,22,4],[15,16,15,18],[13,13,13,14],[13,16,13,18],[30,16,30,18],[17,10,17,11],[17,13,17,14],[17,16,17,18],[16,13,16,14],[7,16,7,18]]}
[null,null,null,null,null,null,null,null,null,null,null,null,null,null,null,null,null,"Advancement Forum"]
[null,null,null,"Predictive Model"]
[]
[]
[]
[]
[]
[]
[]
[]
[null,null,null,{"$f":"AVERAGEIF(Table5[Estimated % of Time Spent on Fundraising],\"<>\"\"\")","v":{"$error":"#DIV/0!"}},"%"]
[]
[]
[]
[null,null,null,{"$f":"'Chart Data'!F31","v":0}]
[]
[]
[]
[]
[]
[]
[]
[]
[null,null,null,20,"%"]
[]
[]
[]
[]
[]
[]
[]
[]
[]
[null,null,null,{"$f":"INDEX('Chart Data'!B40:U40,MATCH('Predictive Model'!D24,'Chart Data'!B35:U35))","v":0}]
[]
[]
[]
[]
[]
[null,null,null,{"$f":"D34-D15","v":0}]

{"sheet":"Chart Background","index":4,"n_rows":6,"n_cols":20,"rows_kept":6,"cut":false,"hidden":true,"merged":[]}
[]
[]
[null,null,null,null,null,null,null,null,null,null,null,null,null,null,null,null,null,"Axis","x","y"]
[null,null,null,null,null,null,null,null,null,null,null,null,null,null,null,null,null,"Max",5,{"$f":"'Chart Data'!F26+500000","v":500000}]
[null,null,null,null,null,null,null,null,null,null,null,null,null,null,null,null,null,"Min",1,0]
[null,null,null,null,null,null,null,null,null,null,null,null,null,null,null,null,null,"Tick",1,{"$f":"ROUNDUP(T4/10,-4)","v":50000}]

{"sheet":"Backend Data","index":5,"n_rows":206,"n_cols":24,"rows_kept":206,"cut":false,"hidden":true,"merged":[]}
[]
[]
[]
[]
[]
["MGO","Average $ Raised Per Year","Average $ Raised per 1% of Time","Projected Current State"," 5 ","10","15","20","25","30","35","40","45","50","55","60","65","70","75","80","85","90","95","100"]
[{"$f":"IF(Table5[Gift Officer Name]<>\"\",Table5[Gift Officer Name],\"\")","v":""},{"$f":"IFERROR(AVERAGE(Table5[[#This Row],[Total Dollars Raised in FY19]:[Total Dollars Raised in FY17]]),\"\")","v":""},{"$f":"IFERROR(AVERAGE(Table5[[#This Row],[Total Dollars Raised in FY19]:[Total Dollars Raised in FY17]])/Table5[[#This Row],[Estimated % of Time Spent on Fundraising]],\"\")","v":""},{"$f":"IFERROR(Table3[[#This Row],[Average $ Raised per 1% of Time]]*AVERAGEIF(Table5[Estimated % of Time Spent on Fundraising],\"<>\"\"\"),\"\")","v":""},{"$f":"IFERROR(Table3[[#This Row],[Average $ Raised per 1% of Time]]*$E$6,\"\")","v":""},{"$f":"IFERROR(Table3[[#This Row],[Average $ Raised per 1% of Time]]*$F$6,\"\")","v":""},{"$f":"IFERROR(Table3[[#This Row],[Average $ Raised per 1% of Time]]*$G$6,\"\")","v":""},{"$f":"IFERROR(Table3[[#This Row],[Average $ Raised per 1% of Time]]*$H$6,\"\")","v":""},{"$f":"IFERROR(Table3[[#This Row],[Average $ Raised per 1% of Time]]*$I$6,\"\")","v":""},{"$f":"IFERROR(Table3[[#This Row],[Average $ Raised per 1% of Time]]*$J$6,\"\")","v":""},{"$f":"IFERROR(Table3[[#This Row],[Average $ Raised per 1% of Time]]*$K$6,\"\")","v":""},{"$f":"IFERROR(Table3[[#This Row],[Average $ Raised per 1% of Time]]*$L$6,\"\")","v":""},{"$f":"IFERROR(Table3[[#This Row],[Average $ Raised per 1% of Time]]*$M$6,\"\")","v":""},{"$f":"IFERROR(Table3[[#This Row],[Average $ Raised per 1% of Time]]*$N$6,\"\")","v":""},{"$f":"IFERROR(Table3[[#This Row],[Average $ Raised per 1% of Time]]*$O$6,\"\")","v":""},{"$f":"IFERROR(Table3[[#This Row],[Average $ Raised per 1% of Time]]*$P$6,\"\")","v":""},{"$f":"IFERROR(Table3[[#This Row],[Average $ Raised per 1% of Time]]*$Q$6,\"\")","v":""},{"$f":"IFERROR(Table3[[#This Row],[Average $ Raised per 1% of Time]]*$R$6,\"\")","v":""},{"$f":"IFERROR(Table3[[#This Row],[Average $ Raised per 1% of Time]]*$S$6,\"\")","v":""},{"$f":"IFERROR(Table3[[#This Row],[Average $ Raised per 1% of Time]]*$T$6,\"\")","v":""},{"$f":"IFERROR(Table3[[#This Row],[Average $ Raised per 1% of Time]]*$U$6,\"\")","v":""},{"$f":"IFERROR(Table3[[#This Row],[Average $ Raised per 1% of Time]]*$V$6,\"\")","v":""},{"$f":"IFERROR(Table3[[#This Row],[Average $ Raised per 1% of Time]]*$W$6,\"\")","v":""},{"$f":"IFERROR(Table3[[#This Row],[Average $ Raised per 1% of Time]]*$X$6,\"\")","v":""}]
[{"$f":"IF(Table5[Gift Officer Name]<>\"\",Table5[Gift Officer Name],\"\")","v":""},{"$f":"IFERROR(AVERAGE(Table5[[#This Row],[Total Dollars Raised in FY19]:[Total Dollars Raised in FY17]]),\"\")","v":""},{"$f":"IFERROR(AVERAGE(Table5[[#This Row],[Total Dollars Raised in FY19]:[Total Dollars Raised in FY17]])/Table5[[#This Row],[Estimated % of Time Spent on Fundraising]],\"\")","v":""},{"$f":"IFERROR(Table3[[#This Row],[Average $ Raised per 1% of Time]]*AVERAGEIF(Table5[Estimated % of Time Spent on Fundraising],\"<>\"\"\"),\"\")","v":""},{"$f":"IFERROR(Table3[[#This Row],[Average $ Raised per 1% of Time]]*$E$6,\"\")","v":""},{"$f":"IFERROR(Table3[[#This Row],[Average $ Raised per 1% of Time]]*$F$6,\"\")","v":""},{"$f":"IFERROR(Table3[[#This Row],[Average $ Raised per 1% of Time]]*$G$6,\"\")","v":""},{"$f":"IFERROR(Table3[[#This Row],[Average $ Raised per 1% of Time]]*$H$6,\"\")","v":""},{"$f":"IFERROR(Table3[[#This Row],[Average $ Raised per 1% of Time]]*$I$6,\"\")","v":""},{"$f":"IFERROR(Table3[[#This Row],[Average $ Raised per 1% of Time]]*$J$6,\"\")","v":""},{"$f":"IFERROR(Table3[[#This Row],[Average $ Raised per 1% of Time]]*$K$6,\"\")","v":""},{"$f":"IFERROR(Table3[[#This Row],[Average $ Raised per 1% of Time]]*$L$6,\"\")","v":""},{"$f":"IFERROR(Table3[[#This Row],[Average $ Raised per 1% of Time]]*$M$6,\"\")","v":""},{"$f":"IFERROR(Table3[[#This Row],[Average $ Raised per 1% of Time]]*$N$6,\"\")","v":""},{"$f":"IFERROR(Table3[[#This Row],[Average $ Raised per 1% of Time]]*$O$6,\"\")","v":""},{"$f":"IFERROR(Table3[[#This Row],[Average $ Raised per 1% of Time]]*$P$6,\"\")","v":""},{"$f":"IFERROR(Table3[[#This Row],[Average $ Raised per 1% of Time]]*$Q$6,\"\")","v":""},{"$f":"IFERROR(Table3[[#This Row],[Average $ Raised per 1% of Time]]*$R$6,\"\")","v":""},{"$f":"IFERROR(Table3[[#This Row],[Average $ Raised per 1% of Time]]*$S$6,\"\")","v":""},{"$f":"IFERROR(Table3[[#This Row],[Average $ Raised per 1% of Time]]*$T$6,\"\")","v":""},{"$f":"IFERROR(Table3[[#This Row],[Average $ Raised per 1% of Time]]*$U$6,\"\")","v":""},{"$f":"IFERROR(Table3[[#This Row],[Average $ Raised per 1% of Time]]*$V$6,\"\")","v":""},{"$f":"IFERROR(Table3[[#This Row],[Average $ Raised per 1% of Time]]*$W$6,\"\")","v":""},{"$f":"IFERROR(Table3[[#This Row],[Average $ Raised per 1% of Time]]*$X$6,\"\")","v":""}]
[{"$f":"IF(Table5[Gift Officer Name]<>\"\",Table5[Gift Officer Name],\"\")","v":""},{"$f":"IFERROR(AVERAGE(Table5[[#This Row],[Total Dollars Raised in FY19]:[Total Dollars Raised in FY17]]),\"\")","v":""},{"$f":"IFERROR(AVERAGE(Table5[[#This Row],[Total Dollars Raised in FY19]:[Total Dollars Raised in FY17]])/Table5[[#This Row],[Estimated % of Time Spent on Fundraising]],\"\")","v":""},{"$f":"IFERROR(Table3[[#This Row],[Average $ Raised per 1% of Time]]*AVERAGEIF(Table5[Estimated % of Time Spent on Fundraising],\"<>\"\"\"),\"\")","v":""},{"$f":"IFERROR(Table3[[#This Row],[Average $ Raised per 1% of Time]]*$E$6,\"\")","v":""},{"$f":"IFERROR(Table3[[#This Row],[Average $ Raised per 1% of Time]]*$F$6,\"\")","v":""},{"$f":"IFERROR(Table3[[#This Row],[Average $ Raised per 1% of Time]]*$G$6,\"\")","v":""},{"$f":"IFERROR(Table3[[#This Row],[Average $ Raised per 1% of Time]]*$H$6,\"\")","v":""},{"$f":"IFERROR(Table3[[#This Row],[Average $ Raised per 1% of Time]]*$I$6,\"\")","v":""},{"$f":"IFERROR(Table3[[#This Row],[Average $ Raised per 1% of Time]]*$J$6,\"\")","v":""},{"$f":"IFERROR(Table3[[#This Row],[Average $ Raised per 1% of Time]]*$K$6,\"\")","v":""},{"$f":"IFERROR(Table3[[#This Row],[Average $ Raised per 1% of Time]]*$L$6,\"\")","v":""},{"$f":"IFERROR(Table3[[#This Row],[Average $ Raised per 1% of Time]]*$M$6,\"\")","v":""},{"$f":"IFERROR(Table3[[#This Row],[Average $ Raised per 1% of Time]]*$N$6,\"\")","v":""},{"$f":"IFERROR(Table3[[#This Row],[Average $ Raised per 1% of Time]]*$O$6,\"\")","v":""},{"$f":"IFERROR(Table3[[#This Row],[Average $ Raised per 1% of Time]]*$P$6,\"\")","v":""},{"$f":"IFERROR(Table3[[#This Row],[Average $ Raised per 1% of Time]]*$Q$6,\"\")","v":""},{"$f":"IFERROR(Table3[[#This Row],[Average $ Raised per 1% of Time]]*$R$6,\"\")","v":""},{"$f":"IFERROR(Table3[[#This Row],[Average $ Raised per 1% of Time]]*$S$6,\"\")","v":""},{"$f":"IFERROR(Table3[[#This Row],[Average $ Raised per 1% of Time]]*$T$6,\"\")","v":""},{"$f":"IFERROR(Table3[[#This Row],[Average $ Raised per 1% of Time]]*$U$6,\"\")","v":""},{"$f":"IFERROR(Table3[[#This Row],[Average $ Raised per 1% of Time]]*$V$6,\"\")","v":""},{"$f":"IFERROR(Table3[[#This Row],[Average $ Raised per 1% of Time]]*$W$6,\"\")","v":""},{"$f":"IFERROR(Table3[[#This Row],[Average $ Raised per 1% of Time]]*$X$6,\"\")","v":""}]
[{"$f":"IF(Table5[Gift Officer Name]<>\"\",Table5[Gift Officer Name],\"\")","v":""},{"$f":"IFERROR(AVERAGE(Table5[[#This Row],[Total Dollars Raised in FY19]:[Total Dollars Raised in FY17]]),\"\")","v":""},{"$f":"IFERROR(AVERAGE(Table5[[#This Row],[Total Dollars Raised in FY19]:[Total Dollars Raised in FY17]])/Table5[[#This Row],[Estimated % of Time Spent on Fundraising]],\"\")","v":""},{"$f":"IFERROR(Table3[[#This Row],[Average $ Raised per 1% of Time]]*AVERAGEIF(Table5[Estimated % of Time Spent on Fundraising],\"<>\"\"\"),\"\")","v":""},{"$f":"IFERROR(Table3[[#This Row],[Average $ Raised per 1% of Time]]*$E$6,\"\")","v":""},{"$f":"IFERROR(Table3[[#This Row],[Average $ Raised per 1% of Time]]*$F$6,\"\")","v":""},{"$f":"IFERROR(Table3[[#This Row],[Average $ Raised per 1% of Time]]*$G$6,\"\")","v":""},{"$f":"IFERROR(Table3[[#This Row],[Average $ Raised per 1% of Time]]*$H$6,\"\")","v":""},{"$f":"IFERROR(Table3[[#This Row],[Average $ Raised per 1% of Time]]*$I$6,\"\")","v":""},{"$f":"IFERROR(Table3[[#This Row],[Average $ Raised per 1% of Time]]*$J$6,\"\")","v":""},{"$f":"IFERROR(Table3[[#This Row],[Average $ Raised per 1% of Time]]*$K$6,\"\")","v":""},{"$f":"IFERROR(Table3[[#This Row],[Average $ Raised per 1% of Time]]*$L$6,\"\")","v":""},{"$f":"IFERROR(Table3[[#This Row],[Average $ Raised per 1% of Time]]*$M$6,\"\")","v":""},{"$f":"IFERROR(Table3[[#This Row],[Average $ Raised per 1% of Time]]*$N$6,\"\")","v":""},{"$f":"IFERROR(Table3[[#This Row],[Average $ Raised per 1% of Time]]*$O$6,\"\")","v":""},{"$f":"IFERROR(Table3[[#This Row],[Average $ Raised per 1% of Time]]*$P$6,\"\")","v":""},{"$f":"IFERROR(Table3[[#This Row],[Average $ Raised per 1% of Time]]*$Q$6,\"\")","v":""},{"$f":"IFERROR(Table3[[#This Row],[Average $ Raised per 1% of Time]]*$R$6,\"\")","v":""},{"$f":"IFERROR(Table3[[#This Row],[Average $ Raised per 1% of Time]]*$S$6,\"\")","v":""},{"$f":"IFERROR(Table3[[#This Row],[Average $ Raised per 1% of Time]]*$T$6,\"\")","v":""},{"$f":"IFERROR(Table3[[#This Row],[Average $ Raised per 1% of Time]]*$U$6,\"\")","v":""},{"$f":"IFERROR(Table3[[#This Row],[Average $ Raised per 1% of Time]]*$V$6,\"\")","v":""},{"$f":"IFERROR(Table3[[#This Row],[Average $ Raised per 1% of Time]]*$W$6,\"\")","v":""},{"$f":"IFERROR(Table3[[#This Row],[Average $ Raised per 1% of Time]]*$X$6,\"\")","v":""}]
[{"$f":"IF(Table5[Gift Officer Name]<>\"\",Table5[Gift Officer Name],\"\")","v":""},{"$f":"IFERROR(AVERAGE(Table5[[#This Row],[Total Dollars Raised in FY19]:[Total Dollars Raised in FY17]]),\"\")","v":""},{"$f":"IFERROR(AVERAGE(Table5[[#This Row],[Total Dollars Raised in FY19]:[Total Dollars Raised in FY17]])/Table5[[#This Row],[Estimated % of Time Spent on Fundraising]],\"\")","v":""},{"$f":"IFERROR(Table3[[#This Row],[Average $ Raised per 1% of Time]]*AVERAGEIF(Table5[Estimated % of Time Spent on Fundraising],\"<>\"\"\"),\"\")","v":""},{"$f":"IFERROR(Table3[[#This Row],[Average $ Raised per 1% of Time]]*$E$6,\"\")","v":""},{"$f":"IFERROR(Table3[[#This Row],[Average $ Raised per 1% of Time]]*$F$6,\"\")","v":""},{"$f":"IFERROR(Table3[[#This Row],[Average $ Raised per 1% of Time]]*$G$6,\"\")","v":""},{"$f":"IFERROR(Table3[[#This Row],[Average $ Raised per 1% of Time]]*$H$6,\"\")","v":""},{"$f":"IFERROR(Table3[[#This Row],[Average $ Raised per 1% of Time]]*$I$6,\"\")","v":""},{"$f":"IFERROR(Table3[[#This Row],[Average $ Raised per 1% of Time]]*$J$6,\"\")","v":""},{"$f":"IFERROR(Table3[[#This Row],[Average $ Raised per 1% of Time]]*$K$6,\"\")","v":""},{"$f":"IFERROR(Table3[[#This Row],[Average $ Raised per 1% of Time]]*$L$6,\"\")","v":""},{"$f":"IFERROR(Table3[[#This Row],[Average $ Raised per 1% of Time]]*$M$6,\"\")","v":""},{"$f":"IFERROR(Table3[[#This Row],[Average $ Raised per 1% of Time]]*$N$6,\"\")","v":""},{"$f":"IFERROR(Table3[[#This Row],[Average $ Raised per 1% of Time]]*$O$6,\"\")","v":""},{"$f":"IFERROR(Table3[[#This Row],[Average $ Raised per 1% of Time]]*$P$6,\"\")","v":""},{"$f":"IFERROR(Table3[[#This Row],[Average $ Raised per 1% of Time]]*$Q$6,\"\")","v":""},{"$f":"IFERROR(Table3[[#This Row],[Average $ Raised per 1% of Time]]*$R$6,\"\")","v":""},{"$f":"IFERROR(Table3[[#This Row],[Average $ Raised per 1% of Time]]*$S$6,\"\")","v":""},{"$f":"IFERROR(Table3[[#This Row],[Average $ Raised per 1% of Time]]*$T$6,\"\")","v":""},{"$f":"IFERROR(Table3[[#This Row],[Average $ Raised per 1% of Time]]*$U$6,\"\")","v":""},{"$f":"IFERROR(Table3[[#This Row],[Average $ Raised per 1% of Time]]*$V$6,\"\")","v":""},{"$f":"IFERROR(Table3[[#This Row],[Average $ Raised per 1% of Time]]*$W$6,\"\")","v":""},{"$f":"IFERROR(Table3[[#This Row],[Average $ Raised per 1% of Time]]*$X$6,\"\")","v":""}]
[{"$f":"IF(Table5[Gift Officer Name]<>\"\",Table5[Gift Officer Name],\"\")","v":""},{"$f":"IFERROR(AVERAGE(Table5[[#This Row],[Total Dollars Raised in FY19]:[Total Dollars Raised in FY17]]),\"\")","v":""},{"$f":"IFERROR(AVERAGE(Table5[[#This Row],[Total Dollars Raised in FY19]:[Total Dollars Raised in FY17]])/Table5[[#This Row],[Estimated % of Time Spent on Fundraising]],\"\")","v":""},{"$f":"IFERROR(Table3[[#This Row],[Average $ Raised per 1% of Time]]*AVERAGEIF(Table5[Estimated % of Time Spent on Fundraising],\"<>\"\"\"),\"\")","v":""},{"$f":"IFERROR(Table3[[#This Row],[Average $ Raised per 1% of Time]]*$E$6,\"\")","v":""},{"$f":"IFERROR(Table3[[#This Row],[Average $ Raised per 1% of Time]]*$F$6,\"\")","v":""},{"$f":"IFERROR(Table3[[#This Row],[Average $ Raised per 1% of Time]]*$G$6,\"\")","v":""},{"$f":"IFERROR(Table3[[#This Row],[Average $ Raised per 1% of Time]]*$H$6,\"\")","v":""},{"$f":"IFERROR(Table3[[#This Row],[Average $ Raised per 1% of Time]]*$I$6,\"\")","v":""},{"$f":"IFERROR(Table3[[#This Row],[Average $ Raised per 1% of Time]]*$J$6,\"\")","v":""},{"$f":"IFERROR(Table3[[#This Row],[Average $ Raised per 1% of Time]]*$K$6,\"\")","v":""},{"$f":"IFERROR(Table3[[#This Row],[Average $ Raised per 1% of Time]]*$L$6,\"\")","v":""},{"$f":"IFERROR(Table3[[#This Row],[Average $ Raised per 1% of Time]]*$M$6,\"\")","v":""},{"$f":"IFERROR(Table3[[#This Row],[Average $ Raised per 1% of Time]]*$N$6,\"\")","v":""},{"$f":"IFERROR(Table3[[#This Row],[Average $ Raised per 1% of Time]]*$O$6,\"\")","v":""},{"$f":"IFERROR(Table3[[#This Row],[Average $ Raised per 1% of Time]]*$P$6,\"\")","v":""},{"$f":"IFERROR(Table3[[#This Row],[Average $ Raised per 1% of Time]]*$Q$6,\"\")","v":""},{"$f":"IFERROR(Table3[[#This Row],[Average $ Raised per 1% of Time]]*$R$6,\"\")","v":""},{"$f":"IFERROR(Table3[[#This Row],[Average $ Raised per 1% of Time]]*$S$6,\"\")","v":""},{"$f":"IFERROR(Table3[[#This Row],[Average $ Raised per 1% of Time]]*$T$6,\"\")","v":""},{"$f":"IFERROR(Table3[[#This Row],[Average $ Raised per 1% of Time]]*$U$6,\"\")","v":""},{"$f":"IFERROR(Table3[[#This Row],[Average $ Raised per 1% of Time]]*$V$6,\"\")","v":""},{"$f":"IFERROR(Table3[[#This Row],[Average $ Raised per 1% of Time]]*$W$6,\"\")","v":""},{"$f":"IFERROR(Table3[[#This Row],[Average $ Raised per 1% of Time]]*$X$6,\"\")","v":""}]
[{"$f":"IF(Table5[Gift Officer Name]<>\"\",Table5[Gift Officer Name],\"\")","v":""},{"$f":"IFERROR(AVERAGE(Table5[[#This Row],[Total Dollars Raised in FY19]:[Total Dollars Raised in FY17]]),\"\")","v":""},{"$f":"IFERROR(AVERAGE(Table5[[#This Row],[Total Dollars Raised in FY19]:[Total Dollars Raised in FY17]])/Table5[[#This Row],[Estimated % of Time Spent on Fundraising]],\"\")","v":""},{"$f":"IFERROR(Table3[[#This Row],[Average $ Raised per 1% of Time]]*AVERAGEIF(Table5[Estimated % of Time Spent on Fundraising],\"<>\"\"\"),\"\")","v":""},{"$f":"IFERROR(Table3[[#This Row],[Average $ Raised per 1% of Time]]*$E$6,\"\")","v":""},{"$f":"IFERROR(Table3[[#This Row],[Average $ Raised per 1% of Time]]*$F$6,\"\")","v":""},{"$f":"IFERROR(Table3[[#This Row],[Average $ Raised per 1% of Time]]*$G$6,\"\")","v":""},{"$f":"IFERROR(Table3[[#This Row],[Average $ Raised per 1% of Time]]*$H$6,\"\")","v":""},{"$f":"IFERROR(Table3[[#This Row],[Average $ Raised per 1% of Time]]*$I$6,\"\")","v":""},{"$f":"IFERROR(Table3[[#This Row],[Average $ Raised per 1% of Time]]*$J$6,\"\")","v":""},{"$f":"IFERROR(Table3[[#This Row],[Average $ Raised per 1% of Time]]*$K$6,\"\")","v":""},{"$f":"IFERROR(Table3[[#This Row],[Average $ Raised per 1% of Time]]*$L$6,\"\")","v":""},{"$f":"IFERROR(Table3[[#This Row],[Average $ Raised per 1% of Time]]*$M$6,\"\")","v":""},{"$f":"IFERROR(Table3[[#This Row],[Average $ Raised per 1% of Time]]*$N$6,\"\")","v":""},{"$f":"IFERROR(Table3[[#This Row],[Average $ Raised per 1% of Time]]*$O$6,\"\")","v":""},{"$f":"IFERROR(Table3[[#This Row],[Average $ Raised per 1% of Time]]*$P$6,\"\")","v":""},{"$f":"IFERROR(Table3[[#This Row],[Average $ Raised per 1% of Time]]*$Q$6,\"\")","v":""},{"$f":"IFERROR(Table3[[#This Row],[Average $ Raised per 1% of Time]]*$R$6,\"\")","v":""},{"$f":"IFERROR(Table3[[#This Row],[Average $ Raised per 1% of Time]]*$S$6,\"\")","v":""},{"$f":"IFERROR(Table3[[#This Row],[Average $ Raised per 1% of Time]]*$T$6,\"\")","v":""},{"$f":"IFERROR(Table3[[#This Row],[Average $ Raised per 1% of Time]]*$U$6,\"\")","v":""},{"$f":"IFERROR(Table3[[#This Row],[Average $ Raised per 1% of Time]]*$V$6,\"\")","v":""},{"$f":"IFERROR(Table3[[#This Row],[Average $ Raised per 1% of Time]]*$W$6,\"\")","v":""},{"$f":"IFERROR(Table3[[#This Row],[Average $ Raised per 1% of Time]]*$X$6,\"\")","v":""}]
[{"$f":"IF(Table5[Gift Officer Name]<>\"\",Table5[Gift Officer Name],\"\")","v":""},{"$f":"IFERROR(AVERAGE(Table5[[#This Row],[Total Dollars Raised in FY19]:[Total Dollars Raised in FY17]]),\"\")","v":""},{"$f":"IFERROR(AVERAGE(Table5[[#This Row],[Total Dollars Raised in FY19]:[Total Dollars Raised in FY17]])/Table5[[#This Row],[Estimated % of Time Spent on Fundraising]],\"\")","v":""},{"$f":"IFERROR(Table3[[#This Row],[Average $ Raised per 1% of Time]]*AVERAGEIF(Table5[Estimated % of Time Spent on Fundraising],\"<>\"\"\"),\"\")","v":""},{"$f":"IFERROR(Table3[[#This Row],[Average $ Raised per 1% of Time]]*$E$6,\"\")","v":""},{"$f":"IFERROR(Table3[[#This Row],[Average $ Raised per 1% of Time]]*$F$6,\"\")","v":""},{"$f":"IFERROR(Table3[[#This Row],[Average $ Raised per 1% of Time]]*$G$6,\"\")","v":""},{"$f":"IFERROR(Table3[[#This Row],[Average $ Raised per 1% of Time]]*$H$6,\"\")","v":""},{"$f":"IFERROR(Table3[[#This Row],[Average $ Raised per 1% of Time]]*$I$6,\"\")","v":""},{"$f":"IFERROR(Table3[[#This Row],[Average $ Raised per 1% of Time]]*$J$6,\"\")","v":""},{"$f":"IFERROR(Table3[[#This Row],[Average $ Raised per 1% of Time]]*$K$6,\"\")","v":""},{"$f":"IFERROR(Table3[[#This Row],[Average $ Raised per 1% of Time]]*$L$6,\"\")","v":""},{"$f":"IFERROR(Table3[[#This Row],[Average $ Raised per 1% of Time]]*$M$6,\"\")","v":""},{"$f":"IFERROR(Table3[[#This Row],[Average $ Raised per 1% of Time]]*$N$6,\"\")","v":""},{"$f":"IFERROR(Table3[[#This Row],[Average $ Raised per 1% of Time]]*$O$6,\"\")","v":""},{"$f":"IFERROR(Table3[[#This Row],[Average $ Raised per 1% of Time]]*$P$6,\"\")","v":""},{"$f":"IFERROR(Table3[[#This Row],[Average $ Raised per 1% of Time]]*$Q$6,\"\")","v":""},{"$f":"IFERROR(Table3[[#This Row],[Average $ Raised per 1% of Time]]*$R$6,\"\")","v":""},{"$f":"IFERROR(Table3[[#This Row],[Average $ Raised per 1% of Time]]*$S$6,\"\")","v":""},{"$f":"IFERROR(Table3[[#This Row],[Average $ Raised per 1% of Time]]*$T$6,\"\")","v":""},{"$f":"IFERROR(Table3[[#This Row],[Average $ Raised per 1% of Time]]*$U$6,\"\")","v":""},{"$f":"IFERROR(Table3[[#This Row],[Average $ Raised per 1% of Time]]*$V$6,\"\")","v":""},{"$f":"IFERROR(Table3[[#This Row],[Average $ Raised per 1% of Time]]*$W$6,\"\")","v":""},{"$f":"IFERROR(Table3[[#This Row],[Average $ Raised per 1% of Time]]*$X$6,\"\")","v":""}]
[{"$f":"IF(Table5[Gift Officer Name]<>\"\",Table5[Gift Officer Name],\"\")","v":""},{"$f":"IFERROR(AVERAGE(Table5[[#This Row],[Total Dollars Raised in FY19]:[Total Dollars Raised in FY17]]),\"\")","v":""},{"$f":"IFERROR(AVERAGE(Table5[[#This Row],[Total Dollars Raised in FY19]:[Total Dollars Raised in FY17]])/Table5[[#This Row],[Estimated % of Time Spent on Fundraising]],\"\")","v":""},{"$f":"IFERROR(Table3[[#This Row],[Average $ Raised per 1% of Time]]*AVERAGEIF(Table5[Estimated % of Time Spent on Fundraising],\"<>\"\"\"),\"\")","v":""},{"$f":"IFERROR(Table3[[#This Row],[Average $ Raised per 1% of Time]]*$E$6,\"\")","v":""},{"$f":"IFERROR(Table3[[#This Row],[Average $ Raised per 1% of Time]]*$F$6,\"\")","v":""},{"$f":"IFERROR(Table3[[#This Row],[Average $ Raised per 1% of Time]]*$G$6,\"\")","v":""},{"$f":"IFERROR(Table3[[#This Row],[Average $ Raised per 1% of Time]]*$H$6,\"\")","v":""},{"$f":"IFERROR(Table3[[#This Row],[Average $ Raised per 1% of Time]]*$I$6,\"\")","v":""},{"$f":"IFERROR(Table3[[#This Row],[Average $ Raised per 1% of Time]]*$J$6,\"\")","v":""},{"$f":"IFERROR(Table3[[#This Row],[Average $ Raised per 1% of Time]]*$K$6,\"\")","v":""},{"$f":"IFERROR(Table3[[#This Row],[Average $ Raised per 1% of Time]]*$L$6,\"\")","v":""},{"$f":"IFERROR(Table3[[#This Row],[Average $ Raised per 1% of Time]]*$M$6,\"\")","v":""},{"$f":"IFERROR(Table3[[#This Row],[Average $ Raised per 1% of Time]]*$N$6,\"\")","v":""},{"$f":"IFERROR(Table3[[#This Row],[Average $ Raised per 1% of Time]]*$O$6,\"\")","v":""},{"$f":"IFERROR(Table3[[#This Row],[Average $ Raised per 1% of Time]]*$P$6,\"\")","v":""},{"$f":"IFERROR(Table3[[#This Row],[Average $ Raised per 1% of Time]]*$Q$6,\"\")","v":""},{"$f":"IFERROR(Table3[[#This Row],[Average $ Raised per 1% of Time]]*$R$6,\"\")","v":""},{"$f":"IFERROR(Table3[[#This Row],[Average $ Raised per 1% of Time]]*$S$6,\"\")","v":""},{"$f":"IFERROR(Table3[[#This Row],[Average $ Raised per 1% of Time]]*$T$6,\"\")","v":""},{"$f":"IFERROR(Table3[[#This Row],[Average $ Raised per 1% of Time]]*$U$6,\"\")","v":""},{"$f":"IFERROR(Table3[[#This Row],[Average $ Raised per 1% of Time]]*$V$6,\"\")","v":""},{"$f":"IFERROR(Table3[[#This Row],[Average $ Raised per 1% of Time]]*$W$6,\"\")","v":""},{"$f":"IFERROR(Table3[[#This Row],[Average $ Raised per 1% of Time]]*$X$6,\"\")","v":""}]
[{"$f":"IF(Table5[Gift Officer Name]<>\"\",Table5[Gift Officer Name],\"\")","v":""},{"$f":"IFERROR(AVERAGE(Table5[[#This Row],[Total Dollars Raised in FY19]:[Total Dollars Raised in FY17]]),\"\")","v":""},{"$f":"IFERROR(AVERAGE(Table5[[#This Row],[Total Dollars Raised in FY19]:[Total Dollars Raised in FY17]])/Table5[[#This Row],[Estimated % of Time Spent on Fundraising]],\"\")","v":""},{"$f":"IFERROR(Table3[[#This Row],[Average $ Raised per 1% of Time]]*AVERAGEIF(Table5[Estimated % of Time Spent on Fundraising],\"<>\"\"\"),\"\")","v":""},{"$f":"IFERROR(Table3[[#This Row],[Average $ Raised per 1% of Time]]*$E$6,\"\")","v":""},{"$f":"IFERROR(Table3[[#This Row],[Average $ Raised per 1% of Time]]*$F$6,\"\")","v":""},{"$f":"IFERROR(Table3[[#This Row],[Average $ Raised per 1% of Time]]*$G$6,\"\")","v":""},{"$f":"IFERROR(Table3[[#This Row],[Average $ Raised per 1% of Time]]*$H$6,\"\")","v":""},{"$f":"IFERROR(Table3[[#This Row],[Average $ Raised per 1% of Time]]*$I$6,\"\")","v":""},{"$f":"IFERROR(Table3[[#This Row],[Average $ Raised per 1% of Time]]*$J$6,\"\")","v":""},{"$f":"IFERROR(Table3[[#This Row],[Average $ Raised per 1% of Time]]*$K$6,\"\")","v":""},{"$f":"IFERROR(Table3[[#This Row],[Average $ Raised per 1% of Time]]*$L$6,\"\")","v":""},{"$f":"IFERROR(Table3[[#This Row],[Average $ Raised per 1% of Time]]*$M$6,\"\")","v":""},{"$f":"IFERROR(Table3[[#This Row],[Average $ Raised per 1% of Time]]*$N$6,\"\")","v":""},{"$f":"IFERROR(Table3[[#This Row],[Average $ Raised per 1% of Time]]*$O$6,\"\")","v":""},{"$f":"IFERROR(Table3[[#This Row],[Average $ Raised per 1% of Time]]*$P$6,\"\")","v":""},{"$f":"IFERROR(Table3[[#This Row],[Average $ Raised per 1% of Time]]*$Q$6,\"\")","v":""},{"$f":"IFERROR(Table3[[#This Row],[Average $ Raised per 1% of Time]]*$R$6,\"\")","v":""},{"$f":"IFERROR(Table3[[#This Row],[Average $ Raised per 1% of Time]]*$S$6,\"\")","v":""},{"$f":"IFERROR(Table3[[#This Row],[Average $ Raised per 1% of Time]]*$T$6,\"\")","v":""},{"$f":"IFERROR(Table3[[#This Row],[Average $ Raised per 1% of Time]]*$U$6,\"\")","v":""},{"$f":"IFERROR(Table3[[#This Row],[Average $ Raised per 1% of Time]]*$V$6,\"\")","v":""},{"$f":"IFERROR(Table3[[#This Row],[Average $ Raised per 1% of Time]]*$W$6,\"\")","v":""},{"$f":"IFERROR(Table3[[#This Row],[Average $ Raised per 1% of Time]]*$X$6,\"\")","v":""}]
[{"$f":"IF(Table5[Gift Officer Name]<>\"\",Table5[Gift Officer Name],\"\")","v":""},{"$f":"IFERROR(AVERAGE(Table5[[#This Row],[Total Dollars Raised in FY19]:[Total Dollars Raised in FY17]]),\"\")","v":""},{"$f":"IFERROR(AVERAGE(Table5[[#This Row],[Total Dollars Raised in FY19]:[Total Dollars Raised in FY17]])/Table5[[#This Row],[Estimated % of Time Spent on Fundraising]],\"\")","v":""},{"$f":"IFERROR(Table3[[#This Row],[Average $ Raised per 1% of Time]]*AVERAGEIF(Table5[Estimated % of Time Spent on Fundraising],\"<>\"\"\"),\"\")","v":""},{"$f":"IFERROR(Table3[[#This Row],[Average $ Raised per 1% of Time]]*$E$6,\"\")","v":""},{"$f":"IFERROR(Table3[[#This Row],[Average $ Raised per 1% of Time]]*$F$6,\"\")","v":""},{"$f":"IFERROR(Table3[[#This Row],[Average $ Raised per 1% of Time]]*$G$6,\"\")","v":""},{"$f":"IFERROR(Table3[[#This Row],[Average $ Raised per 1% of Time]]*$H$6,\"\")","v":""},{"$f":"IFERROR(Table3[[#This Row],[Average $ Raised per 1% of Time]]*$I$6,\"\")","v":""},{"$f":"IFERROR(Table3[[#This Row],[Average $ Raised per 1% of Time]]*$J$6,\"\")","v":""},{"$f":"IFERROR(Table3[[#This Row],[Average $ Raised per 1% of Time]]*$K$6,\"\")","v":""},{"$f":"IFERROR(Table3[[#This Row],[Average $ Raised per 1% of Time]]*$L$6,\"\")","v":""},{"$f":"IFERROR(Table3[[#This Row],[Average $ Raised per 1% of Time]]*$M$6,\"\")","v":""},{"$f":"IFERROR(Table3[[#This Row],[Average $ Raised per 1% of Time]]*$N$6,\"\")","v":""},{"$f":"IFERROR(Table3[[#This Row],[Average $ Raised per 1% of Time]]*$O$6,\"\")","v":""},{"$f":"IFERROR(Table3[[#This Row],[Average $ Raised per 1% of Time]]*$P$6,\"\")","v":""},{"$f":"IFERROR(Table3[[#This Row],[Average $ Raised per 1% of Time]]*$Q$6,\"\")","v":""},{"$f":"IFERROR(Table3[[#This Row],[Average $ Raised per 1% of Time]]*$R$6,\"\")","v":""},{"$f":"IFERROR(Table3[[#This Row],[Average $ Raised per 1% of Time]]*$S$6,\"\")","v":""},{"$f":"IFERROR(Table3[[#This Row],[Average $ Raised per 1% of Time]]*$T$6,\"\")","v":""},{"$f":"IFERROR(Table3[[#This Row],[Average $ Raised per 1% of Time]]*$U$6,\"\")","v":""},{"$f":"IFERROR(Table3[[#This Row],[Average $ Raised per 1% of Time]]*$V$6,\"\")","v":""},{"$f":"IFERROR(Table3[[#This Row],[Average $ Raised per 1% of Time]]*$W$6,\"\")","v":""},{"$f":"IFERROR(Table3[[#This Row],[Average $ Raised per 1% of Time]]*$X$6,\"\")","v":""}]
[{"$f":"IF(Table5[Gift Officer Name]<>\"\",Table5[Gift Officer Name],\"\")","v":""},{"$f":"IFERROR(AVERAGE(Table5[[#This Row],[Total Dollars Raised in FY19]:[Total Dollars Raised in FY17]]),\"\")","v":""},{"$f":"IFERROR(AVERAGE(Table5[[#This Row],[Total Dollars Raised in FY19]:[Total Dollars Raised in FY17]])/Table5[[#This Row],[Estimated % of Time Spent on Fundraising]],\"\")","v":""},{"$f":"IFERROR(Table3[[#This Row],[Average $ Raised per 1% of Time]]*AVERAGEIF(Table5[Estimated % of Time Spent on Fundraising],\"<>\"\"\"),\"\")","v":""},{"$f":"IFERROR(Table3[[#This Row],[Average $ Raised per 1% of Time]]*$E$6,\"\")","v":""},{"$f":"IFERROR(Table3[[#This Row],[Average $ Raised per 1% of Time]]*$F$6,\"\")","v":""},{"$f":"IFERROR(Table3[[#This Row],[Average $ Raised per 1% of Time]]*$G$6,\"\")","v":""},{"$f":"IFERROR(Table3[[#This Row],[Average $ Raised per 1% of Time]]*$H$6,\"\")","v":""},{"$f":"IFERROR(Table3[[#This Row],[Average $ Raised per 1% of Time]]*$I$6,\"\")","v":""},{"$f":"IFERROR(Table3[[#This Row],[Average $ Raised per 1% of Time]]*$J$6,\"\")","v":""},{"$f":"IFERROR(Table3[[#This Row],[Average $ Raised per 1% of Time]]*$K$6,\"\")","v":""},{"$f":"IFERROR(Table3[[#This Row],[Average $ Raised per 1% of Time]]*$L$6,\"\")","v":""},{"$f":"IFERROR(Table3[[#This Row],[Average $ Raised per 1% of Time]]*$M$6,\"\")","v":""},{"$f":"IFERROR(Table3[[#This Row],[Average $ Raised per 1% of Time]]*$N$6,\"\")","v":""},{"$f":"IFERROR(Table3[[#This Row],[Average $ Raised per 1% of Time]]*$O$6,\"\")","v":""},{"$f":"IFERROR(Table3[[#This Row],[Average $ Raised per 1% of Time]]*$P$6,\"\")","v":""},{"$f":"IFERROR(Table3[[#This Row],[Average $ Raised per 1% of Time]]*$Q$6,\"\")","v":""},{"$f":"IFERROR(Table3[[#This Row],[Average $ Raised per 1% of Time]]*$R$6,\"\")","v":""},{"$f":"IFERROR(Table3[[#This Row],[Average $ Raised per 1% of Time]]*$S$6,\"\")","v":""},{"$f":"IFERROR(Table3[[#This Row],[Average $ Raised per 1% of Time]]*$T$6,\"\")","v":""},{"$f":"IFERROR(Table3[[#This Row],[Average $ Raised per 1% of Time]]*$U$6,\"\")","v":""},{"$f":"IFERROR(Table3[[#This Row],[Average $ Raised per 1% of Time]]*$V$6,\"\")","v":""},{"$f":"IFERROR(Table3[[#This Row],[Average $ Raised per 1% of Time]]*$W$6,\"\")","v":""},{"$f":"IFERROR(Table3[[#This Row],[Average $ Raised per 1% of Time]]*$X$6,\"\")","v":""}]
[{"$f":"IF(Table5[Gift Officer Name]<>\"\",Table5[Gift Officer Name],\"\")","v":""},{"$f":"IFERROR(AVERAGE(Table5[[#This Row],[Total Dollars Raised in FY19]:[Total Dollars Raised in FY17]]),\"\")","v":""},{"$f":"IFERROR(AVERAGE(Table5[[#This Row],[Total Dollars Raised in FY19]:[Total Dollars Raised in FY17]])/Table5[[#This Row],[Estimated % of Time Spent on Fundraising]],\"\")","v":""},{"$f":"IFERROR(Table3[[#This Row],[Average $ Raised per 1% of Time]]*AVERAGEIF(Table5[Estimated % of Time Spent on Fundraising],\"<>\"\"\"),\"\")","v":""},{"$f":"IFERROR(Table3[[#This Row],[Average $ Raised per 1% of Time]]*$E$6,\"\")","v":""},{"$f":"IFERROR(Table3[[#This Row],[Average $ Raised per 1% of Time]]*$F$6,\"\")","v":""},{"$f":"IFERROR(Table3[[#This Row],[Average $ Raised per 1% of Time]]*$G$6,\"\")","v":""},{"$f":"IFERROR(Table3[[#This Row],[Average $ Raised per 1% of Time]]*$H$6,\"\")","v":""},{"$f":"IFERROR(Table3[[#This Row],[Average $ Raised per 1% of Time]]*$I$6,\"\")","v":""},{"$f":"IFERROR(Table3[[#This Row],[Average $ Raised per 1% of Time]]*$J$6,\"\")","v":""},{"$f":"IFERROR(Table3[[#This Row],[Average $ Raised per 1% of Time]]*$K$6,\"\")","v":""},{"$f":"IFERROR(Table3[[#This Row],[Average $ Raised per 1% of Time]]*$L$6,\"\")","v":""},{"$f":"IFERROR(Table3[[#This Row],[Average $ Raised per 1% of Time]]*$M$6,\"\")","v":""},{"$f":"IFERROR(Table3[[#This Row],[Average $ Raised per 1% of Time]]*$N$6,\"\")","v":""},{"$f":"IFERROR(Table3[[#This Row],[Average $ Raised per 1% of Time]]*$O$6,\"\")","v":""},{"$f":"IFERROR(Table3[[#This Row],[Average $ Raised per 1% of Time]]*$P$6,\"\")","v":""},{"$f":"IFERROR(Table3[[#This Row],[Average $ Raised per 1% of Time]]*$Q$6,\"\")","v":""},{"$f":"IFERROR(Table3[[#This Row],[Average $ Raised per 1% of Time]]*$R$6,\"\")","v":""},{"$f":"IFERROR(Table3[[#This Row],[Average $ Raised per 1% of Time]]*$S$6,\"\")","v":""},{"$f":"IFERROR(Table3[[#This Row],[Average $ Raised per 1% of Time]]*$T$6,\"\")","v":""},{"$f":"IFERROR(Table3[[#This Row],[Average $ Raised per 1% of Time]]*$U$6,\"\")","v":""},{"$f":"IFERROR(Table3[[#This Row],[Average $ Raised per 1% of Time]]*$V$6,\"\")","v":""},{"$f":"IFERROR(Table3[[#This Row],[Average $ Raised per 1% of Time]]*$W$6,\"\")","v":""},{"$f":"IFERROR(Table3[[#This Row],[Average $ Raised per 1% of Time]]*$X$6,\"\")","v":""}]
[{"$f":"IF(Table5[Gift Officer Name]<>\"\",Table5[Gift Officer Name],\"\")","v":""},{"$f":"IFERROR(AVERAGE(Table5[[#This Row],[Total Dollars Raised in FY19]:[Total Dollars Raised in FY17]]),\"\")","v":""},{"$f":"IFERROR(AVERAGE(Table5[[#This Row],[Total Dollars Raised in FY19]:[Total Dollars Raised in FY17]])/Table5[[#This Row],[Estimated % of Time Spent on Fundraising]],\"\")","v":""},{"$f":"IFERROR(Table3[[#This Row],[Average $ Raised per 1% of Time]]*AVERAGEIF(Table5[Estimated % of Time Spent on Fundraising],\"<>\"\"\"),\"\")","v":""},{"$f":"IFERROR(Table3[[#This Row],[Average $ Raised per 1% of Time]]*$E$6,\"\")","v":""},{"$f":"IFERROR(Table3[[#This Row],[Average $ Raised per 1% of Time]]*$F$6,\"\")","v":""},{"$f":"IFERROR(Table3[[#This Row],[Average $ Raised per 1% of Time]]*$G$6,\"\")","v":""},{"$f":"IFERROR(Table3[[#This Row],[Average $ Raised per 1% of Time]]*$H$6,\"\")","v":""},{"$f":"IFERROR(Table3[[#This Row],[Average $ Raised per 1% of Time]]*$I$6,\"\")","v":""},{"$f":"IFERROR(Table3[[#This Row],[Average $ Raised per 1% of Time]]*$J$6,\"\")","v":""},{"$f":"IFERROR(Table3[[#This Row],[Average $ Raised per 1% of Time]]*$K$6,\"\")","v":""},{"$f":"IFERROR(Table3[[#This Row],[Average $ Raised per 1% of Time]]*$L$6,\"\")","v":""},{"$f":"IFERROR(Table3[[#This Row],[Average $ Raised per 1% of Time]]*$M$6,\"\")","v":""},{"$f":"IFERROR(Table3[[#This Row],[Average $ Raised per 1% of Time]]*$N$6,\"\")","v":""},{"$f":"IFERROR(Table3[[#This Row],[Average $ Raised per 1% of Time]]*$O$6,\"\")","v":""},{"$f":"IFERROR(Table3[[#This Row],[Average $ Raised per 1% of Time]]*$P$6,\"\")","v":""},{"$f":"IFERROR(Table3[[#This Row],[Average $ Raised per 1% of Time]]*$Q$6,\"\")","v":""},{"$f":"IFERROR(Table3[[#This Row],[Average $ Raised per 1% of Time]]*$R$6,\"\")","v":""},{"$f":"IFERROR(Table3[[#This Row],[Average $ Raised per 1% of Time]]*$S$6,\"\")","v":""},{"$f":"IFERROR(Table3[[#This Row],[Average $ Raised per 1% of Time]]*$T$6,\"\")","v":""},{"$f":"IFERROR(Table3[[#This Row],[Average $ Raised per 1% of Time]]*$U$6,\"\")","v":""},{"$f":"IFERROR(Table3[[#This Row],[Average $ Raised per 1% of Time]]*$V$6,\"\")","v":""},{"$f":"IFERROR(Table3[[#This Row],[Average $ Raised per 1% of Time]]*$W$6,\"\")","v":""},{"$f":"IFERROR(Table3[[#This Row],[Average $ Raised per 1% of Time]]*$X$6,\"\")","v":""}]
[{"$f":"IF(Table5[Gift Officer Name]<>\"\",Table5[Gift Officer Name],\"\")","v":""},{"$f":"IFERROR(AVERAGE(Table5[[#This Row],[Total Dollars Raised in FY19]:[Total Dollars Raised in FY17]]),\"\")","v":""},{"$f":"IFERROR(AVERAGE(Table5[[#This Row],[Total Dollars Raised in FY19]:[Total Dollars Raised in FY17]])/Table5[[#This Row],[Estimated % of Time Spent on Fundraising]],\"\")","v":""},{"$f":"IFERROR(Table3[[#This Row],[Average $ Raised per 1% of Time]]*AVERAGEIF(Table5[Estimated % of Time Spent on Fundraising],\"<>\"\"\"),\"\")","v":""},{"$f":"IFERROR(Table3[[#This Row],[Average $ Raised per 1% of Time]]*$E$6,\"\")","v":""},{"$f":"IFERROR(Table3[[#This Row],[Average $ Raised per 1% of Time]]*$F$6,\"\")","v":""},{"$f":"IFERROR(Table3[[#This Row],[Average $ Raised per 1% of Time]]*$G$6,\"\")","v":""},{"$f":"IFERROR(Table3[[#This Row],[Average $ Raised per 1% of Time]]*$H$6,\"\")","v":""},{"$f":"IFERROR(Table3[[#This Row],[Average $ Raised per 1% of Time]]*$I$6,\"\")","v":""},{"$f":"IFERROR(Table3[[#This Row],[Average $ Raised per 1% of Time]]*$J$6,\"\")","v":""},{"$f":"IFERROR(Table3[[#This Row],[Average $ Raised per 1% of Time]]*$K$6,\"\")","v":""},{"$f":"IFERROR(Table3[[#This Row],[Average $ Raised per 1% of Time]]*$L$6,\"\")","v":""},{"$f":"IFERROR(Table3[[#This Row],[Average $ Raised per 1% of Time]]*$M$6,\"\")","v":""},{"$f":"IFERROR(Table3[[#This Row],[Average $ Raised per 1% of Time]]*$N$6,\"\")","v":""},{"$f":"IFERROR(Table3[[#This Row],[Average $ Raised per 1% of Time]]*$O$6,\"\")","v":""},{"$f":"IFERROR(Table3[[#This Row],[Average $ Raised per 1% of Time]]*$P$6,\"\")","v":""},{"$f":"IFERROR(Table3[[#This Row],[Average $ Raised per 1% of Time]]*$Q$6,\"\")","v":""},{"$f":"IFERROR(Table3[[#This Row],[Average $ Raised per 1% of Time]]*$R$6,\"\")","v":""},{"$f":"IFERROR(Table3[[#This Row],[Average $ Raised per 1% of Time]]*$S$6,\"\")","v":""},{"$f":"IFERROR(Table3[[#This Row],[Average $ Raised per 1% of Time]]*$T$6,\"\")","v":""},{"$f":"IFERROR(Table3[[#This Row],[Average $ Raised per 1% of Time]]*$U$6,\"\")","v":""},{"$f":"IFERROR(Table3[[#This Row],[Average $ Raised per 1% of Time]]*$V$6,\"\")","v":""},{"$f":"IFERROR(Table3[[#This Row],[Average $ Raised per 1% of Time]]*$W$6,\"\")","v":""},{"$f":"IFERROR(Table3[[#This Row],[Average $ Raised per 1% of Time]]*$X$6,\"\")","v":""}]
[{"$f":"IF(Table5[Gift Officer Name]<>\"\",Table5[Gift Officer Name],\"\")","v":""},{"$f":"IFERROR(AVERAGE(Table5[[#This Row],[Total Dollars Raised in FY19]:[Total Dollars Raised in FY17]]),\"\")","v":""},{"$f":"IFERROR(AVERAGE(Table5[[#This Row],[Total Dollars Raised in FY19]:[Total Dollars Raised in FY17]])/Table5[[#This Row],[Estimated % of Time Spent on Fundraising]],\"\")","v":""},{"$f":"IFERROR(Table3[[#This Row],[Average $ Raised per 1% of Time]]*AVERAGEIF(Table5[Estimated % of Time Spent on Fundraising],\"<>\"\"\"),\"\")","v":""},{"$f":"IFERROR(Table3[[#This Row],[Average $ Raised per 1% of Time]]*$E$6,\"\")","v":""},{"$f":"IFERROR(Table3[[#This Row],[Average $ Raised per 1% of Time]]*$F$6,\"\")","v":""},{"$f":"IFERROR(Table3[[#This Row],[Average $ Raised per 1% of Time]]*$G$6,\"\")","v":""},{"$f":"IFERROR(Table3[[#This Row],[Average $ Raised per 1% of Time]]*$H$6,\"\")","v":""},{"$f":"IFERROR(Table3[[#This Row],[Average $ Raised per 1% of Time]]*$I$6,\"\")","v":""},{"$f":"IFERROR(Table3[[#This Row],[Average $ Raised per 1% of Time]]*$J$6,\"\")","v":""},{"$f":"IFERROR(Table3[[#This Row],[Average $ Raised per 1% of Time]]*$K$6,\"\")","v":""},{"$f":"IFERROR(Table3[[#This Row],[Average $ Raised per 1% of Time]]*$L$6,\"\")","v":""},{"$f":"IFERROR(Table3[[#This Row],[Average $ Raised per 1% of Time]]*$M$6,\"\")","v":""},{"$f":"IFERROR(Table3[[#This Row],[Average $ Raised per 1% of Time]]*$N$6,\"\")","v":""},{"$f":"IFERROR(Table3[[#This Row],[Average $ Raised per 1% of Time]]*$O$6,\"\")","v":""},{"$f":"IFERROR(Table3[[#This Row],[Average $ Raised per 1% of Time]]*$P$6,\"\")","v":""},{"$f":"IFERROR(Table3[[#This Row],[Average $ Raised per 1% of Time]]*$Q$6,\"\")","v":""},{"$f":"IFERROR(Table3[[#This Row],[Average $ Raised per 1% of Time]]*$R$6,\"\")","v":""},{"$f":"IFERROR(Table3[[#This Row],[Average $ Raised per 1% of Time]]*$S$6,\"\")","v":""},{"$f":"IFERROR(Table3[[#This Row],[Average $ Raised per 1% of Time]]*$T$6,\"\")","v":""},{"$f":"IFERROR(Table3[[#This Row],[Average $ Raised per 1% of Time]]*$U$6,\"\")","v":""},{"$f":"IFERROR(Table3[[#This Row],[Average $ Raised per 1% of Time]]*$V$6,\"\")","v":""},{"$f":"IFERROR(Table3[[#This Row],[Average $ Raised per 1% of Time]]*$W$6,\"\")","v":""},{"$f":"IFERROR(Table3[[#This Row],[Average $ Raised per 1% of Time]]*$X$6,\"\")","v":""}]
[{"$f":"IF(Table5[Gift Officer Name]<>\"\",Table5[Gift Officer Name],\"\")","v":""},{"$f":"IFERROR(AVERAGE(Table5[[#This Row],[Total Dollars Raised in FY19]:[Total Dollars Raised in FY17]]),\"\")","v":""},{"$f":"IFERROR(AVERAGE(Table5[[#This Row],[Total Dollars Raised in FY19]:[Total Dollars Raised in FY17]])/Table5[[#This Row],[Estimated % of Time Spent on Fundraising]],\"\")","v":""},{"$f":"IFERROR(Table3[[#This Row],[Average $ Raised per 1% of Time]]*AVERAGEIF(Table5[Estimated % of Time Spent on Fundraising],\"<>\"\"\"),\"\")","v":""},{"$f":"IFERROR(Table3[[#This Row],[Average $ Raised per 1% of Time]]*$E$6,\"\")","v":""},{"$f":"IFERROR(Table3[[#This Row],[Average $ Raised per 1% of Time]]*$F$6,\"\")","v":""},{"$f":"IFERROR(Table3[[#This Row],[Average $ Raised per 1% of Time]]*$G$6,\"\")","v":""},{"$f":"IFERROR(Table3[[#This Row],[Average $ Raised per 1% of Time]]*$H$6,\"\")","v":""},{"$f":"IFERROR(Table3[[#This Row],[Average $ Raised per 1% of Time]]*$I$6,\"\")","v":""},{"$f":"IFERROR(Table3[[#This Row],[Average $ Raised per 1% of Time]]*$J$6,\"\")","v":""},{"$f":"IFERROR(Table3[[#This Row],[Average $ Raised per 1% of Time]]*$K$6,\"\")","v":""},{"$f":"IFERROR(Table3[[#This Row],[Average $ Raised per 1% of Time]]*$L$6,\"\")","v":""},{"$f":"IFERROR(Table3[[#This Row],[Average $ Raised per 1% of Time]]*$M$6,\"\")","v":""},{"$f":"IFERROR(Table3[[#This Row],[Average $ Raised per 1% of Time]]*$N$6,\"\")","v":""},{"$f":"IFERROR(Table3[[#This Row],[Average $ Raised per 1% of Time]]*$O$6,\"\")","v":""},{"$f":"IFERROR(Table3[[#This Row],[Average $ Raised per 1% of Time]]*$P$6,\"\")","v":""},{"$f":"IFERROR(Table3[[#This Row],[Average $ Raised per 1% of Time]]*$Q$6,\"\")","v":""},{"$f":"IFERROR(Table3[[#This Row],[Average $ Raised per 1% of Time]]*$R$6,\"\")","v":""},{"$f":"IFERROR(Table3[[#This Row],[Average $ Raised per 1% of Time]]*$S$6,\"\")","v":""},{"$f":"IFERROR(Table3[[#This Row],[Average $ Raised per 1% of Time]]*$T$6,\"\")","v":""},{"$f":"IFERROR(Table3[[#This Row],[Average $ Raised per 1% of Time]]*$U$6,\"\")","v":""},{"$f":"IFERROR(Table3[[#This Row],[Average $ Raised per 1% of Time]]*$V$6,\"\")","v":""},{"$f":"IFERROR(Table3[[#This Row],[Average $ Raised per 1% of Time]]*$W$6,\"\")","v":""},{"$f":"IFERROR(Table3[[#This Row],[Average $ Raised per 1% of Time]]*$X$6,\"\")","v":""}]
[{"$f":"IF(Table5[Gift Officer Name]<>\"\",Table5[Gift Officer Name],\"\")","v":""},{"$f":"IFERROR(AVERAGE(Table5[[#This Row],[Total Dollars Raised in FY19]:[Total Dollars Raised in FY17]]),\"\")","v":""},{"$f":"IFERROR(AVERAGE(Table5[[#This Row],[Total Dollars Raised in FY19]:[Total Dollars Raised in FY17]])/Table5[[#This Row],[Estimated % of Time Spent on Fundraising]],\"\")","v":""},{"$f":"IFERROR(Table3[[#This Row],[Average $ Raised per 1% of Time]]*AVERAGEIF(Table5[Estimated % of Time Spent on Fundraising],\"<>\"\"\"),\"\")","v":""},{"$f":"IFERROR(Table3[[#This Row],[Average $ Raised per 1% of Time]]*$E$6,\"\")","v":""},{"$f":"IFERROR(Table3[[#This Row],[Average $ Raised per 1% of Time]]*$F$6,\"\")","v":""},{"$f":"IFERROR(Table3[[#This Row],[Average $ Raised per 1% of Time]]*$G$6,\"\")","v":""},{"$f":"IFERROR(Table3[[#This Row],[Average $ Raised per 1% of Time]]*$H$6,\"\")","v":""},{"$f":"IFERROR(Table3[[#This Row],[Average $ Raised per 1% of Time]]*$I$6,\"\")","v":""},{"$f":"IFERROR(Table3[[#This Row],[Average $ Raised per 1% of Time]]*$J$6,\"\")","v":""},{"$f":"IFERROR(Table3[[#This Row],[Average $ Raised per 1% of Time]]*$K$6,\"\")","v":""},{"$f":"IFERROR(Table3[[#This Row],[Average $ Raised per 1% of Time]]*$L$6,\"\")","v":""},{"$f":"IFERROR(Table3[[#This Row],[Average $ Raised per 1% of Time]]*$M$6,\"\")","v":""},{"$f":"IFERROR(Table3[[#This Row],[Average $ Raised per 1% of Time]]*$N$6,\"\")","v":""},{"$f":"IFERROR(Table3[[#This Row],[Average $ Raised per 1% of Time]]*$O$6,\"\")","v":""},{"$f":"IFERROR(Table3[[#This Row],[Average $ Raised per 1% of Time]]*$P$6,\"\")","v":""},{"$f":"IFERROR(Table3[[#This Row],[Average $ Raised per 1% of Time]]*$Q$6,\"\")","v":""},{"$f":"IFERROR(Table3[[#This Row],[Average $ Raised per 1% of Time]]*$R$6,\"\")","v":""},{"$f":"IFERROR(Table3[[#This Row],[Average $ Raised per 1% of Time]]*$S$6,\"\")","v":""},{"$f":"IFERROR(Table3[[#This Row],[Average $ Raised per 1% of Time]]*$T$6,\"\")","v":""},{"$f":"IFERROR(Table3[[#This Row],[Average $ Raised per 1% of Time]]*$U$6,\"\")","v":""},{"$f":"IFERROR(Table3[[#This Row],[Average $ Raised per 1% of Time]]*$V$6,\"\")","v":""},{"$f":"IFERROR(Table3[[#This Row],[Average $ Raised per 1% of Time]]*$W$6,\"\")","v":""},{"$f":"IFERROR(Table3[[#This Row],[Average $ Raised per 1% of Time]]*$X$6,\"\")","v":""}]
[{"$f":"IF(Table5[Gift Officer Name]<>\"\",Table5[Gift Officer Name],\"\")","v":""},{"$f":"IFERROR(AVERAGE(Table5[[#This Row],[Total Dollars Raised in FY19]:[Total Dollars Raised in FY17]]),\"\")","v":""},{"$f":"IFERROR(AVERAGE(Table5[[#This Row],[Total Dollars Raised in FY19]:[Total Dollars Raised in FY17]])/Table5[[#This Row],[Estimated % of Time Spent on Fundraising]],\"\")","v":""},{"$f":"IFERROR(Table3[[#This Row],[Average $ Raised per 1% of Time]]*AVERAGEIF(Table5[Estimated % of Time Spent on Fundraising],\"<>\"\"\"),\"\")","v":""},{"$f":"IFERROR(Table3[[#This Row],[Average $ Raised per 1% of Time]]*$E$6,\"\")","v":""},{"$f":"IFERROR(Table3[[#This Row],[Average $ Raised per 1% of Time]]*$F$6,\"\")","v":""},{"$f":"IFERROR(Table3[[#This Row],[Average $ Raised per 1% of Time]]*$G$6,\"\")","v":""},{"$f":"IFERROR(Table3[[#This Row],[Average $ Raised per 1% of Time]]*$H$6,\"\")","v":""},{"$f":"IFERROR(Table3[[#This Row],[Average $ Raised per 1% of Time]]*$I$6,\"\")","v":""},{"$f":"IFERROR(Table3[[#This Row],[Average $ Raised per 1% of Time]]*$J$6,\"\")","v":""},{"$f":"IFERROR(Table3[[#This Row],[Average $ Raised per 1% of Time]]*$K$6,\"\")","v":""},{"$f":"IFERROR(Table3[[#This Row],[Average $ Raised per 1% of Time]]*$L$6,\"\")","v":""},{"$f":"IFERROR(Table3[[#This Row],[Average $ Raised per 1% of Time]]*$M$6,\"\")","v":""},{"$f":"IFERROR(Table3[[#This Row],[Average $ Raised per 1% of Time]]*$N$6,\"\")","v":""},{"$f":"IFERROR(Table3[[#This Row],[Average $ Raised per 1% of Time]]*$O$6,\"\")","v":""},{"$f":"IFERROR(Table3[[#This Row],[Average $ Raised per 1% of Time]]*$P$6,\"\")","v":""},{"$f":"IFERROR(Table3[[#This Row],[Average $ Raised per 1% of Time]]*$Q$6,\"\")","v":""},{"$f":"IFERROR(Table3[[#This Row],[Average $ Raised per 1% of Time]]*$R$6,\"\")","v":""},{"$f":"IFERROR(Table3[[#This Row],[Average $ Raised per 1% of Time]]*$S$6,\"\")","v":""},{"$f":"IFERROR(Table3[[#This Row],[Average $ Raised per 1% of Time]]*$T$6,\"\")","v":""},{"$f":"IFERROR(Table3[[#This Row],[Average $ Raised per 1% of Time]]*$U$6,\"\")","v":""},{"$f":"IFERROR(Table3[[#This Row],[Average $ Raised per 1% of Time]]*$V$6,\"\")","v":""},{"$f":"IFERROR(Table3[[#This Row],[Average $ Raised per 1% of Time]]*$W$6,\"\")","v":""},{"$f":"IFERROR(Table3[[#This Row],[Average $ Raised per 1% of Time]]*$X$6,\"\")","v":""}]
[{"$f":"IF(Table5[Gift Officer Name]<>\"\",Table5[Gift Officer Name],\"\")","v":""},{"$f":"IFERROR(AVERAGE(Table5[[#This Row],[Total Dollars Raised in FY19]:[Total Dollars Raised in FY17]]),\"\")","v":""},{"$f":"IFERROR(AVERAGE(Table5[[#This Row],[Total Dollars Raised in FY19]:[Total Dollars Raised in FY17]])/Table5[[#This Row],[Estimated % of Time Spent on Fundraising]],\"\")","v":""},{"$f":"IFERROR(Table3[[#This Row],[Average $ Raised per 1% of Time]]*AVERAGEIF(Table5[Estimated % of Time Spent on Fundraising],\"<>\"\"\"),\"\")","v":""},{"$f":"IFERROR(Table3[[#This Row],[Average $ Raised per 1% of Time]]*$E$6,\"\")","v":""},{"$f":"IFERROR(Table3[[#This Row],[Average $ Raised per 1% of Time]]*$F$6,\"\")","v":""},{"$f":"IFERROR(Table3[[#This Row],[Average $ Raised per 1% of Time]]*$G$6,\"\")","v":""},{"$f":"IFERROR(Table3[[#This Row],[Average $ Raised per 1% of Time]]*$H$6,\"\")","v":""},{"$f":"IFERROR(Table3[[#This Row],[Average $ Raised per 1% of Time]]*$I$6,\"\")","v":""},{"$f":"IFERROR(Table3[[#This Row],[Average $ Raised per 1% of Time]]*$J$6,\"\")","v":""},{"$f":"IFERROR(Table3[[#This Row],[Average $ Raised per 1% of Time]]*$K$6,\"\")","v":""},{"$f":"IFERROR(Table3[[#This Row],[Average $ Raised per 1% of Time]]*$L$6,\"\")","v":""},{"$f":"IFERROR(Table3[[#This Row],[Average $ Raised per 1% of Time]]*$M$6,\"\")","v":""},{"$f":"IFERROR(Table3[[#This Row],[Average $ Raised per 1% of Time]]*$N$6,\"\")","v":""},{"$f":"IFERROR(Table3[[#This Row],[Average $ Raised per 1% of Time]]*$O$6,\"\")","v":""},{"$f":"IFERROR(Table3[[#This Row],[Average $ Raised per 1% of Time]]*$P$6,\"\")","v":""},{"$f":"IFERROR(Table3[[#This Row],[Average $ Raised per 1% of Time]]*$Q$6,\"\")","v":""},{"$f":"IFERROR(Table3[[#This Row],[Average $ Raised per 1% of Time]]*$R$6,\"\")","v":""},{"$f":"IFERROR(Table3[[#This Row],[Average $ Raised per 1% of Time]]*$S$6,\"\")","v":""},{"$f":"IFERROR(Table3[[#This Row],[Average $ Raised per 1% of Time]]*$T$6,\"\")","v":""},{"$f":"IFERROR(Table3[[#This Row],[Average $ Raised per 1% of Time]]*$U$6,\"\")","v":""},{"$f":"IFERROR(Table3[[#This Row],[Average $ Raised per 1% of Time]]*$V$6,\"\")","v":""},{"$f":"IFERROR(Table3[[#This Row],[Average $ Raised per 1% of Time]]*$W$6,\"\")","v":""},{"$f":"IFERROR(Table3[[#This Row],[Average $ Raised per 1% of Time]]*$X$6,\"\")","v":""}]
[{"$f":"IF(Table5[Gift Officer Name]<>\"\",Table5[Gift Officer Name],\"\")","v":""},{"$f":"IFERROR(AVERAGE(Table5[[#This Row],[Total Dollars Raised in FY19]:[Total Dollars Raised in FY17]]),\"\")","v":""},{"$f":"IFERROR(AVERAGE(Table5[[#This Row],[Total Dollars Raised in FY19]:[Total Dollars Raised in FY17]])/Table5[[#This Row],[Estimated % of Time Spent on Fundraising]],\"\")","v":""},{"$f":"IFERROR(Table3[[#This Row],[Average $ Raised per 1% of Time]]*AVERAGEIF(Table5[Estimated % of Time Spent on Fundraising],\"<>\"\"\"),\"\")","v":""},{"$f":"IFERROR(Table3[[#This Row],[Average $ Raised per 1% of Time]]*$E$6,\"\")","v":""},{"$f":"IFERROR(Table3[[#This Row],[Average $ Raised per 1% of Time]]*$F$6,\"\")","v":""},{"$f":"IFERROR(Table3[[#This Row],[Average $ Raised per 1% of Time]]*$G$6,\"\")","v":""},{"$f":"IFERROR(Table3[[#This Row],[Average $ Raised per 1% of Time]]*$H$6,\"\")","v":""},{"$f":"IFERROR(Table3[[#This Row],[Average $ Raised per 1% of Time]]*$I$6,\"\")","v":""},{"$f":"IFERROR(Table3[[#This Row],[Average $ Raised per 1% of Time]]*$J$6,\"\")","v":""},{"$f":"IFERROR(Table3[[#This Row],[Average $ Raised per 1% of Time]]*$K$6,\"\")","v":""},{"$f":"IFERROR(Table3[[#This Row],[Average $ Raised per 1% of Time]]*$L$6,\"\")","v":""},{"$f":"IFERROR(Table3[[#This Row],[Average $ Raised per 1% of Time]]*$M$6,\"\")","v":""},{"$f":"IFERROR(Table3[[#This Row],[Average $ Raised per 1% of Time]]*$N$6,\"\")","v":""},{"$f":"IFERROR(Table3[[#This Row],[Average $ Raised per 1% of Time]]*$O$6,\"\")","v":""},{"$f":"IFERROR(Table3[[#This Row],[Average $ Raised per 1% of Time]]*$P$6,\"\")","v":""},{"$f":"IFERROR(Table3[[#This Row],[Average $ Raised per 1% of Time]]*$Q$6,\"\")","v":""},{"$f":"IFERROR(Table3[[#This Row],[Average $ Raised per 1% of Time]]*$R$6,\"\")","v":""},{"$f":"IFERROR(Table3[[#This Row],[Average $ Raised per 1% of Time]]*$S$6,\"\")","v":""},{"$f":"IFERROR(Table3[[#This Row],[Average $ Raised per 1% of Time]]*$T$6,\"\")","v":""},{"$f":"IFERROR(Table3[[#This Row],[Average $ Raised per 1% of Time]]*$U$6,\"\")","v":""},{"$f":"IFERROR(Table3[[#This Row],[Average $ Raised per 1% of Time]]*$V$6,\"\")","v":""},{"$f":"IFERROR(Table3[[#This Row],[Average $ Raised per 1% of Time]]*$W$6,\"\")","v":""},{"$f":"IFERROR(Table3[[#This Row],[Average $ Raised per 1% of Time]]*$X$6,\"\")","v":""}]
[{"$f":"IF(Table5[Gift Officer Name]<>\"\",Table5[Gift Officer Name],\"\")","v":""},{"$f":"IFERROR(AVERAGE(Table5[[#This Row],[Total Dollars Raised in FY19]:[Total Dollars Raised in FY17]]),\"\")","v":""},{"$f":"IFERROR(AVERAGE(Table5[[#This Row],[Total Dollars Raised in FY19]:[Total Dollars Raised in FY17]])/Table5[[#This Row],[Estimated % of Time Spent on Fundraising]],\"\")","v":""},{"$f":"IFERROR(Table3[[#This Row],[Average $ Raised per 1% of Time]]*AVERAGEIF(Table5[Estimated % of Time Spent on Fundraising],\"<>\"\"\"),\"\")","v":""},{"$f":"IFERROR(Table3[[#This Row],[Average $ Raised per 1% of Time]]*$E$6,\"\")","v":""},{"$f":"IFERROR(Table3[[#This Row],[Average $ Raised per 1% of Time]]*$F$6,\"\")","v":""},{"$f":"IFERROR(Table3[[#This Row],[Average $ Raised per 1% of Time]]*$G$6,\"\")","v":""},{"$f":"IFERROR(Table3[[#This Row],[Average $ Raised per 1% of Time]]*$H$6,\"\")","v":""},{"$f":"IFERROR(Table3[[#This Row],[Average $ Raised per 1% of Time]]*$I$6,\"\")","v":""},{"$f":"IFERROR(Table3[[#This Row],[Average $ Raised per 1% of Time]]*$J$6,\"\")","v":""},{"$f":"IFERROR(Table3[[#This Row],[Average $ Raised per 1% of Time]]*$K$6,\"\")","v":""},{"$f":"IFERROR(Table3[[#This Row],[Average $ Raised per 1% of Time]]*$L$6,\"\")","v":""},{"$f":"IFERROR(Table3[[#This Row],[Average $ Raised per 1% of Time]]*$M$6,\"\")","v":""},{"$f":"IFERROR(Table3[[#This Row],[Average $ Raised per 1% of Time]]*$N$6,\"\")","v":""},{"$f":"IFERROR(Table3[[#This Row],[Average $ Raised per 1% of Time]]*$O$6,\"\")","v":""},{"$f":"IFERROR(Table3[[#This Row],[Average $ Raised per 1% of Time]]*$P$6,\"\")","v":""},{"$f":"IFERROR(Table3[[#This Row],[Average $ Raised per 1% of Time]]*$Q$6,\"\")","v":""},{"$f":"IFERROR(Table3[[#This Row],[Average $ Raised per 1% of Time]]*$R$6,\"\")","v":""},{"$f":"IFERROR(Table3[[#This Row],[Average $ Raised per 1% of Time]]*$S$6,\"\")","v":""},{"$f":"IFERROR(Table3[[#This Row],[Average $ Raised per 1% of Time]]*$T$6,\"\")","v":""},{"$f":"IFERROR(Table3[[#This Row],[Average $ Raised per 1% of Time]]*$U$6,\"\")","v":""},{"$f":"IFERROR(Table3[[#This Row],[Average $ Raised per 1% of Time]]*$V$6,\"\")","v":""},{"$f":"IFERROR(Table3[[#This Row],[Average $ Raised per 1% of Time]]*$W$6,\"\")","v":""},{"$f":"IFERROR(Table3[[#This Row],[Average $ Raised per 1% of Time]]*$X$6,\"\")","v":""}]
[{"$f":"IF(Table5[Gift Officer Name]<>\"\",Table5[Gift Officer Name],\"\")","v":""},{"$f":"IFERROR(AVERAGE(Table5[[#This Row],[Total Dollars Raised in FY19]:[Total Dollars Raised in FY17]]),\"\")","v":""},{"$f":"IFERROR(AVERAGE(Table5[[#This Row],[Total Dollars Raised in FY19]:[Total Dollars Raised in FY17]])/Table5[[#This Row],[Estimated % of Time Spent on Fundraising]],\"\")","v":""},{"$f":"IFERROR(Table3[[#This Row],[Average $ Raised per 1% of Time]]*AVERAGEIF(Table5[Estimated % of Time Spent on Fundraising],\"<>\"\"\"),\"\")","v":""},{"$f":"IFERROR(Table3[[#This Row],[Average $ Raised per 1% of Time]]*$E$6,\"\")","v":""},{"$f":"IFERROR(Table3[[#This Row],[Average $ Raised per 1% of Time]]*$F$6,\"\")","v":""},{"$f":"IFERROR(Table3[[#This Row],[Average $ Raised per 1% of Time]]*$G$6,\"\")","v":""},{"$f":"IFERROR(Table3[[#This Row],[Average $ Raised per 1% of Time]]*$H$6,\"\")","v":""},{"$f":"IFERROR(Table3[[#This Row],[Average $ Raised per 1% of Time]]*$I$6,\"\")","v":""},{"$f":"IFERROR(Table3[[#This Row],[Average $ Raised per 1% of Time]]*$J$6,\"\")","v":""},{"$f":"IFERROR(Table3[[#This Row],[Average $ Raised per 1% of Time]]*$K$6,\"\")","v":""},{"$f":"IFERROR(Table3[[#This Row],[Average $ Raised per 1% of Time]]*$L$6,\"\")","v":""},{"$f":"IFERROR(Table3[[#This Row],[Average $ Raised per 1% of Time]]*$M$6,\"\")","v":""},{"$f":"IFERROR(Table3[[#This Row],[Average $ Raised per 1% of Time]]*$N$6,\"\")","v":""},{"$f":"IFERROR(Table3[[#This Row],[Average $ Raised per 1% of Time]]*$O$6,\"\")","v":""},{"$f":"IFERROR(Table3[[#This Row],[Average $ Raised per 1% of Time]]*$P$6,\"\")","v":""},{"$f":"IFERROR(Table3[[#This Row],[Average $ Raised per 1% of Time]]*$Q$6,\"\")","v":""},{"$f":"IFERROR(Table3[[#This Row],[Average $ Raised per 1% of Time]]*$R$6,\"\")","v":""},{"$f":"IFERROR(Table3[[#This Row],[Average $ Raised per 1% of Time]]*$S$6,\"\")","v":""},{"$f":"IFERROR(Table3[[#This Row],[Average $ Raised per 1% of Time]]*$T$6,\"\")","v":""},{"$f":"IFERROR(Table3[[#This Row],[Average $ Raised per 1% of Time]]*$U$6,\"\")","v":""},{"$f":"IFERROR(Table3[[#This Row],[Average $ Raised per 1% of Time]]*$V$6,\"\")","v":""},{"$f":"IFERROR(Table3[[#This Row],[Average $ Raised per 1% of Time]]*$W$6,\"\")","v":""},{"$f":"IFERROR(Table3[[#This Row],[Average $ Raised per 1% of Time]]*$X$6,\"\")","v":""}]
[{"$f":"IF(Table5[Gift Officer Name]<>\"\",Table5[Gift Officer Name],\"\")","v":""},{"$f":"IFERROR(AVERAGE(Table5[[#This Row],[Total Dollars Raised in FY19]:[Total Dollars Raised in FY17]]),\"\")","v":""},{"$f":"IFERROR(AVERAGE(Table5[[#This Row],[Total Dollars Raised in FY19]:[Total Dollars Raised in FY17]])/Table5[[#This Row],[Estimated % of Time Spent on Fundraising]],\"\")","v":""},{"$f":"IFERROR(Table3[[#This Row],[Average $ Raised per 1% of Time]]*AVERAGEIF(Table5[Estimated % of Time Spent on Fundraising],\"<>\"\"\"),\"\")","v":""},{"$f":"IFERROR(Table3[[#This Row],[Average $ Raised per 1% of Time]]*$E$6,\"\")","v":""},{"$f":"IFERROR(Table3[[#This Row],[Average $ Raised per 1% of Time]]*$F$6,\"\")","v":""},{"$f":"IFERROR(Table3[[#This Row],[Average $ Raised per 1% of Time]]*$G$6,\"\")","v":""},{"$f":"IFERROR(Table3[[#This Row],[Average $ Raised per 1% of Time]]*$H$6,\"\")","v":""},{"$f":"IFERROR(Table3[[#This Row],[Average $ Raised per 1% of Time]]*$I$6,\"\")","v":""},{"$f":"IFERROR(Table3[[#This Row],[Average $ Raised per 1% of Time]]*$J$6,\"\")","v":""},{"$f":"IFERROR(Table3[[#This Row],[Average $ Raised per 1% of Time]]*$K$6,\"\")","v":""},{"$f":"IFERROR(Table3[[#This Row],[Average $ Raised per 1% of Time]]*$L$6,\"\")","v":""},{"$f":"IFERROR(Table3[[#This Row],[Average $ Raised per 1% of Time]]*$M$6,\"\")","v":""},{"$f":"IFERROR(Table3[[#This Row],[Average $ Raised per 1% of Time]]*$N$6,\"\")","v":""},{"$f":"IFERROR(Table3[[#This Row],[Average $ Raised per 1% of Time]]*$O$6,\"\")","v":""},{"$f":"IFERROR(Table3[[#This Row],[Average $ Raised per 1% of Time]]*$P$6,\"\")","v":""},{"$f":"IFERROR(Table3[[#This Row],[Average $ Raised per 1% of Time]]*$Q$6,\"\")","v":""},{"$f":"IFERROR(Table3[[#This Row],[Average $ Raised per 1% of Time]]*$R$6,\"\")","v":""},{"$f":"IFERROR(Table3[[#This Row],[Average $ Raised per 1% of Time]]*$S$6,\"\")","v":""},{"$f":"IFERROR(Table3[[#This Row],[Average $ Raised per 1% of Time]]*$T$6,\"\")","v":""},{"$f":"IFERROR(Table3[[#This Row],[Average $ Raised per 1% of Time]]*$U$6,\"\")","v":""},{"$f":"IFERROR(Table3[[#This Row],[Average $ Raised per 1% of Time]]*$V$6,\"\")","v":""},{"$f":"IFERROR(Table3[[#This Row],[Average $ Raised per 1% of Time]]*$W$6,\"\")","v":""},{"$f":"IFERROR(Table3[[#This Row],[Average $ Raised per 1% of Time]]*$X$6,\"\")","v":""}]
[{"$f":"IF(Table5[Gift Officer Name]<>\"\",Table5[Gift Officer Name],\"\")","v":""},{"$f":"IFERROR(AVERAGE(Table5[[#This Row],[Total Dollars Raised in FY19]:[Total Dollars Raised in FY17]]),\"\")","v":""},{"$f":"IFERROR(AVERAGE(Table5[[#This Row],[Total Dollars Raised in FY19]:[Total Dollars Raised in FY17]])/Table5[[#This Row],[Estimated % of Time Spent on Fundraising]],\"\")","v":""},{"$f":"IFERROR(Table3[[#This Row],[Average $ Raised per 1% of Time]]*AVERAGEIF(Table5[Estimated % of Time Spent on Fundraising],\"<>\"\"\"),\"\")","v":""},{"$f":"IFERROR(Table3[[#This Row],[Average $ Raised per 1% of Time]]*$E$6,\"\")","v":""},{"$f":"IFERROR(Table3[[#This Row],[Average $ Raised per 1% of Time]]*$F$6,\"\")","v":""},{"$f":"IFERROR(Table3[[#This Row],[Average $ Raised per 1% of Time]]*$G$6,\"\")","v":""},{"$f":"IFERROR(Table3[[#This Row],[Average $ Raised per 1% of Time]]*$H$6,\"\")","v":""},{"$f":"IFERROR(Table3[[#This Row],[Average $ Raised per 1% of Time]]*$I$6,\"\")","v":""},{"$f":"IFERROR(Table3[[#This Row],[Average $ Raised per 1% of Time]]*$J$6,\"\")","v":""},{"$f":"IFERROR(Table3[[#This Row],[Average $ Raised per 1% of Time]]*$K$6,\"\")","v":""},{"$f":"IFERROR(Table3[[#This Row],[Average $ Raised per 1% of Time]]*$L$6,\"\")","v":""},{"$f":"IFERROR(Table3[[#This Row],[Average $ Raised per 1% of Time]]*$M$6,\"\")","v":""},{"$f":"IFERROR(Table3[[#This Row],[Average $ Raised per 1% of Time]]*$N$6,\"\")","v":""},{"$f":"IFERROR(Table3[[#This Row],[Average $ Raised per 1% of Time]]*$O$6,\"\")","v":""},{"$f":"IFERROR(Table3[[#This Row],[Average $ Raised per 1% of Time]]*$P$6,\"\")","v":""},{"$f":"IFERROR(Table3[[#This Row],[Average $ Raised per 1% of Time]]*$Q$6,\"\")","v":""},{"$f":"IFERROR(Table3[[#This Row],[Average $ Raised per 1% of Time]]*$R$6,\"\")","v":""},{"$f":"IFERROR(Table3[[#This Row],[Average $ Raised per 1% of Time]]*$S$6,\"\")","v":""},{"$f":"IFERROR(Table3[[#This Row],[Average $ Raised per 1% of Time]]*$T$6,\"\")","v":""},{"$f":"IFERROR(Table3[[#This Row],[Average $ Raised per 1% of Time]]*$U$6,\"\")","v":""},{"$f":"IFERROR(Table3[[#This Row],[Average $ Raised per 1% of Time]]*$V$6,\"\")","v":""},{"$f":"IFERROR(Table3[[#This Row],[Average $ Raised per 1% of Time]]*$W$6,\"\")","v":""},{"$f":"IFERROR(Table3[[#This Row],[Average $ Raised per 1% of Time]]*$X$6,\"\")","v":""}]
[{"$f":"IF(Table5[Gift Officer Name]<>\"\",Table5[Gift Officer Name],\"\")","v":""},{"$f":"IFERROR(AVERAGE(Table5[[#This Row],[Total Dollars Raised in FY19]:[Total Dollars Raised in FY17]]),\"\")","v":""},{"$f":"IFERROR(AVERAGE(Table5[[#This Row],[Total Dollars Raised in FY19]:[Total Dollars Raised in FY17]])/Table5[[#This Row],[Estimated % of Time Spent on Fundraising]],\"\")","v":""},{"$f":"IFERROR(Table3[[#This Row],[Average $ Raised per 1% of Time]]*AVERAGEIF(Table5[Estimated % of Time Spent on Fundraising],\"<>\"\"\"),\"\")","v":""},{"$f":"IFERROR(Table3[[#This Row],[Average $ Raised per 1% of Time]]*$E$6,\"\")","v":""},{"$f":"IFERROR(Table3[[#This Row],[Average $ Raised per 1% of Time]]*$F$6,\"\")","v":""},{"$f":"IFERROR(Table3[[#This Row],[Average $ Raised per 1% of Time]]*$G$6,\"\")","v":""},{"$f":"IFERROR(Table3[[#This Row],[Average $ Raised per 1% of Time]]*$H$6,\"\")","v":""},{"$f":"IFERROR(Table3[[#This Row],[Average $ Raised per 1% of Time]]*$I$6,\"\")","v":""},{"$f":"IFERROR(Table3[[#This Row],[Average $ Raised per 1% of Time]]*$J$6,\"\")","v":""},{"$f":"IFERROR(Table3[[#This Row],[Average $ Raised per 1% of Time]]*$K$6,\"\")","v":""},{"$f":"IFERROR(Table3[[#This Row],[Average $ Raised per 1% of Time]]*$L$6,\"\")","v":""},{"$f":"IFERROR(Table3[[#This Row],[Average $ Raised per 1% of Time]]*$M$6,\"\")","v":""},{"$f":"IFERROR(Table3[[#This Row],[Average $ Raised per 1% of Time]]*$N$6,\"\")","v":""},{"$f":"IFERROR(Table3[[#This Row],[Average $ Raised per 1% of Time]]*$O$6,\"\")","v":""},{"$f":"IFERROR(Table3[[#This Row],[Average $ Raised per 1% of Time]]*$P$6,\"\")","v":""},{"$f":"IFERROR(Table3[[#This Row],[Average $ Raised per 1% of Time]]*$Q$6,\"\")","v":""},{"$f":"IFERROR(Table3[[#This Row],[Average $ Raised per 1% of Time]]*$R$6,\"\")","v":""},{"$f":"IFERROR(Table3[[#This Row],[Average $ Raised per 1% of Time]]*$S$6,\"\")","v":""},{"$f":"IFERROR(Table3[[#This Row],[Average $ Raised per 1% of Time]]*$T$6,\"\")","v":""},{"$f":"IFERROR(Table3[[#This Row],[Average $ Raised per 1% of Time]]*$U$6,\"\")","v":""},{"$f":"IFERROR(Table3[[#This Row],[Average $ Raised per 1% of Time]]*$V$6,\"\")","v":""},{"$f":"IFERROR(Table3[[#This Row],[Average $ Raised per 1% of Time]]*$W$6,\"\")","v":""},{"$f":"IFERROR(Table3[[#This Row],[Average $ Raised per 1% of Time]]*$X$6,\"\")","v":""}]
[{"$f":"IF(Table5[Gift Officer Name]<>\"\",Table5[Gift Officer Name],\"\")","v":""},{"$f":"IFERROR(AVERAGE(Table5[[#This Row],[Total Dollars Raised in FY19]:[Total Dollars Raised in FY17]]),\"\")","v":""},{"$f":"IFERROR(AVERAGE(Table5[[#This Row],[Total Dollars Raised in FY19]:[Total Dollars Raised in FY17]])/Table5[[#This Row],[Estimated % of Time Spent on Fundraising]],\"\")","v":""},{"$f":"IFERROR(Table3[[#This Row],[Average $ Raised per 1% of Time]]*AVERAGEIF(Table5[Estimated % of Time Spent on Fundraising],\"<>\"\"\"),\"\")","v":""},{"$f":"IFERROR(Table3[[#This Row],[Average $ Raised per 1% of Time]]*$E$6,\"\")","v":""},{"$f":"IFERROR(Table3[[#This Row],[Average $ Raised per 1% of Time]]*$F$6,\"\")","v":""},{"$f":"IFERROR(Table3[[#This Row],[Average $ Raised per 1% of Time]]*$G$6,\"\")","v":""},{"$f":"IFERROR(Table3[[#This Row],[Average $ Raised per 1% of Time]]*$H$6,\"\")","v":""},{"$f":"IFERROR(Table3[[#This Row],[Average $ Raised per 1% of Time]]*$I$6,\"\")","v":""},{"$f":"IFERROR(Table3[[#This Row],[Average $ Raised per 1% of Time]]*$J$6,\"\")","v":""},{"$f":"IFERROR(Table3[[#This Row],[Average $ Raised per 1% of Time]]*$K$6,\"\")","v":""},{"$f":"IFERROR(Table3[[#This Row],[Average $ Raised per 1% of Time]]*$L$6,\"\")","v":""},{"$f":"IFERROR(Table3[[#This Row],[Average $ Raised per 1% of Time]]*$M$6,\"\")","v":""},{"$f":"IFERROR(Table3[[#This Row],[Average $ Raised per 1% of Time]]*$N$6,\"\")","v":""},{"$f":"IFERROR(Table3[[#This Row],[Average $ Raised per 1% of Time]]*$O$6,\"\")","v":""},{"$f":"IFERROR(Table3[[#This Row],[Average $ Raised per 1% of Time]]*$P$6,\"\")","v":""},{"$f":"IFERROR(Table3[[#This Row],[Average $ Raised per 1% of Time]]*$Q$6,\"\")","v":""},{"$f":"IFERROR(Table3[[#This Row],[Average $ Raised per 1% of Time]]*$R$6,\"\")","v":""},{"$f":"IFERROR(Table3[[#This Row],[Average $ Raised per 1% of Time]]*$S$6,\"\")","v":""},{"$f":"IFERROR(Table3[[#This Row],[Average $ Raised per 1% of Time]]*$T$6,\"\")","v":""},{"$f":"IFERROR(Table3[[#This Row],[Average $ Raised per 1% of Time]]*$U$6,\"\")","v":""},{"$f":"IFERROR(Table3[[#This Row],[Average $ Raised per 1% of Time]]*$V$6,\"\")","v":""},{"$f":"IFERROR(Table3[[#This Row],[Average $ Raised per 1% of Time]]*$W$6,\"\")","v":""},{"$f":"IFERROR(Table3[[#This Row],[Average $ Raised per 1% of Time]]*$X$6,\"\")","v":""}]
[{"$f":"IF(Table5[Gift Officer Name]<>\"\",Table5[Gift Officer Name],\"\")","v":""},{"$f":"IFERROR(AVERAGE(Table5[[#This Row],[Total Dollars Raised in FY19]:[Total Dollars Raised in FY17]]),\"\")","v":""},{"$f":"IFERROR(AVERAGE(Table5[[#This Row],[Total Dollars Raised in FY19]:[Total Dollars Raised in FY17]])/Table5[[#This Row],[Estimated % of Time Spent on Fundraising]],\"\")","v":""},{"$f":"IFERROR(Table3[[#This Row],[Average $ Raised per 1% of Time]]*AVERAGEIF(Table5[Estimated % of Time Spent on Fundraising],\"<>\"\"\"),\"\")","v":""},{"$f":"IFERROR(Table3[[#This Row],[Average $ Raised per 1% of Time]]*$E$6,\"\")","v":""},{"$f":"IFERROR(Table3[[#This Row],[Average $ Raised per 1% of Time]]*$F$6,\"\")","v":""},{"$f":"IFERROR(Table3[[#This Row],[Average $ Raised per 1% of Time]]*$G$6,\"\")","v":""},{"$f":"IFERROR(Table3[[#This Row],[Average $ Raised per 1% of Time]]*$H$6,\"\")","v":""},{"$f":"IFERROR(Table3[[#This Row],[Average $ Raised per 1% of Time]]*$I$6,\"\")","v":""},{"$f":"IFERROR(Table3[[#This Row],[Average $ Raised per 1% of Time]]*$J$6,\"\")","v":""},{"$f":"IFERROR(Table3[[#This Row],[Average $ Raised per 1% of Time]]*$K$6,\"\")","v":""},{"$f":"IFERROR(Table3[[#This Row],[Average $ Raised per 1% of Time]]*$L$6,\"\")","v":""},{"$f":"IFERROR(Table3[[#This Row],[Average $ Raised per 1% of Time]]*$M$6,\"\")","v":""},{"$f":"IFERROR(Table3[[#This Row],[Average $ Raised per 1% of Time]]*$N$6,\"\")","v":""},{"$f":"IFERROR(Table3[[#This Row],[Average $ Raised per 1% of Time]]*$O$6,\"\")","v":""},{"$f":"IFERROR(Table3[[#This Row],[Average $ Raised per 1% of Time]]*$P$6,\"\")","v":""},{"$f":"IFERROR(Table3[[#This Row],[Average $ Raised per 1% of Time]]*$Q$6,\"\")","v":""},{"$f":"IFERROR(Table3[[#This Row],[Average $ Raised per 1% of Time]]*$R$6,\"\")","v":""},{"$f":"IFERROR(Table3[[#This Row],[Average $ Raised per 1% of Time]]*$S$6,\"\")","v":""},{"$f":"IFERROR(Table3[[#This Row],[Average $ Raised per 1% of Time]]*$T$6,\"\")","v":""},{"$f":"IFERROR(Table3[[#This Row],[Average $ Raised per 1% of Time]]*$U$6,\"\")","v":""},{"$f":"IFERROR(Table3[[#This Row],[Average $ Raised per 1% of Time]]*$V$6,\"\")","v":""},{"$f":"IFERROR(Table3[[#This Row],[Average $ Raised per 1% of Time]]*$W$6,\"\")","v":""},{"$f":"IFERROR(Table3[[#This Row],[Average $ Raised per 1% of Time]]*$X$6,\"\")","v":""}]
[{"$f":"IF(Table5[Gift Officer Name]<>\"\",Table5[Gift Officer Name],\"\")","v":""},{"$f":"IFERROR(AVERAGE(Table5[[#This Row],[Total Dollars Raised in FY19]:[Total Dollars Raised in FY17]]),\"\")","v":""},{"$f":"IFERROR(AVERAGE(Table5[[#This Row],[Total Dollars Raised in FY19]:[Total Dollars Raised in FY17]])/Table5[[#This Row],[Estimated % of Time Spent on Fundraising]],\"\")","v":""},{"$f":"IFERROR(Table3[[#This Row],[Average $ Raised per 1% of Time]]*AVERAGEIF(Table5[Estimated % of Time Spent on Fundraising],\"<>\"\"\"),\"\")","v":""},{"$f":"IFERROR(Table3[[#This Row],[Average $ Raised per 1% of Time]]*$E$6,\"\")","v":""},{"$f":"IFERROR(Table3[[#This Row],[Average $ Raised per 1% of Time]]*$F$6,\"\")","v":""},{"$f":"IFERROR(Table3[[#This Row],[Average $ Raised per 1% of Time]]*$G$6,\"\")","v":""},{"$f":"IFERROR(Table3[[#This Row],[Average $ Raised per 1% of Time]]*$H$6,\"\")","v":""},{"$f":"IFERROR(Table3[[#This Row],[Average $ Raised per 1% of Time]]*$I$6,\"\")","v":""},{"$f":"IFERROR(Table3[[#This Row],[Average $ Raised per 1% of Time]]*$J$6,\"\")","v":""},{"$f":"IFERROR(Table3[[#This Row],[Average $ Raised per 1% of Time]]*$K$6,\"\")","v":""},{"$f":"IFERROR(Table3[[#This Row],[Average $ Raised per 1% of Time]]*$L$6,\"\")","v":""},{"$f":"IFERROR(Table3[[#This Row],[Average $ Raised per 1% of Time]]*$M$6,\"\")","v":""},{"$f":"IFERROR(Table3[[#This Row],[Average $ Raised per 1% of Time]]*$N$6,\"\")","v":""},{"$f":"IFERROR(Table3[[#This Row],[Average $ Raised per 1% of Time]]*$O$6,\"\")","v":""},{"$f":"IFERROR(Table3[[#This Row],[Average $ Raised per 1% of Time]]*$P$6,\"\")","v":""},{"$f":"IFERROR(Table3[[#This Row],[Average $ Raised per 1% of Time]]*$Q$6,\"\")","v":""},{"$f":"IFERROR(Table3[[#This Row],[Average $ Raised per 1% of Time]]*$R$6,\"\")","v":""},{"$f":"IFERROR(Table3[[#This Row],[Average $ Raised per 1% of Time]]*$S$6,\"\")","v":""},{"$f":"IFERROR(Table3[[#This Row],[Average $ Raised per 1% of Time]]*$T$6,\"\")","v":""},{"$f":"IFERROR(Table3[[#This Row],[Average $ Raised per 1% of Time]]*$U$6,\"\")","v":""},{"$f":"IFERROR(Table3[[#This Row],[Average $ Raised per 1% of Time]]*$V$6,\"\")","v":""},{"$f":"IFERROR(Table3[[#This Row],[Average $ Raised per 1% of Time]]*$W$6,\"\")","v":""},{"$f":"IFERROR(Table3[[#This Row],[Average $ Raised per 1% of Time]]*$X$6,\"\")","v":""}]
[{"$f":"IF(Table5[Gift Officer Name]<>\"\",Table5[Gift Officer Name],\"\")","v":""},{"$f":"IFERROR(AVERAGE(Table5[[#This Row],[Total Dollars Raised in FY19]:[Total Dollars Raised in FY17]]),\"\")","v":""},{"$f":"IFERROR(AVERAGE(Table5[[#This Row],[Total Dollars Raised in FY19]:[Total Dollars Raised in FY17]])/Table5[[#This Row],[Estimated % of Time Spent on Fundraising]],\"\")","v":""},{"$f":"IFERROR(Table3[[#This Row],[Average $ Raised per 1% of Time]]*AVERAGEIF(Table5[Estimated % of Time Spent on Fundraising],\"<>\"\"\"),\"\")","v":""},{"$f":"IFERROR(Table3[[#This Row],[Average $ Raised per 1% of Time]]*$E$6,\"\")","v":""},{"$f":"IFERROR(Table3[[#This Row],[Average $ Raised per 1% of Time]]*$F$6,\"\")","v":""},{"$f":"IFERROR(Table3[[#This Row],[Average $ Raised per 1% of Time]]*$G$6,\"\")","v":""},{"$f":"IFERROR(Table3[[#This Row],[Average $ Raised per 1% of Time]]*$H$6,\"\")","v":""},{"$f":"IFERROR(Table3[[#This Row],[Average $ Raised per 1% of Time]]*$I$6,\"\")","v":""},{"$f":"IFERROR(Table3[[#This Row],[Average $ Raised per 1% of Time]]*$J$6,\"\")","v":""},{"$f":"IFERROR(Table3[[#This Row],[Average $ Raised per 1% of Time]]*$K$6,\"\")","v":""},{"$f":"IFERROR(Table3[[#This Row],[Average $ Raised per 1% of Time]]*$L$6,\"\")","v":""},{"$f":"IFERROR(Table3[[#This Row],[Average $ Raised per 1% of Time]]*$M$6,\"\")","v":""},{"$f":"IFERROR(Table3[[#This Row],[Average $ Raised per 1% of Time]]*$N$6,\"\")","v":""},{"$f":"IFERROR(Table3[[#This Row],[Average $ Raised per 1% of Time]]*$O$6,\"\")","v":""},{"$f":"IFERROR(Table3[[#This Row],[Average $ Raised per 1% of Time]]*$P$6,\"\")","v":""},{"$f":"IFERROR(Table3[[#This Row],[Average $ Raised per 1% of Time]]*$Q$6,\"\")","v":""},{"$f":"IFERROR(Table3[[#This Row],[Average $ Raised per 1% of Time]]*$R$6,\"\")","v":""},{"$f":"IFERROR(Table3[[#This Row],[Average $ Raised per 1% of Time]]*$S$6,\"\")","v":""},{"$f":"IFERROR(Table3[[#This Row],[Average $ Raised per 1% of Time]]*$T$6,\"\")","v":""},{"$f":"IFERROR(Table3[[#This Row],[Average $ Raised per 1% of Time]]*$U$6,\"\")","v":""},{"$f":"IFERROR(Table3[[#This Row],[Average $ Raised per 1% of Time]]*$V$6,\"\")","v":""},{"$f":"IFERROR(Table3[[#This Row],[Average $ Raised per 1% of Time]]*$W$6,\"\")","v":""},{"$f":"IFERROR(Table3[[#This Row],[Average $ Raised per 1% of Time]]*$X$6,\"\")","v":""}]
[{"$f":"IF(Table5[Gift Officer Name]<>\"\",Table5[Gift Officer Name],\"\")","v":""},{"$f":"IFERROR(AVERAGE(Table5[[#This Row],[Total Dollars Raised in FY19]:[Total Dollars Raised in FY17]]),\"\")","v":""},{"$f":"IFERROR(AVERAGE(Table5[[#This Row],[Total Dollars Raised in FY19]:[Total Dollars Raised in FY17]])/Table5[[#This Row],[Estimated % of Time Spent on Fundraising]],\"\")","v":""},{"$f":"IFERROR(Table3[[#This Row],[Average $ Raised per 1% of Time]]*AVERAGEIF(Table5[Estimated % of Time Spent on Fundraising],\"<>\"\"\"),\"\")","v":""},{"$f":"IFERROR(Table3[[#This Row],[Average $ Raised per 1% of Time]]*$E$6,\"\")","v":""},{"$f":"IFERROR(Table3[[#This Row],[Average $ Raised per 1% of Time]]*$F$6,\"\")","v":""},{"$f":"IFERROR(Table3[[#This Row],[Average $ Raised per 1% of Time]]*$G$6,\"\")","v":""},{"$f":"IFERROR(Table3[[#This Row],[Average $ Raised per 1% of Time]]*$H$6,\"\")","v":""},{"$f":"IFERROR(Table3[[#This Row],[Average $ Raised per 1% of Time]]*$I$6,\"\")","v":""},{"$f":"IFERROR(Table3[[#This Row],[Average $ Raised per 1% of Time]]*$J$6,\"\")","v":""},{"$f":"IFERROR(Table3[[#This Row],[Average $ Raised per 1% of Time]]*$K$6,\"\")","v":""},{"$f":"IFERROR(Table3[[#This Row],[Average $ Raised per 1% of Time]]*$L$6,\"\")","v":""},{"$f":"IFERROR(Table3[[#This Row],[Average $ Raised per 1% of Time]]*$M$6,\"\")","v":""},{"$f":"IFERROR(Table3[[#This Row],[Average $ Raised per 1% of Time]]*$N$6,\"\")","v":""},{"$f":"IFERROR(Table3[[#This Row],[Average $ Raised per 1% of Time]]*$O$6,\"\")","v":""},{"$f":"IFERROR(Table3[[#This Row],[Average $ Raised per 1% of Time]]*$P$6,\"\")","v":""},{"$f":"IFERROR(Table3[[#This Row],[Average $ Raised per 1% of Time]]*$Q$6,\"\")","v":""},{"$f":"IFERROR(Table3[[#This Row],[Average $ Raised per 1% of Time]]*$R$6,\"\")","v":""},{"$f":"IFERROR(Table3[[#This Row],[Average $ Raised per 1% of Time]]*$S$6,\"\")","v":""},{"$f":"IFERROR(Table3[[#This Row],[Average $ Raised per 1% of Time]]*$T$6,\"\")","v":""},{"$f":"IFERROR(Table3[[#This Row],[Average $ Raised per 1% of Time]]*$U$6,\"\")","v":""},{"$f":"IFERROR(Table3[[#This Row],[Average $ Raised per 1% of Time]]*$V$6,\"\")","v":""},{"$f":"IFERROR(Table3[[#This Row],[Average $ Raised per 1% of Time]]*$W$6,\"\")","v":""},{"$f":"IFERROR(Table3[[#This Row],[Average $ Raised per 1% of Time]]*$X$6,\"\")","v":""}]
[{"$f":"IF(Table5[Gift Officer Name]<>\"\",Table5[Gift Officer Name],\"\")","v":""},{"$f":"IFERROR(AVERAGE(Table5[[#This Row],[Total Dollars Raised in FY19]:[Total Dollars Raised in FY17]]),\"\")","v":""},{"$f":"IFERROR(AVERAGE(Table5[[#This Row],[Total Dollars Raised in FY19]:[Total Dollars Raised in FY17]])/Table5[[#This Row],[Estimated % of Time Spent on Fundraising]],\"\")","v":""},{"$f":"IFERROR(Table3[[#This Row],[Average $ Raised per 1% of Time]]*AVERAGEIF(Table5[Estimated % of Time Spent on Fundraising],\"<>\"\"\"),\"\")","v":""},{"$f":"IFERROR(Table3[[#This Row],[Average $ Raised per 1% of Time]]*$E$6,\"\")","v":""},{"$f":"IFERROR(Table3[[#This Row],[Average $ Raised per 1% of Time]]*$F$6,\"\")","v":""},{"$f":"IFERROR(Table3[[#This Row],[Average $ Raised per 1% of Time]]*$G$6,\"\")","v":""},{"$f":"IFERROR(Table3[[#This Row],[Average $ Raised per 1% of Time]]*$H$6,\"\")","v":""},{"$f":"IFERROR(Table3[[#This Row],[Average $ Raised per 1% of Time]]*$I$6,\"\")","v":""},{"$f":"IFERROR(Table3[[#This Row],[Average $ Raised per 1% of Time]]*$J$6,\"\")","v":""},{"$f":"IFERROR(Table3[[#This Row],[Average $ Raised per 1% of Time]]*$K$6,\"\")","v":""},{"$f":"IFERROR(Table3[[#This Row],[Average $ Raised per 1% of Time]]*$L$6,\"\")","v":""},{"$f":"IFERROR(Table3[[#This Row],[Average $ Raised per 1% of Time]]*$M$6,\"\")","v":""},{"$f":"IFERROR(Table3[[#This Row],[Average $ Raised per 1% of Time]]*$N$6,\"\")","v":""},{"$f":"IFERROR(Table3[[#This Row],[Average $ Raised per 1% of Time]]*$O$6,\"\")","v":""},{"$f":"IFERROR(Table3[[#This Row],[Average $ Raised per 1% of Time]]*$P$6,\"\")","v":""},{"$f":"IFERROR(Table3[[#This Row],[Average $ Raised per 1% of Time]]*$Q$6,\"\")","v":""},{"$f":"IFERROR(Table3[[#This Row],[Average $ Raised per 1% of Time]]*$R$6,\"\")","v":""},{"$f":"IFERROR(Table3[[#This Row],[Average $ Raised per 1% of Time]]*$S$6,\"\")","v":""},{"$f":"IFERROR(Table3[[#This Row],[Average $ Raised per 1% of Time]]*$T$6,\"\")","v":""},{"$f":"IFERROR(Table3[[#This Row],[Average $ Raised per 1% of Time]]*$U$6,\"\")","v":""},{"$f":"IFERROR(Table3[[#This Row],[Average $ Raised per 1% of Time]]*$V$6,\"\")","v":""},{"$f":"IFERROR(Table3[[#This Row],[Average $ Raised per 1% of Time]]*$W$6,\"\")","v":""},{"$f":"IFERROR(Table3[[#This Row],[Average $ Raised per 1% of Time]]*$X$6,\"\")","v":""}]
[{"$f":"IF(Table5[Gift Officer Name]<>\"\",Table5[Gift Officer Name],\"\")","v":""},{"$f":"IFERROR(AVERAGE(Table5[[#This Row],[Total Dollars Raised in FY19]:[Total Dollars Raised in FY17]]),\"\")","v":""},{"$f":"IFERROR(AVERAGE(Table5[[#This Row],[Total Dollars Raised in FY19]:[Total Dollars Raised in FY17]])/Table5[[#This Row],[Estimated % of Time Spent on Fundraising]],\"\")","v":""},{"$f":"IFERROR(Table3[[#This Row],[Average $ Raised per 1% of Time]]*AVERAGEIF(Table5[Estimated % of Time Spent on Fundraising],\"<>\"\"\"),\"\")","v":""},{"$f":"IFERROR(Table3[[#This Row],[Average $ Raised per 1% of Time]]*$E$6,\"\")","v":""},{"$f":"IFERROR(Table3[[#This Row],[Average $ Raised per 1% of Time]]*$F$6,\"\")","v":""},{"$f":"IFERROR(Table3[[#This Row],[Average $ Raised per 1% of Time]]*$G$6,\"\")","v":""},{"$f":"IFERROR(Table3[[#This Row],[Average $ Raised per 1% of Time]]*$H$6,\"\")","v":""},{"$f":"IFERROR(Table3[[#This Row],[Average $ Raised per 1% of Time]]*$I$6,\"\")","v":""},{"$f":"IFERROR(Table3[[#This Row],[Average $ Raised per 1% of Time]]*$J$6,\"\")","v":""},{"$f":"IFERROR(Table3[[#This Row],[Average $ Raised per 1% of Time]]*$K$6,\"\")","v":""},{"$f":"IFERROR(Table3[[#This Row],[Average $ Raised per 1% of Time]]*$L$6,\"\")","v":""},{"$f":"IFERROR(Table3[[#This Row],[Average $ Raised per 1% of Time]]*$M$6,\"\")","v":""},{"$f":"IFERROR(Table3[[#This Row],[Average $ Raised per 1% of Time]]*$N$6,\"\")","v":""},{"$f":"IFERROR(Table3[[#This Row],[Average $ Raised per 1% of Time]]*$O$6,\"\")","v":""},{"$f":"IFERROR(Table3[[#This Row],[Average $ Raised per 1% of Time]]*$P$6,\"\")","v":""},{"$f":"IFERROR(Table3[[#This Row],[Average $ Raised per 1% of Time]]*$Q$6,\"\")","v":""},{"$f":"IFERROR(Table3[[#This Row],[Average $ Raised per 1% of Time]]*$R$6,\"\")","v":""},{"$f":"IFERROR(Table3[[#This Row],[Average $ Raised per 1% of Time]]*$S$6,\"\")","v":""},{"$f":"IFERROR(Table3[[#This Row],[Average $ Raised per 1% of Time]]*$T$6,\"\")","v":""},{"$f":"IFERROR(Table3[[#This Row],[Average $ Raised per 1% of Time]]*$U$6,\"\")","v":""},{"$f":"IFERROR(Table3[[#This Row],[Average $ Raised per 1% of Time]]*$V$6,\"\")","v":""},{"$f":"IFERROR(Table3[[#This Row],[Average $ Raised per 1% of Time]]*$W$6,\"\")","v":""},{"$f":"IFERROR(Table3[[#This Row],[Average $ Raised per 1% of Time]]*$X$6,\"\")","v":""}]
[{"$f":"IF(Table5[Gift Officer Name]<>\"\",Table5[Gift Officer Name],\"\")","v":""},{"$f":"IFERROR(AVERAGE(Table5[[#This Row],[Total Dollars Raised in FY19]:[Total Dollars Raised in FY17]]),\"\")","v":""},{"$f":"IFERROR(AVERAGE(Table5[[#This Row],[Total Dollars Raised in FY19]:[Total Dollars Raised in FY17]])/Table5[[#This Row],[Estimated % of Time Spent on Fundraising]],\"\")","v":""},{"$f":"IFERROR(Table3[[#This Row],[Average $ Raised per 1% of Time]]*AVERAGEIF(Table5[Estimated % of Time Spent on Fundraising],\"<>\"\"\"),\"\")","v":""},{"$f":"IFERROR(Table3[[#This Row],[Average $ Raised per 1% of Time]]*$E$6,\"\")","v":""},{"$f":"IFERROR(Table3[[#This Row],[Average $ Raised per 1% of Time]]*$F$6,\"\")","v":""},{"$f":"IFERROR(Table3[[#This Row],[Average $ Raised per 1% of Time]]*$G$6,\"\")","v":""},{"$f":"IFERROR(Table3[[#This Row],[Average $ Raised per 1% of Time]]*$H$6,\"\")","v":""},{"$f":"IFERROR(Table3[[#This Row],[Average $ Raised per 1% of Time]]*$I$6,\"\")","v":""},{"$f":"IFERROR(Table3[[#This Row],[Average $ Raised per 1% of Time]]*$J$6,\"\")","v":""},{"$f":"IFERROR(Table3[[#This Row],[Average $ Raised per 1% of Time]]*$K$6,\"\")","v":""},{"$f":"IFERROR(Table3[[#This Row],[Average $ Raised per 1% of Time]]*$L$6,\"\")","v":""},{"$f":"IFERROR(Table3[[#This Row],[Average $ Raised per 1% of Time]]*$M$6,\"\")","v":""},{"$f":"IFERROR(Table3[[#This Row],[Average $ Raised per 1% of Time]]*$N$6,\"\")","v":""},{"$f":"IFERROR(Table3[[#This Row],[Average $ Raised per 1% of Time]]*$O$6,\"\")","v":""},{"$f":"IFERROR(Table3[[#This Row],[Average $ Raised per 1% of Time]]*$P$6,\"\")","v":""},{"$f":"IFERROR(Table3[[#This Row],[Average $ Raised per 1% of Time]]*$Q$6,\"\")","v":""},{"$f":"IFERROR(Table3[[#This Row],[Average $ Raised per 1% of Time]]*$R$6,\"\")","v":""},{"$f":"IFERROR(Table3[[#This Row],[Average $ Raised per 1% of Time]]*$S$6,\"\")","v":""},{"$f":"IFERROR(Table3[[#This Row],[Average $ Raised per 1% of Time]]*$T$6,\"\")","v":""},{"$f":"IFERROR(Table3[[#This Row],[Average $ Raised per 1% of Time]]*$U$6,\"\")","v":""},{"$f":"IFERROR(Table3[[#This Row],[Average $ Raised per 1% of Time]]*$V$6,\"\")","v":""},{"$f":"IFERROR(Table3[[#This Row],[Average $ Raised per 1% of Time]]*$W$6,\"\")","v":""},{"$f":"IFERROR(Table3[[#This Row],[Average $ Raised per 1% of Time]]*$X$6,\"\")","v":""}]
[{"$f":"IF(Table5[Gift Officer Name]<>\"\",Table5[Gift Officer Name],\"\")","v":""},{"$f":"IFERROR(AVERAGE(Table5[[#This Row],[Total Dollars Raised in FY19]:[Total Dollars Raised in FY17]]),\"\")","v":""},{"$f":"IFERROR(AVERAGE(Table5[[#This Row],[Total Dollars Raised in FY19]:[Total Dollars Raised in FY17]])/Table5[[#This Row],[Estimated % of Time Spent on Fundraising]],\"\")","v":""},{"$f":"IFERROR(Table3[[#This Row],[Average $ Raised per 1% of Time]]*AVERAGEIF(Table5[Estimated % of Time Spent on Fundraising],\"<>\"\"\"),\"\")","v":""},{"$f":"IFERROR(Table3[[#This Row],[Average $ Raised per 1% of Time]]*$E$6,\"\")","v":""},{"$f":"IFERROR(Table3[[#This Row],[Average $ Raised per 1% of Time]]*$F$6,\"\")","v":""},{"$f":"IFERROR(Table3[[#This Row],[Average $ Raised per 1% of Time]]*$G$6,\"\")","v":""},{"$f":"IFERROR(Table3[[#This Row],[Average $ Raised per 1% of Time]]*$H$6,\"\")","v":""},{"$f":"IFERROR(Table3[[#This Row],[Average $ Raised per 1% of Time]]*$I$6,\"\")","v":""},{"$f":"IFERROR(Table3[[#This Row],[Average $ Raised per 1% of Time]]*$J$6,\"\")","v":""},{"$f":"IFERROR(Table3[[#This Row],[Average $ Raised per 1% of Time]]*$K$6,\"\")","v":""},{"$f":"IFERROR(Table3[[#This Row],[Average $ Raised per 1% of Time]]*$L$6,\"\")","v":""},{"$f":"IFERROR(Table3[[#This Row],[Average $ Raised per 1% of Time]]*$M$6,\"\")","v":""},{"$f":"IFERROR(Table3[[#This Row],[Average $ Raised per 1% of Time]]*$N$6,\"\")","v":""},{"$f":"IFERROR(Table3[[#This Row],[Average $ Raised per 1% of Time]]*$O$6,\"\")","v":""},{"$f":"IFERROR(Table3[[#This Row],[Average $ Raised per 1% of Time]]*$P$6,\"\")","v":""},{"$f":"IFERROR(Table3[[#This Row],[Average $ Raised per 1% of Time]]*$Q$6,\"\")","v":""},{"$f":"IFERROR(Table3[[#This Row],[Average $ Raised per 1% of Time]]*$R$6,\"\")","v":""},{"$f":"IFERROR(Table3[[#This Row],[Average $ Raised per 1% of Time]]*$S$6,\"\")","v":""},{"$f":"IFERROR(Table3[[#This Row],[Average $ Raised per 1% of Time]]*$T$6,\"\")","v":""},{"$f":"IFERROR(Table3[[#This Row],[Average $ Raised per 1% of Time]]*$U$6,\"\")","v":""},{"$f":"IFERROR(Table3[[#This Row],[Average $ Raised per 1% of Time]]*$V$6,\"\")","v":""},{"$f":"IFERROR(Table3[[#This Row],[Average $ Raised per 1% of Time]]*$W$6,\"\")","v":""},{"$f":"IFERROR(Table3[[#This Row],[Average $ Raised per 1% of Time]]*$X$6,\"\")","v":""}]
[{"$f":"IF(Table5[Gift Officer Name]<>\"\",Table5[Gift Officer Name],\"\")","v":""},{"$f":"IFERROR(AVERAGE(Table5[[#This Row],[Total Dollars Raised in FY19]:[Total Dollars Raised in FY17]]),\"\")","v":""},{"$f":"IFERROR(AVERAGE(Table5[[#This Row],[Total Dollars Raised in FY19]:[Total Dollars Raised in FY17]])/Table5[[#This Row],[Estimated % of Time Spent on Fundraising]],\"\")","v":""},{"$f":"IFERROR(Table3[[#This Row],[Average $ Raised per 1% of Time]]*AVERAGEIF(Table5[Estimated % of Time Spent on Fundraising],\"<>\"\"\"),\"\")","v":""},{"$f":"IFERROR(Table3[[#This Row],[Average $ Raised per 1% of Time]]*$E$6,\"\")","v":""},{"$f":"IFERROR(Table3[[#This Row],[Average $ Raised per 1% of Time]]*$F$6,\"\")","v":""},{"$f":"IFERROR(Table3[[#This Row],[Average $ Raised per 1% of Time]]*$G$6,\"\")","v":""},{"$f":"IFERROR(Table3[[#This Row],[Average $ Raised per 1% of Time]]*$H$6,\"\")","v":""},{"$f":"IFERROR(Table3[[#This Row],[Average $ Raised per 1% of Time]]*$I$6,\"\")","v":""},{"$f":"IFERROR(Table3[[#This Row],[Average $ Raised per 1% of Time]]*$J$6,\"\")","v":""},{"$f":"IFERROR(Table3[[#This Row],[Average $ Raised per 1% of Time]]*$K$6,\"\")","v":""},{"$f":"IFERROR(Table3[[#This Row],[Average $ Raised per 1% of Time]]*$L$6,\"\")","v":""},{"$f":"IFERROR(Table3[[#This Row],[Average $ Raised per 1% of Time]]*$M$6,\"\")","v":""},{"$f":"IFERROR(Table3[[#This Row],[Average $ Raised per 1% of Time]]*$N$6,\"\")","v":""},{"$f":"IFERROR(Table3[[#This Row],[Average $ Raised per 1% of Time]]*$O$6,\"\")","v":""},{"$f":"IFERROR(Table3[[#This Row],[Average $ Raised per 1% of Time]]*$P$6,\"\")","v":""},{"$f":"IFERROR(Table3[[#This Row],[Average $ Raised per 1% of Time]]*$Q$6,\"\")","v":""},{"$f":"IFERROR(Table3[[#This Row],[Average $ Raised per 1% of Time]]*$R$6,\"\")","v":""},{"$f":"IFERROR(Table3[[#This Row],[Average $ Raised per 1% of Time]]*$S$6,\"\")","v":""},{"$f":"IFERROR(Table3[[#This Row],[Average $ Raised per 1% of Time]]*$T$6,\"\")","v":""},{"$f":"IFERROR(Table3[[#This Row],[Average $ Raised per 1% of Time]]*$U$6,\"\")","v":""},{"$f":"IFERROR(Table3[[#This Row],[Average $ Raised per 1% of Time]]*$V$6,\"\")","v":""},{"$f":"IFERROR(Table3[[#This Row],[Average $ Raised per 1% of Time]]*$W$6,\"\")","v":""},{"$f":"IFERROR(Table3[[#This Row],[Average $ Raised per 1% of Time]]*$X$6,\"\")","v":""}]
[{"$f":"IF(Table5[Gift Officer Name]<>\"\",Table5[Gift Officer Name],\"\")","v":""},{"$f":"IFERROR(AVERAGE(Table5[[#This Row],[Total Dollars Raised in FY19]:[Total Dollars Raised in FY17]]),\"\")","v":""},{"$f":"IFERROR(AVERAGE(Table5[[#This Row],[Total Dollars Raised in FY19]:[Total Dollars Raised in FY17]])/Table5[[#This Row],[Estimated % of Time Spent on Fundraising]],\"\")","v":""},{"$f":"IFERROR(Table3[[#This Row],[Average $ Raised per 1% of Time]]*AVERAGEIF(Table5[Estimated % of Time Spent on Fundraising],\"<>\"\"\"),\"\")","v":""},{"$f":"IFERROR(Table3[[#This Row],[Average $ Raised per 1% of Time]]*$E$6,\"\")","v":""},{"$f":"IFERROR(Table3[[#This Row],[Average $ Raised per 1% of Time]]*$F$6,\"\")","v":""},{"$f":"IFERROR(Table3[[#This Row],[Average $ Raised per 1% of Time]]*$G$6,\"\")","v":""},{"$f":"IFERROR(Table3[[#This Row],[Average $ Raised per 1% of Time]]*$H$6,\"\")","v":""},{"$f":"IFERROR(Table3[[#This Row],[Average $ Raised per 1% of Time]]*$I$6,\"\")","v":""},{"$f":"IFERROR(Table3[[#This Row],[Average $ Raised per 1% of Time]]*$J$6,\"\")","v":""},{"$f":"IFERROR(Table3[[#This Row],[Average $ Raised per 1% of Time]]*$K$6,\"\")","v":""},{"$f":"IFERROR(Table3[[#This Row],[Average $ Raised per 1% of Time]]*$L$6,\"\")","v":""},{"$f":"IFERROR(Table3[[#This Row],[Average $ Raised per 1% of Time]]*$M$6,\"\")","v":""},{"$f":"IFERROR(Table3[[#This Row],[Average $ Raised per 1% of Time]]*$N$6,\"\")","v":""},{"$f":"IFERROR(Table3[[#This Row],[Average $ Raised per 1% of Time]]*$O$6,\"\")","v":""},{"$f":"IFERROR(Table3[[#This Row],[Average $ Raised per 1% of Time]]*$P$6,\"\")","v":""},{"$f":"IFERROR(Table3[[#This Row],[Average $ Raised per 1% of Time]]*$Q$6,\"\")","v":""},{"$f":"IFERROR(Table3[[#This Row],[Average $ Raised per 1% of Time]]*$R$6,\"\")","v":""},{"$f":"IFERROR(Table3[[#This Row],[Average $ Raised per 1% of Time]]*$S$6,\"\")","v":""},{"$f":"IFERROR(Table3[[#This Row],[Average $ Raised per 1% of Time]]*$T$6,\"\")","v":""},{"$f":"IFERROR(Table3[[#This Row],[Average $ Raised per 1% of Time]]*$U$6,\"\")","v":""},{"$f":"IFERROR(Table3[[#This Row],[Average $ Raised per 1% of Time]]*$V$6,\"\")","v":""},{"$f":"IFERROR(Table3[[#This Row],[Average $ Raised per 1% of Time]]*$W$6,\"\")","v":""},{"$f":"IFERROR(Table3[[#This Row],[Average $ Raised per 1% of Time]]*$X$6,\"\")","v":""}]
[{"$f":"IF(Table5[Gift Officer Name]<>\"\",Table5[Gift Officer Name],\"\")","v":""},{"$f":"IFERROR(AVERAGE(Table5[[#This Row],[Total Dollars Raised in FY19]:[Total Dollars Raised in FY17]]),\"\")","v":""},{"$f":"IFERROR(AVERAGE(Table5[[#This Row],[Total Dollars Raised in FY19]:[Total Dollars Raised in FY17]])/Table5[[#This Row],[Estimated % of Time Spent on Fundraising]],\"\")","v":""},{"$f":"IFERROR(Table3[[#This Row],[Average $ Raised per 1% of Time]]*AVERAGEIF(Table5[Estimated % of Time Spent on Fundraising],\"<>\"\"\"),\"\")","v":""},{"$f":"IFERROR(Table3[[#This Row],[Average $ Raised per 1% of Time]]*$E$6,\"\")","v":""},{"$f":"IFERROR(Table3[[#This Row],[Average $ Raised per 1% of Time]]*$F$6,\"\")","v":""},{"$f":"IFERROR(Table3[[#This Row],[Average $ Raised per 1% of Time]]*$G$6,\"\")","v":""},{"$f":"IFERROR(Table3[[#This Row],[Average $ Raised per 1% of Time]]*$H$6,\"\")","v":""},{"$f":"IFERROR(Table3[[#This Row],[Average $ Raised per 1% of Time]]*$I$6,\"\")","v":""},{"$f":"IFERROR(Table3[[#This Row],[Average $ Raised per 1% of Time]]*$J$6,\"\")","v":""},{"$f":"IFERROR(Table3[[#This Row],[Average $ Raised per 1% of Time]]*$K$6,\"\")","v":""},{"$f":"IFERROR(Table3[[#This Row],[Average $ Raised per 1% of Time]]*$L$6,\"\")","v":""},{"$f":"IFERROR(Table3[[#This Row],[Average $ Raised per 1% of Time]]*$M$6,\"\")","v":""},{"$f":"IFERROR(Table3[[#This Row],[Average $ Raised per 1% of Time]]*$N$6,\"\")","v":""},{"$f":"IFERROR(Table3[[#This Row],[Average $ Raised per 1% of Time]]*$O$6,\"\")","v":""},{"$f":"IFERROR(Table3[[#This Row],[Average $ Raised per 1% of Time]]*$P$6,\"\")","v":""},{"$f":"IFERROR(Table3[[#This Row],[Average $ Raised per 1% of Time]]*$Q$6,\"\")","v":""},{"$f":"IFERROR(Table3[[#This Row],[Average $ Raised per 1% of Time]]*$R$6,\"\")","v":""},{"$f":"IFERROR(Table3[[#This Row],[Average $ Raised per 1% of Time]]*$S$6,\"\")","v":""},{"$f":"IFERROR(Table3[[#This Row],[Average $ Raised per 1% of Time]]*$T$6,\"\")","v":""},{"$f":"IFERROR(Table3[[#This Row],[Average $ Raised per 1% of Time]]*$U$6,\"\")","v":""},{"$f":"IFERROR(Table3[[#This Row],[Average $ Raised per 1% of Time]]*$V$6,\"\")","v":""},{"$f":"IFERROR(Table3[[#This Row],[Average $ Raised per 1% of Time]]*$W$6,\"\")","v":""},{"$f":"IFERROR(Table3[[#This Row],[Average $ Raised per 1% of Time]]*$X$6,\"\")","v":""}]
[{"$f":"IF(Table5[Gift Officer Name]<>\"\",Table5[Gift Officer Name],\"\")","v":""},{"$f":"IFERROR(AVERAGE(Table5[[#This Row],[Total Dollars Raised in FY19]:[Total Dollars Raised in FY17]]),\"\")","v":""},{"$f":"IFERROR(AVERAGE(Table5[[#This Row],[Total Dollars Raised in FY19]:[Total Dollars Raised in FY17]])/Table5[[#This Row],[Estimated % of Time Spent on Fundraising]],\"\")","v":""},{"$f":"IFERROR(Table3[[#This Row],[Average $ Raised per 1% of Time]]*AVERAGEIF(Table5[Estimated % of Time Spent on Fundraising],\"<>\"\"\"),\"\")","v":""},{"$f":"IFERROR(Table3[[#This Row],[Average $ Raised per 1% of Time]]*$E$6,\"\")","v":""},{"$f":"IFERROR(Table3[[#This Row],[Average $ Raised per 1% of Time]]*$F$6,\"\")","v":""},{"$f":"IFERROR(Table3[[#This Row],[Average $ Raised per 1% of Time]]*$G$6,\"\")","v":""},{"$f":"IFERROR(Table3[[#This Row],[Average $ Raised per 1% of Time]]*$H$6,\"\")","v":""},{"$f":"IFERROR(Table3[[#This Row],[Average $ Raised per 1% of Time]]*$I$6,\"\")","v":""},{"$f":"IFERROR(Table3[[#This Row],[Average $ Raised per 1% of Time]]*$J$6,\"\")","v":""},{"$f":"IFERROR(Table3[[#This Row],[Average $ Raised per 1% of Time]]*$K$6,\"\")","v":""},{"$f":"IFERROR(Table3[[#This Row],[Average $ Raised per 1% of Time]]*$L$6,\"\")","v":""},{"$f":"IFERROR(Table3[[#This Row],[Average $ Raised per 1% of Time]]*$M$6,\"\")","v":""},{"$f":"IFERROR(Table3[[#This Row],[Average $ Raised per 1% of Time]]*$N$6,\"\")","v":""},{"$f":"IFERROR(Table3[[#This Row],[Average $ Raised per 1% of Time]]*$O$6,\"\")","v":""},{"$f":"IFERROR(Table3[[#This Row],[Average $ Raised per 1% of Time]]*$P$6,\"\")","v":""},{"$f":"IFERROR(Table3[[#This Row],[Average $ Raised per 1% of Time]]*$Q$6,\"\")","v":""},{"$f":"IFERROR(Table3[[#This Row],[Average $ Raised per 1% of Time]]*$R$6,\"\")","v":""},{"$f":"IFERROR(Table3[[#This Row],[Average $ Raised per 1% of Time]]*$S$6,\"\")","v":""},{"$f":"IFERROR(Table3[[#This Row],[Average $ Raised per 1% of Time]]*$T$6,\"\")","v":""},{"$f":"IFERROR(Table3[[#This Row],[Average $ Raised per 1% of Time]]*$U$6,\"\")","v":""},{"$f":"IFERROR(Table3[[#This Row],[Average $ Raised per 1% of Time]]*$V$6,\"\")","v":""},{"$f":"IFERROR(Table3[[#This Row],[Average $ Raised per 1% of Time]]*$W$6,\"\")","v":""},{"$f":"IFERROR(Table3[[#This Row],[Average $ Raised per 1% of Time]]*$X$6,\"\")","v":""}]
[{"$f":"IF(Table5[Gift Officer Name]<>\"\",Table5[Gift Officer Name],\"\")","v":""},{"$f":"IFERROR(AVERAGE(Table5[[#This Row],[Total Dollars Raised in FY19]:[Total Dollars Raised in FY17]]),\"\")","v":""},{"$f":"IFERROR(AVERAGE(Table5[[#This Row],[Total Dollars Raised in FY19]:[Total Dollars Raised in FY17]])/Table5[[#This Row],[Estimated % of Time Spent on Fundraising]],\"\")","v":""},{"$f":"IFERROR(Table3[[#This Row],[Average $ Raised per 1% of Time]]*AVERAGEIF(Table5[Estimated % of Time Spent on Fundraising],\"<>\"\"\"),\"\")","v":""},{"$f":"IFERROR(Table3[[#This Row],[Average $ Raised per 1% of Time]]*$E$6,\"\")","v":""},{"$f":"IFERROR(Table3[[#This Row],[Average $ Raised per 1% of Time]]*$F$6,\"\")","v":""},{"$f":"IFERROR(Table3[[#This Row],[Average $ Raised per 1% of Time]]*$G$6,\"\")","v":""},{"$f":"IFERROR(Table3[[#This Row],[Average $ Raised per 1% of Time]]*$H$6,\"\")","v":""},{"$f":"IFERROR(Table3[[#This Row],[Average $ Raised per 1% of Time]]*$I$6,\"\")","v":""},{"$f":"IFERROR(Table3[[#This Row],[Average $ Raised per 1% of Time]]*$J$6,\"\")","v":""},{"$f":"IFERROR(Table3[[#This Row],[Average $ Raised per 1% of Time]]*$K$6,\"\")","v":""},{"$f":"IFERROR(Table3[[#This Row],[Average $ Raised per 1% of Time]]*$L$6,\"\")","v":""},{"$f":"IFERROR(Table3[[#This Row],[Average $ Raised per 1% of Time]]*$M$6,\"\")","v":""},{"$f":"IFERROR(Table3[[#This Row],[Average $ Raised per 1% of Time]]*$N$6,\"\")","v":""},{"$f":"IFERROR(Table3[[#This Row],[Average $ Raised per 1% of Time]]*$O$6,\"\")","v":""},{"$f":"IFERROR(Table3[[#This Row],[Average $ Raised per 1% of Time]]*$P$6,\"\")","v":""},{"$f":"IFERROR(Table3[[#This Row],[Average $ Raised per 1% of Time]]*$Q$6,\"\")","v":""},{"$f":"IFERROR(Table3[[#This Row],[Average $ Raised per 1% of Time]]*$R$6,\"\")","v":""},{"$f":"IFERROR(Table3[[#This Row],[Average $ Raised per 1% of Time]]*$S$6,\"\")","v":""},{"$f":"IFERROR(Table3[[#This Row],[Average $ Raised per 1% of Time]]*$T$6,\"\")","v":""},{"$f":"IFERROR(Table3[[#This Row],[Average $ Raised per 1% of Time]]*$U$6,\"\")","v":""},{"$f":"IFERROR(Table3[[#This Row],[Average $ Raised per 1% of Time]]*$V$6,\"\")","v":""},{"$f":"IFERROR(Table3[[#This Row],[Average $ Raised per 1% of Time]]*$W$6,\"\")","v":""},{"$f":"IFERROR(Table3[[#This Row],[Average $ Raised per 1% of Time]]*$X$6,\"\")","v":""}]
[{"$f":"IF(Table5[Gift Officer Name]<>\"\",Table5[Gift Officer Name],\"\")","v":""},{"$f":"IFERROR(AVERAGE(Table5[[#This Row],[Total Dollars Raised in FY19]:[Total Dollars Raised in FY17]]),\"\")","v":""},{"$f":"IFERROR(AVERAGE(Table5[[#This Row],[Total Dollars Raised in FY19]:[Total Dollars Raised in FY17]])/Table5[[#This Row],[Estimated % of Time Spent on Fundraising]],\"\")","v":""},{"$f":"IFERROR(Table3[[#This Row],[Average $ Raised per 1% of Time]]*AVERAGEIF(Table5[Estimated % of Time Spent on Fundraising],\"<>\"\"\"),\"\")","v":""},{"$f":"IFERROR(Table3[[#This Row],[Average $ Raised per 1% of Time]]*$E$6,\"\")","v":""},{"$f":"IFERROR(Table3[[#This Row],[Average $ Raised per 1% of Time]]*$F$6,\"\")","v":""},{"$f":"IFERROR(Table3[[#This Row],[Average $ Raised per 1% of Time]]*$G$6,\"\")","v":""},{"$f":"IFERROR(Table3[[#This Row],[Average $ Raised per 1% of Time]]*$H$6,\"\")","v":""},{"$f":"IFERROR(Table3[[#This Row],[Average $ Raised per 1% of Time]]*$I$6,\"\")","v":""},{"$f":"IFERROR(Table3[[#This Row],[Average $ Raised per 1% of Time]]*$J$6,\"\")","v":""},{"$f":"IFERROR(Table3[[#This Row],[Average $ Raised per 1% of Time]]*$K$6,\"\")","v":""},{"$f":"IFERROR(Table3[[#This Row],[Average $ Raised per 1% of Time]]*$L$6,\"\")","v":""},{"$f":"IFERROR(Table3[[#This Row],[Average $ Raised per 1% of Time]]*$M$6,\"\")","v":""},{"$f":"IFERROR(Table3[[#This Row],[Average $ Raised per 1% of Time]]*$N$6,\"\")","v":""},{"$f":"IFERROR(Table3[[#This Row],[Average $ Raised per 1% of Time]]*$O$6,\"\")","v":""},{"$f":"IFERROR(Table3[[#This Row],[Average $ Raised per 1% of Time]]*$P$6,\"\")","v":""},{"$f":"IFERROR(Table3[[#This Row],[Average $ Raised per 1% of Time]]*$Q$6,\"\")","v":""},{"$f":"IFERROR(Table3[[#This Row],[Average $ Raised per 1% of Time]]*$R$6,\"\")","v":""},{"$f":"IFERROR(Table3[[#This Row],[Average $ Raised per 1% of Time]]*$S$6,\"\")","v":""},{"$f":"IFERROR(Table3[[#This Row],[Average $ Raised per 1% of Time]]*$T$6,\"\")","v":""},{"$f":"IFERROR(Table3[[#This Row],[Average $ Raised per 1% of Time]]*$U$6,\"\")","v":""},{"$f":"IFERROR(Table3[[#This Row],[Average $ Raised per 1% of Time]]*$V$6,\"\")","v":""},{"$f":"IFERROR(Table3[[#This Row],[Average $ Raised per 1% of Time]]*$W$6,\"\")","v":""},{"$f":"IFERROR(Table3[[#This Row],[Average $ Raised per 1% of Time]]*$X$6,\"\")","v":""}]
[{"$f":"IF(Table5[Gift Officer Name]<>\"\",Table5[Gift Officer Name],\"\")","v":""},{"$f":"IFERROR(AVERAGE(Table5[[#This Row],[Total Dollars Raised in FY19]:[Total Dollars Raised in FY17]]),\"\")","v":""},{"$f":"IFERROR(AVERAGE(Table5[[#This Row],[Total Dollars Raised in FY19]:[Total Dollars Raised in FY17]])/Table5[[#This Row],[Estimated % of Time Spent on Fundraising]],\"\")","v":""},{"$f":"IFERROR(Table3[[#This Row],[Average $ Raised per 1% of Time]]*AVERAGEIF(Table5[Estimated % of Time Spent on Fundraising],\"<>\"\"\"),\"\")","v":""},{"$f":"IFERROR(Table3[[#This Row],[Average $ Raised per 1% of Time]]*$E$6,\"\")","v":""},{"$f":"IFERROR(Table3[[#This Row],[Average $ Raised per 1% of Time]]*$F$6,\"\")","v":""},{"$f":"IFERROR(Table3[[#This Row],[Average $ Raised per 1% of Time]]*$G$6,\"\")","v":""},{"$f":"IFERROR(Table3[[#This Row],[Average $ Raised per 1% of Time]]*$H$6,\"\")","v":""},{"$f":"IFERROR(Table3[[#This Row],[Average $ Raised per 1% of Time]]*$I$6,\"\")","v":""},{"$f":"IFERROR(Table3[[#This Row],[Average $ Raised per 1% of Time]]*$J$6,\"\")","v":""},{"$f":"IFERROR(Table3[[#This Row],[Average $ Raised per 1% of Time]]*$K$6,\"\")","v":""},{"$f":"IFERROR(Table3[[#This Row],[Average $ Raised per 1% of Time]]*$L$6,\"\")","v":""},{"$f":"IFERROR(Table3[[#This Row],[Average $ Raised per 1% of Time]]*$M$6,\"\")","v":""},{"$f":"IFERROR(Table3[[#This Row],[Average $ Raised per 1% of Time]]*$N$6,\"\")","v":""},{"$f":"IFERROR(Table3[[#This Row],[Average $ Raised per 1% of Time]]*$O$6,\"\")","v":""},{"$f":"IFERROR(Table3[[#This Row],[Average $ Raised per 1% of Time]]*$P$6,\"\")","v":""},{"$f":"IFERROR(Table3[[#This Row],[Average $ Raised per 1% of Time]]*$Q$6,\"\")","v":""},{"$f":"IFERROR(Table3[[#This Row],[Average $ Raised per 1% of Time]]*$R$6,\"\")","v":""},{"$f":"IFERROR(Table3[[#This Row],[Average $ Raised per 1% of Time]]*$S$6,\"\")","v":""},{"$f":"IFERROR(Table3[[#This Row],[Average $ Raised per 1% of Time]]*$T$6,\"\")","v":""},{"$f":"IFERROR(Table3[[#This Row],[Average $ Raised per 1% of Time]]*$U$6,\"\")","v":""},{"$f":"IFERROR(Table3[[#This Row],[Average $ Raised per 1% of Time]]*$V$6,\"\")","v":""},{"$f":"IFERROR(Table3[[#This Row],[Average $ Raised per 1% of Time]]*$W$6,\"\")","v":""},{"$f":"IFERROR(Table3[[#This Row],[Average $ Raised per 1% of Time]]*$X$6,\"\")","v":""}]
[{"$f":"IF(Table5[Gift Officer Name]<>\"\",Table5[Gift Officer Name],\"\")","v":""},{"$f":"IFERROR(AVERAGE(Table5[[#This Row],[Total Dollars Raised in FY19]:[Total Dollars Raised in FY17]]),\"\")","v":""},{"$f":"IFERROR(AVERAGE(Table5[[#This Row],[Total Dollars Raised in FY19]:[Total Dollars Raised in FY17]])/Table5[[#This Row],[Estimated % of Time Spent on Fundraising]],\"\")","v":""},{"$f":"IFERROR(Table3[[#This Row],[Average $ Raised per 1% of Time]]*AVERAGEIF(Table5[Estimated % of Time Spent on Fundraising],\"<>\"\"\"),\"\")","v":""},{"$f":"IFERROR(Table3[[#This Row],[Average $ Raised per 1% of Time]]*$E$6,\"\")","v":""},{"$f":"IFERROR(Table3[[#This Row],[Average $ Raised per 1% of Time]]*$F$6,\"\")","v":""},{"$f":"IFERROR(Table3[[#This Row],[Average $ Raised per 1% of Time]]*$G$6,\"\")","v":""},{"$f":"IFERROR(Table3[[#This Row],[Average $ Raised per 1% of Time]]*$H$6,\"\")","v":""},{"$f":"IFERROR(Table3[[#This Row],[Average $ Raised per 1% of Time]]*$I$6,\"\")","v":""},{"$f":"IFERROR(Table3[[#This Row],[Average $ Raised per 1% of Time]]*$J$6,\"\")","v":""},{"$f":"IFERROR(Table3[[#This Row],[Average $ Raised per 1% of Time]]*$K$6,\"\")","v":""},{"$f":"IFERROR(Table3[[#This Row],[Average $ Raised per 1% of Time]]*$L$6,\"\")","v":""},{"$f":"IFERROR(Table3[[#This Row],[Average $ Raised per 1% of Time]]*$M$6,\"\")","v":""},{"$f":"IFERROR(Table3[[#This Row],[Average $ Raised per 1% of Time]]*$N$6,\"\")","v":""},{"$f":"IFERROR(Table3[[#This Row],[Average $ Raised per 1% of Time]]*$O$6,\"\")","v":""},{"$f":"IFERROR(Table3[[#This Row],[Average $ Raised per 1% of Time]]*$P$6,\"\")","v":""},{"$f":"IFERROR(Table3[[#This Row],[Average $ Raised per 1% of Time]]*$Q$6,\"\")","v":""},{"$f":"IFERROR(Table3[[#This Row],[Average $ Raised per 1% of Time]]*$R$6,\"\")","v":""},{"$f":"IFERROR(Table3[[#This Row],[Average $ Raised per 1% of Time]]*$S$6,\"\")","v":""},{"$f":"IFERROR(Table3[[#This Row],[Average $ Raised per 1% of Time]]*$T$6,\"\")","v":""},{"$f":"IFERROR(Table3[[#This Row],[Average $ Raised per 1% of Time]]*$U$6,\"\")","v":""},{"$f":"IFERROR(Table3[[#This Row],[Average $ Raised per 1% of Time]]*$V$6,\"\")","v":""},{"$f":"IFERROR(Table3[[#This Row],[Average $ Raised per 1% of Time]]*$W$6,\"\")","v":""},{"$f":"IFERROR(Table3[[#This Row],[Average $ Raised per 1% of Time]]*$X$6,\"\")","v":""}]
[{"$f":"IF(Table5[Gift Officer Name]<>\"\",Table5[Gift Officer Name],\"\")","v":""},{"$f":"IFERROR(AVERAGE(Table5[[#This Row],[Total Dollars Raised in FY19]:[Total Dollars Raised in FY17]]),\"\")","v":""},{"$f":"IFERROR(AVERAGE(Table5[[#This Row],[Total Dollars Raised in FY19]:[Total Dollars Raised in FY17]])/Table5[[#This Row],[Estimated % of Time Spent on Fundraising]],\"\")","v":""},{"$f":"IFERROR(Table3[[#This Row],[Average $ Raised per 1% of Time]]*AVERAGEIF(Table5[Estimated % of Time Spent on Fundraising],\"<>\"\"\"),\"\")","v":""},{"$f":"IFERROR(Table3[[#This Row],[Average $ Raised per 1% of Time]]*$E$6,\"\")","v":""},{"$f":"IFERROR(Table3[[#This Row],[Average $ Raised per 1% of Time]]*$F$6,\"\")","v":""},{"$f":"IFERROR(Table3[[#This Row],[Average $ Raised per 1% of Time]]*$G$6,\"\")","v":""},{"$f":"IFERROR(Table3[[#This Row],[Average $ Raised per 1% of Time]]*$H$6,\"\")","v":""},{"$f":"IFERROR(Table3[[#This Row],[Average $ Raised per 1% of Time]]*$I$6,\"\")","v":""},{"$f":"IFERROR(Table3[[#This Row],[Average $ Raised per 1% of Time]]*$J$6,\"\")","v":""},{"$f":"IFERROR(Table3[[#This Row],[Average $ Raised per 1% of Time]]*$K$6,\"\")","v":""},{"$f":"IFERROR(Table3[[#This Row],[Average $ Raised per 1% of Time]]*$L$6,\"\")","v":""},{"$f":"IFERROR(Table3[[#This Row],[Average $ Raised per 1% of Time]]*$M$6,\"\")","v":""},{"$f":"IFERROR(Table3[[#This Row],[Average $ Raised per 1% of Time]]*$N$6,\"\")","v":""},{"$f":"IFERROR(Table3[[#This Row],[Average $ Raised per 1% of Time]]*$O$6,\"\")","v":""},{"$f":"IFERROR(Table3[[#This Row],[Average $ Raised per 1% of Time]]*$P$6,\"\")","v":""},{"$f":"IFERROR(Table3[[#This Row],[Average $ Raised per 1% of Time]]*$Q$6,\"\")","v":""},{"$f":"IFERROR(Table3[[#This Row],[Average $ Raised per 1% of Time]]*$R$6,\"\")","v":""},{"$f":"IFERROR(Table3[[#This Row],[Average $ Raised per 1% of Time]]*$S$6,\"\")","v":""},{"$f":"IFERROR(Table3[[#This Row],[Average $ Raised per 1% of Time]]*$T$6,\"\")","v":""},{"$f":"IFERROR(Table3[[#This Row],[Average $ Raised per 1% of Time]]*$U$6,\"\")","v":""},{"$f":"IFERROR(Table3[[#This Row],[Average $ Raised per 1% of Time]]*$V$6,\"\")","v":""},{"$f":"IFERROR(Table3[[#This Row],[Average $ Raised per 1% of Time]]*$W$6,\"\")","v":""},{"$f":"IFERROR(Table3[[#This Row],[Average $ Raised per 1% of Time]]*$X$6,\"\")","v":""}]
[{"$f":"IF(Table5[Gift Officer Name]<>\"\",Table5[Gift Officer Name],\"\")","v":""},{"$f":"IFERROR(AVERAGE(Table5[[#This Row],[Total Dollars Raised in FY19]:[Total Dollars Raised in FY17]]),\"\")","v":""},{"$f":"IFERROR(AVERAGE(Table5[[#This Row],[Total Dollars Raised in FY19]:[Total Dollars Raised in FY17]])/Table5[[#This Row],[Estimated % of Time Spent on Fundraising]],\"\")","v":""},{"$f":"IFERROR(Table3[[#This Row],[Average $ Raised per 1% of Time]]*AVERAGEIF(Table5[Estimated % of Time Spent on Fundraising],\"<>\"\"\"),\"\")","v":""},{"$f":"IFERROR(Table3[[#This Row],[Average $ Raised per 1% of Time]]*$E$6,\"\")","v":""},{"$f":"IFERROR(Table3[[#This Row],[Average $ Raised per 1% of Time]]*$F$6,\"\")","v":""},{"$f":"IFERROR(Table3[[#This Row],[Average $ Raised per 1% of Time]]*$G$6,\"\")","v":""},{"$f":"IFERROR(Table3[[#This Row],[Average $ Raised per 1% of Time]]*$H$6,\"\")","v":""},{"$f":"IFERROR(Table3[[#This Row],[Average $ Raised per 1% of Time]]*$I$6,\"\")","v":""},{"$f":"IFERROR(Table3[[#This Row],[Average $ Raised per 1% of Time]]*$J$6,\"\")","v":""},{"$f":"IFERROR(Table3[[#This Row],[Average $ Raised per 1% of Time]]*$K$6,\"\")","v":""},{"$f":"IFERROR(Table3[[#This Row],[Average $ Raised per 1% of Time]]*$L$6,\"\")","v":""},{"$f":"IFERROR(Table3[[#This Row],[Average $ Raised per 1% of Time]]*$M$6,\"\")","v":""},{"$f":"IFERROR(Table3[[#This Row],[Average $ Raised per 1% of Time]]*$N$6,\"\")","v":""},{"$f":"IFERROR(Table3[[#This Row],[Average $ Raised per 1% of Time]]*$O$6,\"\")","v":""},{"$f":"IFERROR(Table3[[#This Row],[Average $ Raised per 1% of Time]]*$P$6,\"\")","v":""},{"$f":"IFERROR(Table3[[#This Row],[Average $ Raised per 1% of Time]]*$Q$6,\"\")","v":""},{"$f":"IFERROR(Table3[[#This Row],[Average $ Raised per 1% of Time]]*$R$6,\"\")","v":""},{"$f":"IFERROR(Table3[[#This Row],[Average $ Raised per 1% of Time]]*$S$6,\"\")","v":""},{"$f":"IFERROR(Table3[[#This Row],[Average $ Raised per 1% of Time]]*$T$6,\"\")","v":""},{"$f":"IFERROR(Table3[[#This Row],[Average $ Raised per 1% of Time]]*$U$6,\"\")","v":""},{"$f":"IFERROR(Table3[[#This Row],[Average $ Raised per 1% of Time]]*$V$6,\"\")","v":""},{"$f":"IFERROR(Table3[[#This Row],[Average $ Raised per 1% of Time]]*$W$6,\"\")","v":""},{"$f":"IFERROR(Table3[[#This Row],[Average $ Raised per 1% of Time]]*$X$6,\"\")","v":""}]
[{"$f":"IF(Table5[Gift Officer Name]<>\"\",Table5[Gift Officer Name],\"\")","v":""},{"$f":"IFERROR(AVERAGE(Table5[[#This Row],[Total Dollars Raised in FY19]:[Total Dollars Raised in FY17]]),\"\")","v":""},{"$f":"IFERROR(AVERAGE(Table5[[#This Row],[Total Dollars Raised in FY19]:[Total Dollars Raised in FY17]])/Table5[[#This Row],[Estimated % of Time Spent on Fundraising]],\"\")","v":""},{"$f":"IFERROR(Table3[[#This Row],[Average $ Raised per 1% of Time]]*AVERAGEIF(Table5[Estimated % of Time Spent on Fundraising],\"<>\"\"\"),\"\")","v":""},{"$f":"IFERROR(Table3[[#This Row],[Average $ Raised per 1% of Time]]*$E$6,\"\")","v":""},{"$f":"IFERROR(Table3[[#This Row],[Average $ Raised per 1% of Time]]*$F$6,\"\")","v":""},{"$f":"IFERROR(Table3[[#This Row],[Average $ Raised per 1% of Time]]*$G$6,\"\")","v":""},{"$f":"IFERROR(Table3[[#This Row],[Average $ Raised per 1% of Time]]*$H$6,\"\")","v":""},{"$f":"IFERROR(Table3[[#This Row],[Average $ Raised per 1% of Time]]*$I$6,\"\")","v":""},{"$f":"IFERROR(Table3[[#This Row],[Average $ Raised per 1% of Time]]*$J$6,\"\")","v":""},{"$f":"IFERROR(Table3[[#This Row],[Average $ Raised per 1% of Time]]*$K$6,\"\")","v":""},{"$f":"IFERROR(Table3[[#This Row],[Average $ Raised per 1% of Time]]*$L$6,\"\")","v":""},{"$f":"IFERROR(Table3[[#This Row],[Average $ Raised per 1% of Time]]*$M$6,\"\")","v":""},{"$f":"IFERROR(Table3[[#This Row],[Average $ Raised per 1% of Time]]*$N$6,\"\")","v":""},{"$f":"IFERROR(Table3[[#This Row],[Average $ Raised per 1% of Time]]*$O$6,\"\")","v":""},{"$f":"IFERROR(Table3[[#This Row],[Average $ Raised per 1% of Time]]*$P$6,\"\")","v":""},{"$f":"IFERROR(Table3[[#This Row],[Average $ Raised per 1% of Time]]*$Q$6,\"\")","v":""},{"$f":"IFERROR(Table3[[#This Row],[Average $ Raised per 1% of Time]]*$R$6,\"\")","v":""},{"$f":"IFERROR(Table3[[#This Row],[Average $ Raised per 1% of Time]]*$S$6,\"\")","v":""},{"$f":"IFERROR(Table3[[#This Row],[Average $ Raised per 1% of Time]]*$T$6,\"\")","v":""},{"$f":"IFERROR(Table3[[#This Row],[Average $ Raised per 1% of Time]]*$U$6,\"\")","v":""},{"$f":"IFERROR(Table3[[#This Row],[Average $ Raised per 1% of Time]]*$V$6,\"\")","v":""},{"$f":"IFERROR(Table3[[#This Row],[Average $ Raised per 1% of Time]]*$W$6,\"\")","v":""},{"$f":"IFERROR(Table3[[#This Row],[Average $ Raised per 1% of Time]]*$X$6,\"\")","v":""}]
[{"$f":"IF(Table5[Gift Officer Name]<>\"\",Table5[Gift Officer Name],\"\")","v":""},{"$f":"IFERROR(AVERAGE(Table5[[#This Row],[Total Dollars Raised in FY19]:[Total Dollars Raised in FY17]]),\"\")","v":""},{"$f":"IFERROR(AVERAGE(Table5[[#This Row],[Total Dollars Raised in FY19]:[Total Dollars Raised in FY17]])/Table5[[#This Row],[Estimated % of Time Spent on Fundraising]],\"\")","v":""},{"$f":"IFERROR(Table3[[#This Row],[Average $ Raised per 1% of Time]]*AVERAGEIF(Table5[Estimated % of Time Spent on Fundraising],\"<>\"\"\"),\"\")","v":""},{"$f":"IFERROR(Table3[[#This Row],[Average $ Raised per 1% of Time]]*$E$6,\"\")","v":""},{"$f":"IFERROR(Table3[[#This Row],[Average $ Raised per 1% of Time]]*$F$6,\"\")","v":""},{"$f":"IFERROR(Table3[[#This Row],[Average $ Raised per 1% of Time]]*$G$6,\"\")","v":""},{"$f":"IFERROR(Table3[[#This Row],[Average $ Raised per 1% of Time]]*$H$6,\"\")","v":""},{"$f":"IFERROR(Table3[[#This Row],[Average $ Raised per 1% of Time]]*$I$6,\"\")","v":""},{"$f":"IFERROR(Table3[[#This Row],[Average $ Raised per 1% of Time]]*$J$6,\"\")","v":""},{"$f":"IFERROR(Table3[[#This Row],[Average $ Raised per 1% of Time]]*$K$6,\"\")","v":""},{"$f":"IFERROR(Table3[[#This Row],[Average $ Raised per 1% of Time]]*$L$6,\"\")","v":""},{"$f":"IFERROR(Table3[[#This Row],[Average $ Raised per 1% of Time]]*$M$6,\"\")","v":""},{"$f":"IFERROR(Table3[[#This Row],[Average $ Raised per 1% of Time]]*$N$6,\"\")","v":""},{"$f":"IFERROR(Table3[[#This Row],[Average $ Raised per 1% of Time]]*$O$6,\"\")","v":""},{"$f":"IFERROR(Table3[[#This Row],[Average $ Raised per 1% of Time]]*$P$6,\"\")","v":""},{"$f":"IFERROR(Table3[[#This Row],[Average $ Raised per 1% of Time]]*$Q$6,\"\")","v":""},{"$f":"IFERROR(Table3[[#This Row],[Average $ Raised per 1% of Time]]*$R$6,\"\")","v":""},{"$f":"IFERROR(Table3[[#This Row],[Average $ Raised per 1% of Time]]*$S$6,\"\")","v":""},{"$f":"IFERROR(Table3[[#This Row],[Average $ Raised per 1% of Time]]*$T$6,\"\")","v":""},{"$f":"IFERROR(Table3[[#This Row],[Average $ Raised per 1% of Time]]*$U$6,\"\")","v":""},{"$f":"IFERROR(Table3[[#This Row],[Average $ Raised per 1% of Time]]*$V$6,\"\")","v":""},{"$f":"IFERROR(Table3[[#This Row],[Average $ Raised per 1% of Time]]*$W$6,\"\")","v":""},{"$f":"IFERROR(Table3[[#This Row],[Average $ Raised per 1% of Time]]*$X$6,\"\")","v":""}]
[{"$f":"IF(Table5[Gift Officer Name]<>\"\",Table5[Gift Officer Name],\"\")","v":""},{"$f":"IFERROR(AVERAGE(Table5[[#This Row],[Total Dollars Raised in FY19]:[Total Dollars Raised in FY17]]),\"\")","v":""},{"$f":"IFERROR(AVERAGE(Table5[[#This Row],[Total Dollars Raised in FY19]:[Total Dollars Raised in FY17]])/Table5[[#This Row],[Estimated % of Time Spent on Fundraising]],\"\")","v":""},{"$f":"IFERROR(Table3[[#This Row],[Average $ Raised per 1% of Time]]*AVERAGEIF(Table5[Estimated % of Time Spent on Fundraising],\"<>\"\"\"),\"\")","v":""},{"$f":"IFERROR(Table3[[#This Row],[Average $ Raised per 1% of Time]]*$E$6,\"\")","v":""},{"$f":"IFERROR(Table3[[#This Row],[Average $ Raised per 1% of Time]]*$F$6,\"\")","v":""},{"$f":"IFERROR(Table3[[#This Row],[Average $ Raised per 1% of Time]]*$G$6,\"\")","v":""},{"$f":"IFERROR(Table3[[#This Row],[Average $ Raised per 1% of Time]]*$H$6,\"\")","v":""},{"$f":"IFERROR(Table3[[#This Row],[Average $ Raised per 1% of Time]]*$I$6,\"\")","v":""},{"$f":"IFERROR(Table3[[#This Row],[Average $ Raised per 1% of Time]]*$J$6,\"\")","v":""},{"$f":"IFERROR(Table3[[#This Row],[Average $ Raised per 1% of Time]]*$K$6,\"\")","v":""},{"$f":"IFERROR(Table3[[#This Row],[Average $ Raised per 1% of Time]]*$L$6,\"\")","v":""},{"$f":"IFERROR(Table3[[#This Row],[Average $ Raised per 1% of Time]]*$M$6,\"\")","v":""},{"$f":"IFERROR(Table3[[#This Row],[Average $ Raised per 1% of Time]]*$N$6,\"\")","v":""},{"$f":"IFERROR(Table3[[#This Row],[Average $ Raised per 1% of Time]]*$O$6,\"\")","v":""},{"$f":"IFERROR(Table3[[#This Row],[Average $ Raised per 1% of Time]]*$P$6,\"\")","v":""},{"$f":"IFERROR(Table3[[#This Row],[Average $ Raised per 1% of Time]]*$Q$6,\"\")","v":""},{"$f":"IFERROR(Table3[[#This Row],[Average $ Raised per 1% of Time]]*$R$6,\"\")","v":""},{"$f":"IFERROR(Table3[[#This Row],[Average $ Raised per 1% of Time]]*$S$6,\"\")","v":""},{"$f":"IFERROR(Table3[[#This Row],[Average $ Raised per 1% of Time]]*$T$6,\"\")","v":""},{"$f":"IFERROR(Table3[[#This Row],[Average $ Raised per 1% of Time]]*$U$6,\"\")","v":""},{"$f":"IFERROR(Table3[[#This Row],[Average $ Raised per 1% of Time]]*$V$6,\"\")","v":""},{"$f":"IFERROR(Table3[[#This Row],[Average $ Raised per 1% of Time]]*$W$6,\"\")","v":""},{"$f":"IFERROR(Table3[[#This Row],[Average $ Raised per 1% of Time]]*$X$6,\"\")","v":""}]
[{"$f":"IF(Table5[Gift Officer Name]<>\"\",Table5[Gift Officer Name],\"\")","v":""},{"$f":"IFERROR(AVERAGE(Table5[[#This Row],[Total Dollars Raised in FY19]:[Total Dollars Raised in FY17]]),\"\")","v":""},{"$f":"IFERROR(AVERAGE(Table5[[#This Row],[Total Dollars Raised in FY19]:[Total Dollars Raised in FY17]])/Table5[[#This Row],[Estimated % of Time Spent on Fundraising]],\"\")","v":""},{"$f":"IFERROR(Table3[[#This Row],[Average $ Raised per 1% of Time]]*AVERAGEIF(Table5[Estimated % of Time Spent on Fundraising],\"<>\"\"\"),\"\")","v":""},{"$f":"IFERROR(Table3[[#This Row],[Average $ Raised per 1% of Time]]*$E$6,\"\")","v":""},{"$f":"IFERROR(Table3[[#This Row],[Average $ Raised per 1% of Time]]*$F$6,\"\")","v":""},{"$f":"IFERROR(Table3[[#This Row],[Average $ Raised per 1% of Time]]*$G$6,\"\")","v":""},{"$f":"IFERROR(Table3[[#This Row],[Average $ Raised per 1% of Time]]*$H$6,\"\")","v":""},{"$f":"IFERROR(Table3[[#This Row],[Average $ Raised per 1% of Time]]*$I$6,\"\")","v":""},{"$f":"IFERROR(Table3[[#This Row],[Average $ Raised per 1% of Time]]*$J$6,\"\")","v":""},{"$f":"IFERROR(Table3[[#This Row],[Average $ Raised per 1% of Time]]*$K$6,\"\")","v":""},{"$f":"IFERROR(Table3[[#This Row],[Average $ Raised per 1% of Time]]*$L$6,\"\")","v":""},{"$f":"IFERROR(Table3[[#This Row],[Average $ Raised per 1% of Time]]*$M$6,\"\")","v":""},{"$f":"IFERROR(Table3[[#This Row],[Average $ Raised per 1% of Time]]*$N$6,\"\")","v":""},{"$f":"IFERROR(Table3[[#This Row],[Average $ Raised per 1% of Time]]*$O$6,\"\")","v":""},{"$f":"IFERROR(Table3[[#This Row],[Average $ Raised per 1% of Time]]*$P$6,\"\")","v":""},{"$f":"IFERROR(Table3[[#This Row],[Average $ Raised per 1% of Time]]*$Q$6,\"\")","v":""},{"$f":"IFERROR(Table3[[#This Row],[Average $ Raised per 1% of Time]]*$R$6,\"\")","v":""},{"$f":"IFERROR(Table3[[#This Row],[Average $ Raised per 1% of Time]]*$S$6,\"\")","v":""},{"$f":"IFERROR(Table3[[#This Row],[Average $ Raised per 1% of Time]]*$T$6,\"\")","v":""},{"$f":"IFERROR(Table3[[#This Row],[Average $ Raised per 1% of Time]]*$U$6,\"\")","v":""},{"$f":"IFERROR(Table3[[#This Row],[Average $ Raised per 1% of Time]]*$V$6,\"\")","v":""},{"$f":"IFERROR(Table3[[#This Row],[Average $ Raised per 1% of Time]]*$W$6,\"\")","v":""},{"$f":"IFERROR(Table3[[#This Row],[Average $ Raised per 1% of Time]]*$X$6,\"\")","v":""}]
[{"$f":"IF(Table5[Gift Officer Name]<>\"\",Table5[Gift Officer Name],\"\")","v":""},{"$f":"IFERROR(AVERAGE(Table5[[#This Row],[Total Dollars Raised in FY19]:[Total Dollars Raised in FY17]]),\"\")","v":""},{"$f":"IFERROR(AVERAGE(Table5[[#This Row],[Total Dollars Raised in FY19]:[Total Dollars Raised in FY17]])/Table5[[#This Row],[Estimated % of Time Spent on Fundraising]],\"\")","v":""},{"$f":"IFERROR(Table3[[#This Row],[Average $ Raised per 1% of Time]]*AVERAGEIF(Table5[Estimated % of Time Spent on Fundraising],\"<>\"\"\"),\"\")","v":""},{"$f":"IFERROR(Table3[[#This Row],[Average $ Raised per 1% of Time]]*$E$6,\"\")","v":""},{"$f":"IFERROR(Table3[[#This Row],[Average $ Raised per 1% of Time]]*$F$6,\"\")","v":""},{"$f":"IFERROR(Table3[[#This Row],[Average $ Raised per 1% of Time]]*$G$6,\"\")","v":""},{"$f":"IFERROR(Table3[[#This Row],[Average $ Raised per 1% of Time]]*$H$6,\"\")","v":""},{"$f":"IFERROR(Table3[[#This Row],[Average $ Raised per 1% of Time]]*$I$6,\"\")","v":""},{"$f":"IFERROR(Table3[[#This Row],[Average $ Raised per 1% of Time]]*$J$6,\"\")","v":""},{"$f":"IFERROR(Table3[[#This Row],[Average $ Raised per 1% of Time]]*$K$6,\"\")","v":""},{"$f":"IFERROR(Table3[[#This Row],[Average $ Raised per 1% of Time]]*$L$6,\"\")","v":""},{"$f":"IFERROR(Table3[[#This Row],[Average $ Raised per 1% of Time]]*$M$6,\"\")","v":""},{"$f":"IFERROR(Table3[[#This Row],[Average $ Raised per 1% of Time]]*$N$6,\"\")","v":""},{"$f":"IFERROR(Table3[[#This Row],[Average $ Raised per 1% of Time]]*$O$6,\"\")","v":""},{"$f":"IFERROR(Table3[[#This Row],[Average $ Raised per 1% of Time]]*$P$6,\"\")","v":""},{"$f":"IFERROR(Table3[[#This Row],[Average $ Raised per 1% of Time]]*$Q$6,\"\")","v":""},{"$f":"IFERROR(Table3[[#This Row],[Average $ Raised per 1% of Time]]*$R$6,\"\")","v":""},{"$f":"IFERROR(Table3[[#This Row],[Average $ Raised per 1% of Time]]*$S$6,\"\")","v":""},{"$f":"IFERROR(Table3[[#This Row],[Average $ Raised per 1% of Time]]*$T$6,\"\")","v":""},{"$f":"IFERROR(Table3[[#This Row],[Average $ Raised per 1% of Time]]*$U$6,\"\")","v":""},{"$f":"IFERROR(Table3[[#This Row],[Average $ Raised per 1% of Time]]*$V$6,\"\")","v":""},{"$f":"IFERROR(Table3[[#This Row],[Average $ Raised per 1% of Time]]*$W$6,\"\")","v":""},{"$f":"IFERROR(Table3[[#This Row],[Average $ Raised per 1% of Time]]*$X$6,\"\")","v":""}]
[{"$f":"IF(Table5[Gift Officer Name]<>\"\",Table5[Gift Officer Name],\"\")","v":""},{"$f":"IFERROR(AVERAGE(Table5[[#This Row],[Total Dollars Raised in FY19]:[Total Dollars Raised in FY17]]),\"\")","v":""},{"$f":"IFERROR(AVERAGE(Table5[[#This Row],[Total Dollars Raised in FY19]:[Total Dollars Raised in FY17]])/Table5[[#This Row],[Estimated % of Time Spent on Fundraising]],\"\")","v":""},{"$f":"IFERROR(Table3[[#This Row],[Average $ Raised per 1% of Time]]*AVERAGEIF(Table5[Estimated % of Time Spent on Fundraising],\"<>\"\"\"),\"\")","v":""},{"$f":"IFERROR(Table3[[#This Row],[Average $ Raised per 1% of Time]]*$E$6,\"\")","v":""},{"$f":"IFERROR(Table3[[#This Row],[Average $ Raised per 1% of Time]]*$F$6,\"\")","v":""},{"$f":"IFERROR(Table3[[#This Row],[Average $ Raised per 1% of Time]]*$G$6,\"\")","v":""},{"$f":"IFERROR(Table3[[#This Row],[Average $ Raised per 1% of Time]]*$H$6,\"\")","v":""},{"$f":"IFERROR(Table3[[#This Row],[Average $ Raised per 1% of Time]]*$I$6,\"\")","v":""},{"$f":"IFERROR(Table3[[#This Row],[Average $ Raised per 1% of Time]]*$J$6,\"\")","v":""},{"$f":"IFERROR(Table3[[#This Row],[Average $ Raised per 1% of Time]]*$K$6,\"\")","v":""},{"$f":"IFERROR(Table3[[#This Row],[Average $ Raised per 1% of Time]]*$L$6,\"\")","v":""},{"$f":"IFERROR(Table3[[#This Row],[Average $ Raised per 1% of Time]]*$M$6,\"\")","v":""},{"$f":"IFERROR(Table3[[#This Row],[Average $ Raised per 1% of Time]]*$N$6,\"\")","v":""},{"$f":"IFERROR(Table3[[#This Row],[Average $ Raised per 1% of Time]]*$O$6,\"\")","v":""},{"$f":"IFERROR(Table3[[#This Row],[Average $ Raised per 1% of Time]]*$P$6,\"\")","v":""},{"$f":"IFERROR(Table3[[#This Row],[Average $ Raised per 1% of Time]]*$Q$6,\"\")","v":""},{"$f":"IFERROR(Table3[[#This Row],[Average $ Raised per 1% of Time]]*$R$6,\"\")","v":""},{"$f":"IFERROR(Table3[[#This Row],[Average $ Raised per 1% of Time]]*$S$6,\"\")","v":""},{"$f":"IFERROR(Table3[[#This Row],[Average $ Raised per 1% of Time]]*$T$6,\"\")","v":""},{"$f":"IFERROR(Table3[[#This Row],[Average $ Raised per 1% of Time]]*$U$6,\"\")","v":""},{"$f":"IFERROR(Table3[[#This Row],[Average $ Raised per 1% of Time]]*$V$6,\"\")","v":""},{"$f":"IFERROR(Table3[[#This Row],[Average $ Raised per 1% of Time]]*$W$6,\"\")","v":""},{"$f":"IFERROR(Table3[[#This Row],[Average $ Raised per 1% of Time]]*$X$6,\"\")","v":""}]
[{"$f":"IF(Table5[Gift Officer Name]<>\"\",Table5[Gift Officer Name],\"\")","v":""},{"$f":"IFERROR(AVERAGE(Table5[[#This Row],[Total Dollars Raised in FY19]:[Total Dollars Raised in FY17]]),\"\")","v":""},{"$f":"IFERROR(AVERAGE(Table5[[#This Row],[Total Dollars Raised in FY19]:[Total Dollars Raised in FY17]])/Table5[[#This Row],[Estimated % of Time Spent on Fundraising]],\"\")","v":""},{"$f":"IFERROR(Table3[[#This Row],[Average $ Raised per 1% of Time]]*AVERAGEIF(Table5[Estimated % of Time Spent on Fundraising],\"<>\"\"\"),\"\")","v":""},{"$f":"IFERROR(Table3[[#This Row],[Average $ Raised per 1% of Time]]*$E$6,\"\")","v":""},{"$f":"IFERROR(Table3[[#This Row],[Average $ Raised per 1% of Time]]*$F$6,\"\")","v":""},{"$f":"IFERROR(Table3[[#This Row],[Average $ Raised per 1% of Time]]*$G$6,\"\")","v":""},{"$f":"IFERROR(Table3[[#This Row],[Average $ Raised per 1% of Time]]*$H$6,\"\")","v":""},{"$f":"IFERROR(Table3[[#This Row],[Average $ Raised per 1% of Time]]*$I$6,\"\")","v":""},{"$f":"IFERROR(Table3[[#This Row],[Average $ Raised per 1% of Time]]*$J$6,\"\")","v":""},{"$f":"IFERROR(Table3[[#This Row],[Average $ Raised per 1% of Time]]*$K$6,\"\")","v":""},{"$f":"IFERROR(Table3[[#This Row],[Average $ Raised per 1% of Time]]*$L$6,\"\")","v":""},{"$f":"IFERROR(Table3[[#This Row],[Average $ Raised per 1% of Time]]*$M$6,\"\")","v":""},{"$f":"IFERROR(Table3[[#This Row],[Average $ Raised per 1% of Time]]*$N$6,\"\")","v":""},{"$f":"IFERROR(Table3[[#This Row],[Average $ Raised per 1% of Time]]*$O$6,\"\")","v":""},{"$f":"IFERROR(Table3[[#This Row],[Average $ Raised per 1% of Time]]*$P$6,\"\")","v":""},{"$f":"IFERROR(Table3[[#This Row],[Average $ Raised per 1% of Time]]*$Q$6,\"\")","v":""},{"$f":"IFERROR(Table3[[#This Row],[Average $ Raised per 1% of Time]]*$R$6,\"\")","v":""},{"$f":"IFERROR(Table3[[#This Row],[Average $ Raised per 1% of Time]]*$S$6,\"\")","v":""},{"$f":"IFERROR(Table3[[#This Row],[Average $ Raised per 1% of Time]]*$T$6,\"\")","v":""},{"$f":"IFERROR(Table3[[#This Row],[Average $ Raised per 1% of Time]]*$U$6,\"\")","v":""},{"$f":"IFERROR(Table3[[#This Row],[Average $ Raised per 1% of Time]]*$V$6,\"\")","v":""},{"$f":"IFERROR(Table3[[#This Row],[Average $ Raised per 1% of Time]]*$W$6,\"\")","v":""},{"$f":"IFERROR(Table3[[#This Row],[Average $ Raised per 1% of Time]]*$X$6,\"\")","v":""}]
[{"$f":"IF(Table5[Gift Officer Name]<>\"\",Table5[Gift Officer Name],\"\")","v":""},{"$f":"IFERROR(AVERAGE(Table5[[#This Row],[Total Dollars Raised in FY19]:[Total Dollars Raised in FY17]]),\"\")","v":""},{"$f":"IFERROR(AVERAGE(Table5[[#This Row],[Total Dollars Raised in FY19]:[Total Dollars Raised in FY17]])/Table5[[#This Row],[Estimated % of Time Spent on Fundraising]],\"\")","v":""},{"$f":"IFERROR(Table3[[#This Row],[Average $ Raised per 1% of Time]]*AVERAGEIF(Table5[Estimated % of Time Spent on Fundraising],\"<>\"\"\"),\"\")","v":""},{"$f":"IFERROR(Table3[[#This Row],[Average $ Raised per 1% of Time]]*$E$6,\"\")","v":""},{"$f":"IFERROR(Table3[[#This Row],[Average $ Raised per 1% of Time]]*$F$6,\"\")","v":""},{"$f":"IFERROR(Table3[[#This Row],[Average $ Raised per 1% of Time]]*$G$6,\"\")","v":""},{"$f":"IFERROR(Table3[[#This Row],[Average $ Raised per 1% of Time]]*$H$6,\"\")","v":""},{"$f":"IFERROR(Table3[[#This Row],[Average $ Raised per 1% of Time]]*$I$6,\"\")","v":""},{"$f":"IFERROR(Table3[[#This Row],[Average $ Raised per 1% of Time]]*$J$6,\"\")","v":""},{"$f":"IFERROR(Table3[[#This Row],[Average $ Raised per 1% of Time]]*$K$6,\"\")","v":""},{"$f":"IFERROR(Table3[[#This Row],[Average $ Raised per 1% of Time]]*$L$6,\"\")","v":""},{"$f":"IFERROR(Table3[[#This Row],[Average $ Raised per 1% of Time]]*$M$6,\"\")","v":""},{"$f":"IFERROR(Table3[[#This Row],[Average $ Raised per 1% of Time]]*$N$6,\"\")","v":""},{"$f":"IFERROR(Table3[[#This Row],[Average $ Raised per 1% of Time]]*$O$6,\"\")","v":""},{"$f":"IFERROR(Table3[[#This Row],[Average $ Raised per 1% of Time]]*$P$6,\"\")","v":""},{"$f":"IFERROR(Table3[[#This Row],[Average $ Raised per 1% of Time]]*$Q$6,\"\")","v":""},{"$f":"IFERROR(Table3[[#This Row],[Average $ Raised per 1% of Time]]*$R$6,\"\")","v":""},{"$f":"IFERROR(Table3[[#This Row],[Average $ Raised per 1% of Time]]*$S$6,\"\")","v":""},{"$f":"IFERROR(Table3[[#This Row],[Average $ Raised per 1% of Time]]*$T$6,\"\")","v":""},{"$f":"IFERROR(Table3[[#This Row],[Average $ Raised per 1% of Time]]*$U$6,\"\")","v":""},{"$f":"IFERROR(Table3[[#This Row],[Average $ Raised per 1% of Time]]*$V$6,\"\")","v":""},{"$f":"IFERROR(Table3[[#This Row],[Average $ Raised per 1% of Time]]*$W$6,\"\")","v":""},{"$f":"IFERROR(Table3[[#This Row],[Average $ Raised per 1% of Time]]*$X$6,\"\")","v":""}]
[{"$f":"IF(Table5[Gift Officer Name]<>\"\",Table5[Gift Officer Name],\"\")","v":""},{"$f":"IFERROR(AVERAGE(Table5[[#This Row],[Total Dollars Raised in FY19]:[Total Dollars Raised in FY17]]),\"\")","v":""},{"$f":"IFERROR(AVERAGE(Table5[[#This Row],[Total Dollars Raised in FY19]:[Total Dollars Raised in FY17]])/Table5[[#This Row],[Estimated % of Time Spent on Fundraising]],\"\")","v":""},{"$f":"IFERROR(Table3[[#This Row],[Average $ Raised per 1% of Time]]*AVERAGEIF(Table5[Estimated % of Time Spent on Fundraising],\"<>\"\"\"),\"\")","v":""},{"$f":"IFERROR(Table3[[#This Row],[Average $ Raised per 1% of Time]]*$E$6,\"\")","v":""},{"$f":"IFERROR(Table3[[#This Row],[Average $ Raised per 1% of Time]]*$F$6,\"\")","v":""},{"$f":"IFERROR(Table3[[#This Row],[Average $ Raised per 1% of Time]]*$G$6,\"\")","v":""},{"$f":"IFERROR(Table3[[#This Row],[Average $ Raised per 1% of Time]]*$H$6,\"\")","v":""},{"$f":"IFERROR(Table3[[#This Row],[Average $ Raised per 1% of Time]]*$I$6,\"\")","v":""},{"$f":"IFERROR(Table3[[#This Row],[Average $ Raised per 1% of Time]]*$J$6,\"\")","v":""},{"$f":"IFERROR(Table3[[#This Row],[Average $ Raised per 1% of Time]]*$K$6,\"\")","v":""},{"$f":"IFERROR(Table3[[#This Row],[Average $ Raised per 1% of Time]]*$L$6,\"\")","v":""},{"$f":"IFERROR(Table3[[#This Row],[Average $ Raised per 1% of Time]]*$M$6,\"\")","v":""},{"$f":"IFERROR(Table3[[#This Row],[Average $ Raised per 1% of Time]]*$N$6,\"\")","v":""},{"$f":"IFERROR(Table3[[#This Row],[Average $ Raised per 1% of Time]]*$O$6,\"\")","v":""},{"$f":"IFERROR(Table3[[#This Row],[Average $ Raised per 1% of Time]]*$P$6,\"\")","v":""},{"$f":"IFERROR(Table3[[#This Row],[Average $ Raised per 1% of Time]]*$Q$6,\"\")","v":""},{"$f":"IFERROR(Table3[[#This Row],[Average $ Raised per 1% of Time]]*$R$6,\"\")","v":""},{"$f":"IFERROR(Table3[[#This Row],[Average $ Raised per 1% of Time]]*$S$6,\"\")","v":""},{"$f":"IFERROR(Table3[[#This Row],[Average $ Raised per 1% of Time]]*$T$6,\"\")","v":""},{"$f":"IFERROR(Table3[[#This Row],[Average $ Raised per 1% of Time]]*$U$6,\"\")","v":""},{"$f":"IFERROR(Table3[[#This Row],[Average $ Raised per 1% of Time]]*$V$6,\"\")","v":""},{"$f":"IFERROR(Table3[[#This Row],[Average $ Raised per 1% of Time]]*$W$6,\"\")","v":""},{"$f":"IFERROR(Table3[[#This Row],[Average $ Raised per 1% of Time]]*$X$6,\"\")","v":""}]
[{"$f":"IF(Table5[Gift Officer Name]<>\"\",Table5[Gift Officer Name],\"\")","v":""},{"$f":"IFERROR(AVERAGE(Table5[[#This Row],[Total Dollars Raised in FY19]:[Total Dollars Raised in FY17]]),\"\")","v":""},{"$f":"IFERROR(AVERAGE(Table5[[#This Row],[Total Dollars Raised in FY19]:[Total Dollars Raised in FY17]])/Table5[[#This Row],[Estimated % of Time Spent on Fundraising]],\"\")","v":""},{"$f":"IFERROR(Table3[[#This Row],[Average $ Raised per 1% of Time]]*AVERAGEIF(Table5[Estimated % of Time Spent on Fundraising],\"<>\"\"\"),\"\")","v":""},{"$f":"IFERROR(Table3[[#This Row],[Average $ Raised per 1% of Time]]*$E$6,\"\")","v":""},{"$f":"IFERROR(Table3[[#This Row],[Average $ Raised per 1% of Time]]*$F$6,\"\")","v":""},{"$f":"IFERROR(Table3[[#This Row],[Average $ Raised per 1% of Time]]*$G$6,\"\")","v":""},{"$f":"IFERROR(Table3[[#This Row],[Average $ Raised per 1% of Time]]*$H$6,\"\")","v":""},{"$f":"IFERROR(Table3[[#This Row],[Average $ Raised per 1% of Time]]*$I$6,\"\")","v":""},{"$f":"IFERROR(Table3[[#This Row],[Average $ Raised per 1% of Time]]*$J$6,\"\")","v":""},{"$f":"IFERROR(Table3[[#This Row],[Average $ Raised per 1% of Time]]*$K$6,\"\")","v":""},{"$f":"IFERROR(Table3[[#This Row],[Average $ Raised per 1% of Time]]*$L$6,\"\")","v":""},{"$f":"IFERROR(Table3[[#This Row],[Average $ Raised per 1% of Time]]*$M$6,\"\")","v":""},{"$f":"IFERROR(Table3[[#This Row],[Average $ Raised per 1% of Time]]*$N$6,\"\")","v":""},{"$f":"IFERROR(Table3[[#This Row],[Average $ Raised per 1% of Time]]*$O$6,\"\")","v":""},{"$f":"IFERROR(Table3[[#This Row],[Average $ Raised per 1% of Time]]*$P$6,\"\")","v":""},{"$f":"IFERROR(Table3[[#This Row],[Average $ Raised per 1% of Time]]*$Q$6,\"\")","v":""},{"$f":"IFERROR(Table3[[#This Row],[Average $ Raised per 1% of Time]]*$R$6,\"\")","v":""},{"$f":"IFERROR(Table3[[#This Row],[Average $ Raised per 1% of Time]]*$S$6,\"\")","v":""},{"$f":"IFERROR(Table3[[#This Row],[Average $ Raised per 1% of Time]]*$T$6,\"\")","v":""},{"$f":"IFERROR(Table3[[#This Row],[Average $ Raised per 1% of Time]]*$U$6,\"\")","v":""},{"$f":"IFERROR(Table3[[#This Row],[Average $ Raised per 1% of Time]]*$V$6,\"\")","v":""},{"$f":"IFERROR(Table3[[#This Row],[Average $ Raised per 1% of Time]]*$W$6,\"\")","v":""},{"$f":"IFERROR(Table3[[#This Row],[Average $ Raised per 1% of Time]]*$X$6,\"\")","v":""}]
[{"$f":"IF(Table5[Gift Officer Name]<>\"\",Table5[Gift Officer Name],\"\")","v":""},{"$f":"IFERROR(AVERAGE(Table5[[#This Row],[Total Dollars Raised in FY19]:[Total Dollars Raised in FY17]]),\"\")","v":""},{"$f":"IFERROR(AVERAGE(Table5[[#This Row],[Total Dollars Raised in FY19]:[Total Dollars Raised in FY17]])/Table5[[#This Row],[Estimated % of Time Spent on Fundraising]],\"\")","v":""},{"$f":"IFERROR(Table3[[#This Row],[Average $ Raised per 1% of Time]]*AVERAGEIF(Table5[Estimated % of Time Spent on Fundraising],\"<>\"\"\"),\"\")","v":""},{"$f":"IFERROR(Table3[[#This Row],[Average $ Raised per 1% of Time]]*$E$6,\"\")","v":""},{"$f":"IFERROR(Table3[[#This Row],[Average $ Raised per 1% of Time]]*$F$6,\"\")","v":""},{"$f":"IFERROR(Table3[[#This Row],[Average $ Raised per 1% of Time]]*$G$6,\"\")","v":""},{"$f":"IFERROR(Table3[[#This Row],[Average $ Raised per 1% of Time]]*$H$6,\"\")","v":""},{"$f":"IFERROR(Table3[[#This Row],[Average $ Raised per 1% of Time]]*$I$6,\"\")","v":""},{"$f":"IFERROR(Table3[[#This Row],[Average $ Raised per 1% of Time]]*$J$6,\"\")","v":""},{"$f":"IFERROR(Table3[[#This Row],[Average $ Raised per 1% of Time]]*$K$6,\"\")","v":""},{"$f":"IFERROR(Table3[[#This Row],[Average $ Raised per 1% of Time]]*$L$6,\"\")","v":""},{"$f":"IFERROR(Table3[[#This Row],[Average $ Raised per 1% of Time]]*$M$6,\"\")","v":""},{"$f":"IFERROR(Table3[[#This Row],[Average $ Raised per 1% of Time]]*$N$6,\"\")","v":""},{"$f":"IFERROR(Table3[[#This Row],[Average $ Raised per 1% of Time]]*$O$6,\"\")","v":""},{"$f":"IFERROR(Table3[[#This Row],[Average $ Raised per 1% of Time]]*$P$6,\"\")","v":""},{"$f":"IFERROR(Table3[[#This Row],[Average $ Raised per 1% of Time]]*$Q$6,\"\")","v":""},{"$f":"IFERROR(Table3[[#This Row],[Average $ Raised per 1% of Time]]*$R$6,\"\")","v":""},{"$f":"IFERROR(Table3[[#This Row],[Average $ Raised per 1% of Time]]*$S$6,\"\")","v":""},{"$f":"IFERROR(Table3[[#This Row],[Average $ Raised per 1% of Time]]*$T$6,\"\")","v":""},{"$f":"IFERROR(Table3[[#This Row],[Average $ Raised per 1% of Time]]*$U$6,\"\")","v":""},{"$f":"IFERROR(Table3[[#This Row],[Average $ Raised per 1% of Time]]*$V$6,\"\")","v":""},{"$f":"IFERROR(Table3[[#This Row],[Average $ Raised per 1% of Time]]*$W$6,\"\")","v":""},{"$f":"IFERROR(Table3[[#This Row],[Average $ Raised per 1% of Time]]*$X$6,\"\")","v":""}]
[{"$f":"IF(Table5[Gift Officer Name]<>\"\",Table5[Gift Officer Name],\"\")","v":""},{"$f":"IFERROR(AVERAGE(Table5[[#This Row],[Total Dollars Raised in FY19]:[Total Dollars Raised in FY17]]),\"\")","v":""},{"$f":"IFERROR(AVERAGE(Table5[[#This Row],[Total Dollars Raised in FY19]:[Total Dollars Raised in FY17]])/Table5[[#This Row],[Estimated % of Time Spent on Fundraising]],\"\")","v":""},{"$f":"IFERROR(Table3[[#This Row],[Average $ Raised per 1% of Time]]*AVERAGEIF(Table5[Estimated % of Time Spent on Fundraising],\"<>\"\"\"),\"\")","v":""},{"$f":"IFERROR(Table3[[#This Row],[Average $ Raised per 1% of Time]]*$E$6,\"\")","v":""},{"$f":"IFERROR(Table3[[#This Row],[Average $ Raised per 1% of Time]]*$F$6,\"\")","v":""},{"$f":"IFERROR(Table3[[#This Row],[Average $ Raised per 1% of Time]]*$G$6,\"\")","v":""},{"$f":"IFERROR(Table3[[#This Row],[Average $ Raised per 1% of Time]]*$H$6,\"\")","v":""},{"$f":"IFERROR(Table3[[#This Row],[Average $ Raised per 1% of Time]]*$I$6,\"\")","v":""},{"$f":"IFERROR(Table3[[#This Row],[Average $ Raised per 1% of Time]]*$J$6,\"\")","v":""},{"$f":"IFERROR(Table3[[#This Row],[Average $ Raised per 1% of Time]]*$K$6,\"\")","v":""},{"$f":"IFERROR(Table3[[#This Row],[Average $ Raised per 1% of Time]]*$L$6,\"\")","v":""},{"$f":"IFERROR(Table3[[#This Row],[Average $ Raised per 1% of Time]]*$M$6,\"\")","v":""},{"$f":"IFERROR(Table3[[#This Row],[Average $ Raised per 1% of Time]]*$N$6,\"\")","v":""},{"$f":"IFERROR(Table3[[#This Row],[Average $ Raised per 1% of Time]]*$O$6,\"\")","v":""},{"$f":"IFERROR(Table3[[#This Row],[Average $ Raised per 1% of Time]]*$P$6,\"\")","v":""},{"$f":"IFERROR(Table3[[#This Row],[Average $ Raised per 1% of Time]]*$Q$6,\"\")","v":""},{"$f":"IFERROR(Table3[[#This Row],[Average $ Raised per 1% of Time]]*$R$6,\"\")","v":""},{"$f":"IFERROR(Table3[[#This Row],[Average $ Raised per 1% of Time]]*$S$6,\"\")","v":""},{"$f":"IFERROR(Table3[[#This Row],[Average $ Raised per 1% of Time]]*$T$6,\"\")","v":""},{"$f":"IFERROR(Table3[[#This Row],[Average $ Raised per 1% of Time]]*$U$6,\"\")","v":""},{"$f":"IFERROR(Table3[[#This Row],[Average $ Raised per 1% of Time]]*$V$6,\"\")","v":""},{"$f":"IFERROR(Table3[[#This Row],[Average $ Raised per 1% of Time]]*$W$6,\"\")","v":""},{"$f":"IFERROR(Table3[[#This Row],[Average $ Raised per 1% of Time]]*$X$6,\"\")","v":""}]
[{"$f":"IF(Table5[Gift Officer Name]<>\"\",Table5[Gift Officer Name],\"\")","v":""},{"$f":"IFERROR(AVERAGE(Table5[[#This Row],[Total Dollars Raised in FY19]:[Total Dollars Raised in FY17]]),\"\")","v":""},{"$f":"IFERROR(AVERAGE(Table5[[#This Row],[Total Dollars Raised in FY19]:[Total Dollars Raised in FY17]])/Table5[[#This Row],[Estimated % of Time Spent on Fundraising]],\"\")","v":""},{"$f":"IFERROR(Table3[[#This Row],[Average $ Raised per 1% of Time]]*AVERAGEIF(Table5[Estimated % of Time Spent on Fundraising],\"<>\"\"\"),\"\")","v":""},{"$f":"IFERROR(Table3[[#This Row],[Average $ Raised per 1% of Time]]*$E$6,\"\")","v":""},{"$f":"IFERROR(Table3[[#This Row],[Average $ Raised per 1% of Time]]*$F$6,\"\")","v":""},{"$f":"IFERROR(Table3[[#This Row],[Average $ Raised per 1% of Time]]*$G$6,\"\")","v":""},{"$f":"IFERROR(Table3[[#This Row],[Average $ Raised per 1% of Time]]*$H$6,\"\")","v":""},{"$f":"IFERROR(Table3[[#This Row],[Average $ Raised per 1% of Time]]*$I$6,\"\")","v":""},{"$f":"IFERROR(Table3[[#This Row],[Average $ Raised per 1% of Time]]*$J$6,\"\")","v":""},{"$f":"IFERROR(Table3[[#This Row],[Average $ Raised per 1% of Time]]*$K$6,\"\")","v":""},{"$f":"IFERROR(Table3[[#This Row],[Average $ Raised per 1% of Time]]*$L$6,\"\")","v":""},{"$f":"IFERROR(Table3[[#This Row],[Average $ Raised per 1% of Time]]*$M$6,\"\")","v":""},{"$f":"IFERROR(Table3[[#This Row],[Average $ Raised per 1% of Time]]*$N$6,\"\")","v":""},{"$f":"IFERROR(Table3[[#This Row],[Average $ Raised per 1% of Time]]*$O$6,\"\")","v":""},{"$f":"IFERROR(Table3[[#This Row],[Average $ Raised per 1% of Time]]*$P$6,\"\")","v":""},{"$f":"IFERROR(Table3[[#This Row],[Average $ Raised per 1% of Time]]*$Q$6,\"\")","v":""},{"$f":"IFERROR(Table3[[#This Row],[Average $ Raised per 1% of Time]]*$R$6,\"\")","v":""},{"$f":"IFERROR(Table3[[#This Row],[Average $ Raised per 1% of Time]]*$S$6,\"\")","v":""},{"$f":"IFERROR(Table3[[#This Row],[Average $ Raised per 1% of Time]]*$T$6,\"\")","v":""},{"$f":"IFERROR(Table3[[#This Row],[Average $ Raised per 1% of Time]]*$U$6,\"\")","v":""},{"$f":"IFERROR(Table3[[#This Row],[Average $ Raised per 1% of Time]]*$V$6,\"\")","v":""},{"$f":"IFERROR(Table3[[#This Row],[Average $ Raised per 1% of Time]]*$W$6,\"\")","v":""},{"$f":"IFERROR(Table3[[#This Row],[Average $ Raised per 1% of Time]]*$X$6,\"\")","v":""}]
[{"$f":"IF(Table5[Gift Officer Name]<>\"\",Table5[Gift Officer Name],\"\")","v":""},{"$f":"IFERROR(AVERAGE(Table5[[#This Row],[Total Dollars Raised in FY19]:[Total Dollars Raised in FY17]]),\"\")","v":""},{"$f":"IFERROR(AVERAGE(Table5[[#This Row],[Total Dollars Raised in FY19]:[Total Dollars Raised in FY17]])/Table5[[#This Row],[Estimated % of Time Spent on Fundraising]],\"\")","v":""},{"$f":"IFERROR(Table3[[#This Row],[Average $ Raised per 1% of Time]]*AVERAGEIF(Table5[Estimated % of Time Spent on Fundraising],\"<>\"\"\"),\"\")","v":""},{"$f":"IFERROR(Table3[[#This Row],[Average $ Raised per 1% of Time]]*$E$6,\"\")","v":""},{"$f":"IFERROR(Table3[[#This Row],[Average $ Raised per 1% of Time]]*$F$6,\"\")","v":""},{"$f":"IFERROR(Table3[[#This Row],[Average $ Raised per 1% of Time]]*$G$6,\"\")","v":""},{"$f":"IFERROR(Table3[[#This Row],[Average $ Raised per 1% of Time]]*$H$6,\"\")","v":""},{"$f":"IFERROR(Table3[[#This Row],[Average $ Raised per 1% of Time]]*$I$6,\"\")","v":""},{"$f":"IFERROR(Table3[[#This Row],[Average $ Raised per 1% of Time]]*$J$6,\"\")","v":""},{"$f":"IFERROR(Table3[[#This Row],[Average $ Raised per 1% of Time]]*$K$6,\"\")","v":""},{"$f":"IFERROR(Table3[[#This Row],[Average $ Raised per 1% of Time]]*$L$6,\"\")","v":""},{"$f":"IFERROR(Table3[[#This Row],[Average $ Raised per 1% of Time]]*$M$6,\"\")","v":""},{"$f":"IFERROR(Table3[[#This Row],[Average $ Raised per 1% of Time]]*$N$6,\"\")","v":""},{"$f":"IFERROR(Table3[[#This Row],[Average $ Raised per 1% of Time]]*$O$6,\"\")","v":""},{"$f":"IFERROR(Table3[[#This Row],[Average $ Raised per 1% of Time]]*$P$6,\"\")","v":""},{"$f":"IFERROR(Table3[[#This Row],[Average $ Raised per 1% of Time]]*$Q$6,\"\")","v":""},{"$f":"IFERROR(Table3[[#This Row],[Average $ Raised per 1% of Time]]*$R$6,\"\")","v":""},{"$f":"IFERROR(Table3[[#This Row],[Average $ Raised per 1% of Time]]*$S$6,\"\")","v":""},{"$f":"IFERROR(Table3[[#This Row],[Average $ Raised per 1% of Time]]*$T$6,\"\")","v":""},{"$f":"IFERROR(Table3[[#This Row],[Average $ Raised per 1% of Time]]*$U$6,\"\")","v":""},{"$f":"IFERROR(Table3[[#This Row],[Average $ Raised per 1% of Time]]*$V$6,\"\")","v":""},{"$f":"IFERROR(Table3[[#This Row],[Average $ Raised per 1% of Time]]*$W$6,\"\")","v":""},{"$f":"IFERROR(Table3[[#This Row],[Average $ Raised per 1% of Time]]*$X$6,\"\")","v":""}]
[{"$f":"IF(Table5[Gift Officer Name]<>\"\",Table5[Gift Officer Name],\"\")","v":""},{"$f":"IFERROR(AVERAGE(Table5[[#This Row],[Total Dollars Raised in FY19]:[Total Dollars Raised in FY17]]),\"\")","v":""},{"$f":"IFERROR(AVERAGE(Table5[[#This Row],[Total Dollars Raised in FY19]:[Total Dollars Raised in FY17]])/Table5[[#This Row],[Estimated % of Time Spent on Fundraising]],\"\")","v":""},{"$f":"IFERROR(Table3[[#This Row],[Average $ Raised per 1% of Time]]*AVERAGEIF(Table5[Estimated % of Time Spent on Fundraising],\"<>\"\"\"),\"\")","v":""},{"$f":"IFERROR(Table3[[#This Row],[Average $ Raised per 1% of Time]]*$E$6,\"\")","v":""},{"$f":"IFERROR(Table3[[#This Row],[Average $ Raised per 1% of Time]]*$F$6,\"\")","v":""},{"$f":"IFERROR(Table3[[#This Row],[Average $ Raised per 1% of Time]]*$G$6,\"\")","v":""},{"$f":"IFERROR(Table3[[#This Row],[Average $ Raised per 1% of Time]]*$H$6,\"\")","v":""},{"$f":"IFERROR(Table3[[#This Row],[Average $ Raised per 1% of Time]]*$I$6,\"\")","v":""},{"$f":"IFERROR(Table3[[#This Row],[Average $ Raised per 1% of Time]]*$J$6,\"\")","v":""},{"$f":"IFERROR(Table3[[#This Row],[Average $ Raised per 1% of Time]]*$K$6,\"\")","v":""},{"$f":"IFERROR(Table3[[#This Row],[Average $ Raised per 1% of Time]]*$L$6,\"\")","v":""},{"$f":"IFERROR(Table3[[#This Row],[Average $ Raised per 1% of Time]]*$M$6,\"\")","v":""},{"$f":"IFERROR(Table3[[#This Row],[Average $ Raised per 1% of Time]]*$N$6,\"\")","v":""},{"$f":"IFERROR(Table3[[#This Row],[Average $ Raised per 1% of Time]]*$O$6,\"\")","v":""},{"$f":"IFERROR(Table3[[#This Row],[Average $ Raised per 1% of Time]]*$P$6,\"\")","v":""},{"$f":"IFERROR(Table3[[#This Row],[Average $ Raised per 1% of Time]]*$Q$6,\"\")","v":""},{"$f":"IFERROR(Table3[[#This Row],[Average $ Raised per 1% of Time]]*$R$6,\"\")","v":""},{"$f":"IFERROR(Table3[[#This Row],[Average $ Raised per 1% of Time]]*$S$6,\"\")","v":""},{"$f":"IFERROR(Table3[[#This Row],[Average $ Raised per 1% of Time]]*$T$6,\"\")","v":""},{"$f":"IFERROR(Table3[[#This Row],[Average $ Raised per 1% of Time]]*$U$6,\"\")","v":""},{"$f":"IFERROR(Table3[[#This Row],[Average $ Raised per 1% of Time]]*$V$6,\"\")","v":""},{"$f":"IFERROR(Table3[[#This Row],[Average $ Raised per 1% of Time]]*$W$6,\"\")","v":""},{"$f":"IFERROR(Table3[[#This Row],[Average $ Raised per 1% of Time]]*$X$6,\"\")","v":""}]
[{"$f":"IF(Table5[Gift Officer Name]<>\"\",Table5[Gift Officer Name],\"\")","v":""},{"$f":"IFERROR(AVERAGE(Table5[[#This Row],[Total Dollars Raised in FY19]:[Total Dollars Raised in FY17]]),\"\")","v":""},{"$f":"IFERROR(AVERAGE(Table5[[#This Row],[Total Dollars Raised in FY19]:[Total Dollars Raised in FY17]])/Table5[[#This Row],[Estimated % of Time Spent on Fundraising]],\"\")","v":""},{"$f":"IFERROR(Table3[[#This Row],[Average $ Raised per 1% of Time]]*AVERAGEIF(Table5[Estimated % of Time Spent on Fundraising],\"<>\"\"\"),\"\")","v":""},{"$f":"IFERROR(Table3[[#This Row],[Average $ Raised per 1% of Time]]*$E$6,\"\")","v":""},{"$f":"IFERROR(Table3[[#This Row],[Average $ Raised per 1% of Time]]*$F$6,\"\")","v":""},{"$f":"IFERROR(Table3[[#This Row],[Average $ Raised per 1% of Time]]*$G$6,\"\")","v":""},{"$f":"IFERROR(Table3[[#This Row],[Average $ Raised per 1% of Time]]*$H$6,\"\")","v":""},{"$f":"IFERROR(Table3[[#This Row],[Average $ Raised per 1% of Time]]*$I$6,\"\")","v":""},{"$f":"IFERROR(Table3[[#This Row],[Average $ Raised per 1% of Time]]*$J$6,\"\")","v":""},{"$f":"IFERROR(Table3[[#This Row],[Average $ Raised per 1% of Time]]*$K$6,\"\")","v":""},{"$f":"IFERROR(Table3[[#This Row],[Average $ Raised per 1% of Time]]*$L$6,\"\")","v":""},{"$f":"IFERROR(Table3[[#This Row],[Average $ Raised per 1% of Time]]*$M$6,\"\")","v":""},{"$f":"IFERROR(Table3[[#This Row],[Average $ Raised per 1% of Time]]*$N$6,\"\")","v":""},{"$f":"IFERROR(Table3[[#This Row],[Average $ Raised per 1% of Time]]*$O$6,\"\")","v":""},{"$f":"IFERROR(Table3[[#This Row],[Average $ Raised per 1% of Time]]*$P$6,\"\")","v":""},{"$f":"IFERROR(Table3[[#This Row],[Average $ Raised per 1% of Time]]*$Q$6,\"\")","v":""},{"$f":"IFERROR(Table3[[#This Row],[Average $ Raised per 1% of Time]]*$R$6,\"\")","v":""},{"$f":"IFERROR(Table3[[#This Row],[Average $ Raised per 1% of Time]]*$S$6,\"\")","v":""},{"$f":"IFERROR(Table3[[#This Row],[Average $ Raised per 1% of Time]]*$T$6,\"\")","v":""},{"$f":"IFERROR(Table3[[#This Row],[Average $ Raised per 1% of Time]]*$U$6,\"\")","v":""},{"$f":"IFERROR(Table3[[#This Row],[Average $ Raised per 1% of Time]]*$V$6,\"\")","v":""},{"$f":"IFERROR(Table3[[#This Row],[Average $ Raised per 1% of Time]]*$W$6,\"\")","v":""},{"$f":"IFERROR(Table3[[#This Row],[Average $ Raised per 1% of Time]]*$X$6,\"\")","v":""}]
[{"$f":"IF(Table5[Gift Officer Name]<>\"\",Table5[Gift Officer Name],\"\")","v":""},{"$f":"IFERROR(AVERAGE(Table5[[#This Row],[Total Dollars Raised in FY19]:[Total Dollars Raised in FY17]]),\"\")","v":""},{"$f":"IFERROR(AVERAGE(Table5[[#This Row],[Total Dollars Raised in FY19]:[Total Dollars Raised in FY17]])/Table5[[#This Row],[Estimated % of Time Spent on Fundraising]],\"\")","v":""},{"$f":"IFERROR(Table3[[#This Row],[Average $ Raised per 1% of Time]]*AVERAGEIF(Table5[Estimated % of Time Spent on Fundraising],\"<>\"\"\"),\"\")","v":""},{"$f":"IFERROR(Table3[[#This Row],[Average $ Raised per 1% of Time]]*$E$6,\"\")","v":""},{"$f":"IFERROR(Table3[[#This Row],[Average $ Raised per 1% of Time]]*$F$6,\"\")","v":""},{"$f":"IFERROR(Table3[[#This Row],[Average $ Raised per 1% of Time]]*$G$6,\"\")","v":""},{"$f":"IFERROR(Table3[[#This Row],[Average $ Raised per 1% of Time]]*$H$6,\"\")","v":""},{"$f":"IFERROR(Table3[[#This Row],[Average $ Raised per 1% of Time]]*$I$6,\"\")","v":""},{"$f":"IFERROR(Table3[[#This Row],[Average $ Raised per 1% of Time]]*$J$6,\"\")","v":""},{"$f":"IFERROR(Table3[[#This Row],[Average $ Raised per 1% of Time]]*$K$6,\"\")","v":""},{"$f":"IFERROR(Table3[[#This Row],[Average $ Raised per 1% of Time]]*$L$6,\"\")","v":""},{"$f":"IFERROR(Table3[[#This Row],[Average $ Raised per 1% of Time]]*$M$6,\"\")","v":""},{"$f":"IFERROR(Table3[[#This Row],[Average $ Raised per 1% of Time]]*$N$6,\"\")","v":""},{"$f":"IFERROR(Table3[[#This Row],[Average $ Raised per 1% of Time]]*$O$6,\"\")","v":""},{"$f":"IFERROR(Table3[[#This Row],[Average $ Raised per 1% of Time]]*$P$6,\"\")","v":""},{"$f":"IFERROR(Table3[[#This Row],[Average $ Raised per 1% of Time]]*$Q$6,\"\")","v":""},{"$f":"IFERROR(Table3[[#This Row],[Average $ Raised per 1% of Time]]*$R$6,\"\")","v":""},{"$f":"IFERROR(Table3[[#This Row],[Average $ Raised per 1% of Time]]*$S$6,\"\")","v":""},{"$f":"IFERROR(Table3[[#This Row],[Average $ Raised per 1% of Time]]*$T$6,\"\")","v":""},{"$f":"IFERROR(Table3[[#This Row],[Average $ Raised per 1% of Time]]*$U$6,\"\")","v":""},{"$f":"IFERROR(Table3[[#This Row],[Average $ Raised per 1% of Time]]*$V$6,\"\")","v":""},{"$f":"IFERROR(Table3[[#This Row],[Average $ Raised per 1% of Time]]*$W$6,\"\")","v":""},{"$f":"IFERROR(Table3[[#This Row],[Average $ Raised per 1% of Time]]*$X$6,\"\")","v":""}]
[{"$f":"IF(Table5[Gift Officer Name]<>\"\",Table5[Gift Officer Name],\"\")","v":""},{"$f":"IFERROR(AVERAGE(Table5[[#This Row],[Total Dollars Raised in FY19]:[Total Dollars Raised in FY17]]),\"\")","v":""},{"$f":"IFERROR(AVERAGE(Table5[[#This Row],[Total Dollars Raised in FY19]:[Total Dollars Raised in FY17]])/Table5[[#This Row],[Estimated % of Time Spent on Fundraising]],\"\")","v":""},{"$f":"IFERROR(Table3[[#This Row],[Average $ Raised per 1% of Time]]*AVERAGEIF(Table5[Estimated % of Time Spent on Fundraising],\"<>\"\"\"),\"\")","v":""},{"$f":"IFERROR(Table3[[#This Row],[Average $ Raised per 1% of Time]]*$E$6,\"\")","v":""},{"$f":"IFERROR(Table3[[#This Row],[Average $ Raised per 1% of Time]]*$F$6,\"\")","v":""},{"$f":"IFERROR(Table3[[#This Row],[Average $ Raised per 1% of Time]]*$G$6,\"\")","v":""},{"$f":"IFERROR(Table3[[#This Row],[Average $ Raised per 1% of Time]]*$H$6,\"\")","v":""},{"$f":"IFERROR(Table3[[#This Row],[Average $ Raised per 1% of Time]]*$I$6,\"\")","v":""},{"$f":"IFERROR(Table3[[#This Row],[Average $ Raised per 1% of Time]]*$J$6,\"\")","v":""},{"$f":"IFERROR(Table3[[#This Row],[Average $ Raised per 1% of Time]]*$K$6,\"\")","v":""},{"$f":"IFERROR(Table3[[#This Row],[Average $ Raised per 1% of Time]]*$L$6,\"\")","v":""},{"$f":"IFERROR(Table3[[#This Row],[Average $ Raised per 1% of Time]]*$M$6,\"\")","v":""},{"$f":"IFERROR(Table3[[#This Row],[Average $ Raised per 1% of Time]]*$N$6,\"\")","v":""},{"$f":"IFERROR(Table3[[#This Row],[Average $ Raised per 1% of Time]]*$O$6,\"\")","v":""},{"$f":"IFERROR(Table3[[#This Row],[Average $ Raised per 1% of Time]]*$P$6,\"\")","v":""},{"$f":"IFERROR(Table3[[#This Row],[Average $ Raised per 1% of Time]]*$Q$6,\"\")","v":""},{"$f":"IFERROR(Table3[[#This Row],[Average $ Raised per 1% of Time]]*$R$6,\"\")","v":""},{"$f":"IFERROR(Table3[[#This Row],[Average $ Raised per 1% of Time]]*$S$6,\"\")","v":""},{"$f":"IFERROR(Table3[[#This Row],[Average $ Raised per 1% of Time]]*$T$6,\"\")","v":""},{"$f":"IFERROR(Table3[[#This Row],[Average $ Raised per 1% of Time]]*$U$6,\"\")","v":""},{"$f":"IFERROR(Table3[[#This Row],[Average $ Raised per 1% of Time]]*$V$6,\"\")","v":""},{"$f":"IFERROR(Table3[[#This Row],[Average $ Raised per 1% of Time]]*$W$6,\"\")","v":""},{"$f":"IFERROR(Table3[[#This Row],[Average $ Raised per 1% of Time]]*$X$6,\"\")","v":""}]
[{"$f":"IF(Table5[Gift Officer Name]<>\"\",Table5[Gift Officer Name],\"\")","v":""},{"$f":"IFERROR(AVERAGE(Table5[[#This Row],[Total Dollars Raised in FY19]:[Total Dollars Raised in FY17]]),\"\")","v":""},{"$f":"IFERROR(AVERAGE(Table5[[#This Row],[Total Dollars Raised in FY19]:[Total Dollars Raised in FY17]])/Table5[[#This Row],[Estimated % of Time Spent on Fundraising]],\"\")","v":""},{"$f":"IFERROR(Table3[[#This Row],[Average $ Raised per 1% of Time]]*AVERAGEIF(Table5[Estimated % of Time Spent on Fundraising],\"<>\"\"\"),\"\")","v":""},{"$f":"IFERROR(Table3[[#This Row],[Average $ Raised per 1% of Time]]*$E$6,\"\")","v":""},{"$f":"IFERROR(Table3[[#This Row],[Average $ Raised per 1% of Time]]*$F$6,\"\")","v":""},{"$f":"IFERROR(Table3[[#This Row],[Average $ Raised per 1% of Time]]*$G$6,\"\")","v":""},{"$f":"IFERROR(Table3[[#This Row],[Average $ Raised per 1% of Time]]*$H$6,\"\")","v":""},{"$f":"IFERROR(Table3[[#This Row],[Average $ Raised per 1% of Time]]*$I$6,\"\")","v":""},{"$f":"IFERROR(Table3[[#This Row],[Average $ Raised per 1% of Time]]*$J$6,\"\")","v":""},{"$f":"IFERROR(Table3[[#This Row],[Average $ Raised per 1% of Time]]*$K$6,\"\")","v":""},{"$f":"IFERROR(Table3[[#This Row],[Average $ Raised per 1% of Time]]*$L$6,\"\")","v":""},{"$f":"IFERROR(Table3[[#This Row],[Average $ Raised per 1% of Time]]*$M$6,\"\")","v":""},{"$f":"IFERROR(Table3[[#This Row],[Average $ Raised per 1% of Time]]*$N$6,\"\")","v":""},{"$f":"IFERROR(Table3[[#This Row],[Average $ Raised per 1% of Time]]*$O$6,\"\")","v":""},{"$f":"IFERROR(Table3[[#This Row],[Average $ Raised per 1% of Time]]*$P$6,\"\")","v":""},{"$f":"IFERROR(Table3[[#This Row],[Average $ Raised per 1% of Time]]*$Q$6,\"\")","v":""},{"$f":"IFERROR(Table3[[#This Row],[Average $ Raised per 1% of Time]]*$R$6,\"\")","v":""},{"$f":"IFERROR(Table3[[#This Row],[Average $ Raised per 1% of Time]]*$S$6,\"\")","v":""},{"$f":"IFERROR(Table3[[#This Row],[Average $ Raised per 1% of Time]]*$T$6,\"\")","v":""},{"$f":"IFERROR(Table3[[#This Row],[Average $ Raised per 1% of Time]]*$U$6,\"\")","v":""},{"$f":"IFERROR(Table3[[#This Row],[Average $ Raised per 1% of Time]]*$V$6,\"\")","v":""},{"$f":"IFERROR(Table3[[#This Row],[Average $ Raised per 1% of Time]]*$W$6,\"\")","v":""},{"$f":"IFERROR(Table3[[#This Row],[Average $ Raised per 1% of Time]]*$X$6,\"\")","v":""}]
[{"$f":"IF(Table5[Gift Officer Name]<>\"\",Table5[Gift Officer Name],\"\")","v":""},{"$f":"IFERROR(AVERAGE(Table5[[#This Row],[Total Dollars Raised in FY19]:[Total Dollars Raised in FY17]]),\"\")","v":""},{"$f":"IFERROR(AVERAGE(Table5[[#This Row],[Total Dollars Raised in FY19]:[Total Dollars Raised in FY17]])/Table5[[#This Row],[Estimated % of Time Spent on Fundraising]],\"\")","v":""},{"$f":"IFERROR(Table3[[#This Row],[Average $ Raised per 1% of Time]]*AVERAGEIF(Table5[Estimated % of Time Spent on Fundraising],\"<>\"\"\"),\"\")","v":""},{"$f":"IFERROR(Table3[[#This Row],[Average $ Raised per 1% of Time]]*$E$6,\"\")","v":""},{"$f":"IFERROR(Table3[[#This Row],[Average $ Raised per 1% of Time]]*$F$6,\"\")","v":""},{"$f":"IFERROR(Table3[[#This Row],[Average $ Raised per 1% of Time]]*$G$6,\"\")","v":""},{"$f":"IFERROR(Table3[[#This Row],[Average $ Raised per 1% of Time]]*$H$6,\"\")","v":""},{"$f":"IFERROR(Table3[[#This Row],[Average $ Raised per 1% of Time]]*$I$6,\"\")","v":""},{"$f":"IFERROR(Table3[[#This Row],[Average $ Raised per 1% of Time]]*$J$6,\"\")","v":""},{"$f":"IFERROR(Table3[[#This Row],[Average $ Raised per 1% of Time]]*$K$6,\"\")","v":""},{"$f":"IFERROR(Table3[[#This Row],[Average $ Raised per 1% of Time]]*$L$6,\"\")","v":""},{"$f":"IFERROR(Table3[[#This Row],[Average $ Raised per 1% of Time]]*$M$6,\"\")","v":""},{"$f":"IFERROR(Table3[[#This Row],[Average $ Raised per 1% of Time]]*$N$6,\"\")","v":""},{"$f":"IFERROR(Table3[[#This Row],[Average $ Raised per 1% of Time]]*$O$6,\"\")","v":""},{"$f":"IFERROR(Table3[[#This Row],[Average $ Raised per 1% of Time]]*$P$6,\"\")","v":""},{"$f":"IFERROR(Table3[[#This Row],[Average $ Raised per 1% of Time]]*$Q$6,\"\")","v":""},{"$f":"IFERROR(Table3[[#This Row],[Average $ Raised per 1% of Time]]*$R$6,\"\")","v":""},{"$f":"IFERROR(Table3[[#This Row],[Average $ Raised per 1% of Time]]*$S$6,\"\")","v":""},{"$f":"IFERROR(Table3[[#This Row],[Average $ Raised per 1% of Time]]*$T$6,\"\")","v":""},{"$f":"IFERROR(Table3[[#This Row],[Average $ Raised per 1% of Time]]*$U$6,\"\")","v":""},{"$f":"IFERROR(Table3[[#This Row],[Average $ Raised per 1% of Time]]*$V$6,\"\")","v":""},{"$f":"IFERROR(Table3[[#This Row],[Average $ Raised per 1% of Time]]*$W$6,\"\")","v":""},{"$f":"IFERROR(Table3[[#This Row],[Average $ Raised per 1% of Time]]*$X$6,\"\")","v":""}]
[{"$f":"IF(Table5[Gift Officer Name]<>\"\",Table5[Gift Officer Name],\"\")","v":""},{"$f":"IFERROR(AVERAGE(Table5[[#This Row],[Total Dollars Raised in FY19]:[Total Dollars Raised in FY17]]),\"\")","v":""},{"$f":"IFERROR(AVERAGE(Table5[[#This Row],[Total Dollars Raised in FY19]:[Total Dollars Raised in FY17]])/Table5[[#This Row],[Estimated % of Time Spent on Fundraising]],\"\")","v":""},{"$f":"IFERROR(Table3[[#This Row],[Average $ Raised per 1% of Time]]*AVERAGEIF(Table5[Estimated % of Time Spent on Fundraising],\"<>\"\"\"),\"\")","v":""},{"$f":"IFERROR(Table3[[#This Row],[Average $ Raised per 1% of Time]]*$E$6,\"\")","v":""},{"$f":"IFERROR(Table3[[#This Row],[Average $ Raised per 1% of Time]]*$F$6,\"\")","v":""},{"$f":"IFERROR(Table3[[#This Row],[Average $ Raised per 1% of Time]]*$G$6,\"\")","v":""},{"$f":"IFERROR(Table3[[#This Row],[Average $ Raised per 1% of Time]]*$H$6,\"\")","v":""},{"$f":"IFERROR(Table3[[#This Row],[Average $ Raised per 1% of Time]]*$I$6,\"\")","v":""},{"$f":"IFERROR(Table3[[#This Row],[Average $ Raised per 1% of Time]]*$J$6,\"\")","v":""},{"$f":"IFERROR(Table3[[#This Row],[Average $ Raised per 1% of Time]]*$K$6,\"\")","v":""},{"$f":"IFERROR(Table3[[#This Row],[Average $ Raised per 1% of Time]]*$L$6,\"\")","v":""},{"$f":"IFERROR(Table3[[#This Row],[Average $ Raised per 1% of Time]]*$M$6,\"\")","v":""},{"$f":"IFERROR(Table3[[#This Row],[Average $ Raised per 1% of Time]]*$N$6,\"\")","v":""},{"$f":"IFERROR(Table3[[#This Row],[Average $ Raised per 1% of Time]]*$O$6,\"\")","v":""},{"$f":"IFERROR(Table3[[#This Row],[Average $ Raised per 1% of Time]]*$P$6,\"\")","v":""},{"$f":"IFERROR(Table3[[#This Row],[Average $ Raised per 1% of Time]]*$Q$6,\"\")","v":""},{"$f":"IFERROR(Table3[[#This Row],[Average $ Raised per 1% of Time]]*$R$6,\"\")","v":""},{"$f":"IFERROR(Table3[[#This Row],[Average $ Raised per 1% of Time]]*$S$6,\"\")","v":""},{"$f":"IFERROR(Table3[[#This Row],[Average $ Raised per 1% of Time]]*$T$6,\"\")","v":""},{"$f":"IFERROR(Table3[[#This Row],[Average $ Raised per 1% of Time]]*$U$6,\"\")","v":""},{"$f":"IFERROR(Table3[[#This Row],[Average $ Raised per 1% of Time]]*$V$6,\"\")","v":""},{"$f":"IFERROR(Table3[[#This Row],[Average $ Raised per 1% of Time]]*$W$6,\"\")","v":""},{"$f":"IFERROR(Table3[[#This Row],[Average $ Raised per 1% of Time]]*$X$6,\"\")","v":""}]
[{"$f":"IF(Table5[Gift Officer Name]<>\"\",Table5[Gift Officer Name],\"\")","v":""},{"$f":"IFERROR(AVERAGE(Table5[[#This Row],[Total Dollars Raised in FY19]:[Total Dollars Raised in FY17]]),\"\")","v":""},{"$f":"IFERROR(AVERAGE(Table5[[#This Row],[Total Dollars Raised in FY19]:[Total Dollars Raised in FY17]])/Table5[[#This Row],[Estimated % of Time Spent on Fundraising]],\"\")","v":""},{"$f":"IFERROR(Table3[[#This Row],[Average $ Raised per 1% of Time]]*AVERAGEIF(Table5[Estimated % of Time Spent on Fundraising],\"<>\"\"\"),\"\")","v":""},{"$f":"IFERROR(Table3[[#This Row],[Average $ Raised per 1% of Time]]*$E$6,\"\")","v":""},{"$f":"IFERROR(Table3[[#This Row],[Average $ Raised per 1% of Time]]*$F$6,\"\")","v":""},{"$f":"IFERROR(Table3[[#This Row],[Average $ Raised per 1% of Time]]*$G$6,\"\")","v":""},{"$f":"IFERROR(Table3[[#This Row],[Average $ Raised per 1% of Time]]*$H$6,\"\")","v":""},{"$f":"IFERROR(Table3[[#This Row],[Average $ Raised per 1% of Time]]*$I$6,\"\")","v":""},{"$f":"IFERROR(Table3[[#This Row],[Average $ Raised per 1% of Time]]*$J$6,\"\")","v":""},{"$f":"IFERROR(Table3[[#This Row],[Average $ Raised per 1% of Time]]*$K$6,\"\")","v":""},{"$f":"IFERROR(Table3[[#This Row],[Average $ Raised per 1% of Time]]*$L$6,\"\")","v":""},{"$f":"IFERROR(Table3[[#This Row],[Average $ Raised per 1% of Time]]*$M$6,\"\")","v":""},{"$f":"IFERROR(Table3[[#This Row],[Average $ Raised per 1% of Time]]*$N$6,\"\")","v":""},{"$f":"IFERROR(Table3[[#This Row],[Average $ Raised per 1% of Time]]*$O$6,\"\")","v":""},{"$f":"IFERROR(Table3[[#This Row],[Average $ Raised per 1% of Time]]*$P$6,\"\")","v":""},{"$f":"IFERROR(Table3[[#This Row],[Average $ Raised per 1% of Time]]*$Q$6,\"\")","v":""},{"$f":"IFERROR(Table3[[#This Row],[Average $ Raised per 1% of Time]]*$R$6,\"\")","v":""},{"$f":"IFERROR(Table3[[#This Row],[Average $ Raised per 1% of Time]]*$S$6,\"\")","v":""},{"$f":"IFERROR(Table3[[#This Row],[Average $ Raised per 1% of Time]]*$T$6,\"\")","v":""},{"$f":"IFERROR(Table3[[#This Row],[Average $ Raised per 1% of Time]]*$U$6,\"\")","v":""},{"$f":"IFERROR(Table3[[#This Row],[Average $ Raised per 1% of Time]]*$V$6,\"\")","v":""},{"$f":"IFERROR(Table3[[#This Row],[Average $ Raised per 1% of Time]]*$W$6,\"\")","v":""},{"$f":"IFERROR(Table3[[#This Row],[Average $ Raised per 1% of Time]]*$X$6,\"\")","v":""}]
[{"$f":"IF(Table5[Gift Officer Name]<>\"\",Table5[Gift Officer Name],\"\")","v":""},{"$f":"IFERROR(AVERAGE(Table5[[#This Row],[Total Dollars Raised in FY19]:[Total Dollars Raised in FY17]]),\"\")","v":""},{"$f":"IFERROR(AVERAGE(Table5[[#This Row],[Total Dollars Raised in FY19]:[Total Dollars Raised in FY17]])/Table5[[#This Row],[Estimated % of Time Spent on Fundraising]],\"\")","v":""},{"$f":"IFERROR(Table3[[#This Row],[Average $ Raised per 1% of Time]]*AVERAGEIF(Table5[Estimated % of Time Spent on Fundraising],\"<>\"\"\"),\"\")","v":""},{"$f":"IFERROR(Table3[[#This Row],[Average $ Raised per 1% of Time]]*$E$6,\"\")","v":""},{"$f":"IFERROR(Table3[[#This Row],[Average $ Raised per 1% of Time]]*$F$6,\"\")","v":""},{"$f":"IFERROR(Table3[[#This Row],[Average $ Raised per 1% of Time]]*$G$6,\"\")","v":""},{"$f":"IFERROR(Table3[[#This Row],[Average $ Raised per 1% of Time]]*$H$6,\"\")","v":""},{"$f":"IFERROR(Table3[[#This Row],[Average $ Raised per 1% of Time]]*$I$6,\"\")","v":""},{"$f":"IFERROR(Table3[[#This Row],[Average $ Raised per 1% of Time]]*$J$6,\"\")","v":""},{"$f":"IFERROR(Table3[[#This Row],[Average $ Raised per 1% of Time]]*$K$6,\"\")","v":""},{"$f":"IFERROR(Table3[[#This Row],[Average $ Raised per 1% of Time]]*$L$6,\"\")","v":""},{"$f":"IFERROR(Table3[[#This Row],[Average $ Raised per 1% of Time]]*$M$6,\"\")","v":""},{"$f":"IFERROR(Table3[[#This Row],[Average $ Raised per 1% of Time]]*$N$6,\"\")","v":""},{"$f":"IFERROR(Table3[[#This Row],[Average $ Raised per 1% of Time]]*$O$6,\"\")","v":""},{"$f":"IFERROR(Table3[[#This Row],[Average $ Raised per 1% of Time]]*$P$6,\"\")","v":""},{"$f":"IFERROR(Table3[[#This Row],[Average $ Raised per 1% of Time]]*$Q$6,\"\")","v":""},{"$f":"IFERROR(Table3[[#This Row],[Average $ Raised per 1% of Time]]*$R$6,\"\")","v":""},{"$f":"IFERROR(Table3[[#This Row],[Average $ Raised per 1% of Time]]*$S$6,\"\")","v":""},{"$f":"IFERROR(Table3[[#This Row],[Average $ Raised per 1% of Time]]*$T$6,\"\")","v":""},{"$f":"IFERROR(Table3[[#This Row],[Average $ Raised per 1% of Time]]*$U$6,\"\")","v":""},{"$f":"IFERROR(Table3[[#This Row],[Average $ Raised per 1% of Time]]*$V$6,\"\")","v":""},{"$f":"IFERROR(Table3[[#This Row],[Average $ Raised per 1% of Time]]*$W$6,\"\")","v":""},{"$f":"IFERROR(Table3[[#This Row],[Average $ Raised per 1% of Time]]*$X$6,\"\")","v":""}]
[{"$f":"IF(Table5[Gift Officer Name]<>\"\",Table5[Gift Officer Name],\"\")","v":""},{"$f":"IFERROR(AVERAGE(Table5[[#This Row],[Total Dollars Raised in FY19]:[Total Dollars Raised in FY17]]),\"\")","v":""},{"$f":"IFERROR(AVERAGE(Table5[[#This Row],[Total Dollars Raised in FY19]:[Total Dollars Raised in FY17]])/Table5[[#This Row],[Estimated % of Time Spent on Fundraising]],\"\")","v":""},{"$f":"IFERROR(Table3[[#This Row],[Average $ Raised per 1% of Time]]*AVERAGEIF(Table5[Estimated % of Time Spent on Fundraising],\"<>\"\"\"),\"\")","v":""},{"$f":"IFERROR(Table3[[#This Row],[Average $ Raised per 1% of Time]]*$E$6,\"\")","v":""},{"$f":"IFERROR(Table3[[#This Row],[Average $ Raised per 1% of Time]]*$F$6,\"\")","v":""},{"$f":"IFERROR(Table3[[#This Row],[Average $ Raised per 1% of Time]]*$G$6,\"\")","v":""},{"$f":"IFERROR(Table3[[#This Row],[Average $ Raised per 1% of Time]]*$H$6,\"\")","v":""},{"$f":"IFERROR(Table3[[#This Row],[Average $ Raised per 1% of Time]]*$I$6,\"\")","v":""},{"$f":"IFERROR(Table3[[#This Row],[Average $ Raised per 1% of Time]]*$J$6,\"\")","v":""},{"$f":"IFERROR(Table3[[#This Row],[Average $ Raised per 1% of Time]]*$K$6,\"\")","v":""},{"$f":"IFERROR(Table3[[#This Row],[Average $ Raised per 1% of Time]]*$L$6,\"\")","v":""},{"$f":"IFERROR(Table3[[#This Row],[Average $ Raised per 1% of Time]]*$M$6,\"\")","v":""},{"$f":"IFERROR(Table3[[#This Row],[Average $ Raised per 1% of Time]]*$N$6,\"\")","v":""},{"$f":"IFERROR(Table3[[#This Row],[Average $ Raised per 1% of Time]]*$O$6,\"\")","v":""},{"$f":"IFERROR(Table3[[#This Row],[Average $ Raised per 1% of Time]]*$P$6,\"\")","v":""},{"$f":"IFERROR(Table3[[#This Row],[Average $ Raised per 1% of Time]]*$Q$6,\"\")","v":""},{"$f":"IFERROR(Table3[[#This Row],[Average $ Raised per 1% of Time]]*$R$6,\"\")","v":""},{"$f":"IFERROR(Table3[[#This Row],[Average $ Raised per 1% of Time]]*$S$6,\"\")","v":""},{"$f":"IFERROR(Table3[[#This Row],[Average $ Raised per 1% of Time]]*$T$6,\"\")","v":""},{"$f":"IFERROR(Table3[[#This Row],[Average $ Raised per 1% of Time]]*$U$6,\"\")","v":""},{"$f":"IFERROR(Table3[[#This Row],[Average $ Raised per 1% of Time]]*$V$6,\"\")","v":""},{"$f":"IFERROR(Table3[[#This Row],[Average $ Raised per 1% of Time]]*$W$6,\"\")","v":""},{"$f":"IFERROR(Table3[[#This Row],[Average $ Raised per 1% of Time]]*$X$6,\"\")","v":""}]
[{"$f":"IF(Table5[Gift Officer Name]<>\"\",Table5[Gift Officer Name],\"\")","v":""},{"$f":"IFERROR(AVERAGE(Table5[[#This Row],[Total Dollars Raised in FY19]:[Total Dollars Raised in FY17]]),\"\")","v":""},{"$f":"IFERROR(AVERAGE(Table5[[#This Row],[Total Dollars Raised in FY19]:[Total Dollars Raised in FY17]])/Table5[[#This Row],[Estimated % of Time Spent on Fundraising]],\"\")","v":""},{"$f":"IFERROR(Table3[[#This Row],[Average $ Raised per 1% of Time]]*AVERAGEIF(Table5[Estimated % of Time Spent on Fundraising],\"<>\"\"\"),\"\")","v":""},{"$f":"IFERROR(Table3[[#This Row],[Average $ Raised per 1% of Time]]*$E$6,\"\")","v":""},{"$f":"IFERROR(Table3[[#This Row],[Average $ Raised per 1% of Time]]*$F$6,\"\")","v":""},{"$f":"IFERROR(Table3[[#This Row],[Average $ Raised per 1% of Time]]*$G$6,\"\")","v":""},{"$f":"IFERROR(Table3[[#This Row],[Average $ Raised per 1% of Time]]*$H$6,\"\")","v":""},{"$f":"IFERROR(Table3[[#This Row],[Average $ Raised per 1% of Time]]*$I$6,\"\")","v":""},{"$f":"IFERROR(Table3[[#This Row],[Average $ Raised per 1% of Time]]*$J$6,\"\")","v":""},{"$f":"IFERROR(Table3[[#This Row],[Average $ Raised per 1% of Time]]*$K$6,\"\")","v":""},{"$f":"IFERROR(Table3[[#This Row],[Average $ Raised per 1% of Time]]*$L$6,\"\")","v":""},{"$f":"IFERROR(Table3[[#This Row],[Average $ Raised per 1% of Time]]*$M$6,\"\")","v":""},{"$f":"IFERROR(Table3[[#This Row],[Average $ Raised per 1% of Time]]*$N$6,\"\")","v":""},{"$f":"IFERROR(Table3[[#This Row],[Average $ Raised per 1% of Time]]*$O$6,\"\")","v":""},{"$f":"IFERROR(Table3[[#This Row],[Average $ Raised per 1% of Time]]*$P$6,\"\")","v":""},{"$f":"IFERROR(Table3[[#This Row],[Average $ Raised per 1% of Time]]*$Q$6,\"\")","v":""},{"$f":"IFERROR(Table3[[#This Row],[Average $ Raised per 1% of Time]]*$R$6,\"\")","v":""},{"$f":"IFERROR(Table3[[#This Row],[Average $ Raised per 1% of Time]]*$S$6,\"\")","v":""},{"$f":"IFERROR(Table3[[#This Row],[Average $ Raised per 1% of Time]]*$T$6,\"\")","v":""},{"$f":"IFERROR(Table3[[#This Row],[Average $ Raised per 1% of Time]]*$U$6,\"\")","v":""},{"$f":"IFERROR(Table3[[#This Row],[Average $ Raised per 1% of Time]]*$V$6,\"\")","v":""},{"$f":"IFERROR(Table3[[#This Row],[Average $ Raised per 1% of Time]]*$W$6,\"\")","v":""},{"$f":"IFERROR(Table3[[#This Row],[Average $ Raised per 1% of Time]]*$X$6,\"\")","v":""}]
[{"$f":"IF(Table5[Gift Officer Name]<>\"\",Table5[Gift Officer Name],\"\")","v":""},{"$f":"IFERROR(AVERAGE(Table5[[#This Row],[Total Dollars Raised in FY19]:[Total Dollars Raised in FY17]]),\"\")","v":""},{"$f":"IFERROR(AVERAGE(Table5[[#This Row],[Total Dollars Raised in FY19]:[Total Dollars Raised in FY17]])/Table5[[#This Row],[Estimated % of Time Spent on Fundraising]],\"\")","v":""},{"$f":"IFERROR(Table3[[#This Row],[Average $ Raised per 1% of Time]]*AVERAGEIF(Table5[Estimated % of Time Spent on Fundraising],\"<>\"\"\"),\"\")","v":""},{"$f":"IFERROR(Table3[[#This Row],[Average $ Raised per 1% of Time]]*$E$6,\"\")","v":""},{"$f":"IFERROR(Table3[[#This Row],[Average $ Raised per 1% of Time]]*$F$6,\"\")","v":""},{"$f":"IFERROR(Table3[[#This Row],[Average $ Raised per 1% of Time]]*$G$6,\"\")","v":""},{"$f":"IFERROR(Table3[[#This Row],[Average $ Raised per 1% of Time]]*$H$6,\"\")","v":""},{"$f":"IFERROR(Table3[[#This Row],[Average $ Raised per 1% of Time]]*$I$6,\"\")","v":""},{"$f":"IFERROR(Table3[[#This Row],[Average $ Raised per 1% of Time]]*$J$6,\"\")","v":""},{"$f":"IFERROR(Table3[[#This Row],[Average $ Raised per 1% of Time]]*$K$6,\"\")","v":""},{"$f":"IFERROR(Table3[[#This Row],[Average $ Raised per 1% of Time]]*$L$6,\"\")","v":""},{"$f":"IFERROR(Table3[[#This Row],[Average $ Raised per 1% of Time]]*$M$6,\"\")","v":""},{"$f":"IFERROR(Table3[[#This Row],[Average $ Raised per 1% of Time]]*$N$6,\"\")","v":""},{"$f":"IFERROR(Table3[[#This Row],[Average $ Raised per 1% of Time]]*$O$6,\"\")","v":""},{"$f":"IFERROR(Table3[[#This Row],[Average $ Raised per 1% of Time]]*$P$6,\"\")","v":""},{"$f":"IFERROR(Table3[[#This Row],[Average $ Raised per 1% of Time]]*$Q$6,\"\")","v":""},{"$f":"IFERROR(Table3[[#This Row],[Average $ Raised per 1% of Time]]*$R$6,\"\")","v":""},{"$f":"IFERROR(Table3[[#This Row],[Average $ Raised per 1% of Time]]*$S$6,\"\")","v":""},{"$f":"IFERROR(Table3[[#This Row],[Average $ Raised per 1% of Time]]*$T$6,\"\")","v":""},{"$f":"IFERROR(Table3[[#This Row],[Average $ Raised per 1% of Time]]*$U$6,\"\")","v":""},{"$f":"IFERROR(Table3[[#This Row],[Average $ Raised per 1% of Time]]*$V$6,\"\")","v":""},{"$f":"IFERROR(Table3[[#This Row],[Average $ Raised per 1% of Time]]*$W$6,\"\")","v":""},{"$f":"IFERROR(Table3[[#This Row],[Average $ Raised per 1% of Time]]*$X$6,\"\")","v":""}]
[{"$f":"IF(Table5[Gift Officer Name]<>\"\",Table5[Gift Officer Name],\"\")","v":""},{"$f":"IFERROR(AVERAGE(Table5[[#This Row],[Total Dollars Raised in FY19]:[Total Dollars Raised in FY17]]),\"\")","v":""},{"$f":"IFERROR(AVERAGE(Table5[[#This Row],[Total Dollars Raised in FY19]:[Total Dollars Raised in FY17]])/Table5[[#This Row],[Estimated % of Time Spent on Fundraising]],\"\")","v":""},{"$f":"IFERROR(Table3[[#This Row],[Average $ Raised per 1% of Time]]*AVERAGEIF(Table5[Estimated % of Time Spent on Fundraising],\"<>\"\"\"),\"\")","v":""},{"$f":"IFERROR(Table3[[#This Row],[Average $ Raised per 1% of Time]]*$E$6,\"\")","v":""},{"$f":"IFERROR(Table3[[#This Row],[Average $ Raised per 1% of Time]]*$F$6,\"\")","v":""},{"$f":"IFERROR(Table3[[#This Row],[Average $ Raised per 1% of Time]]*$G$6,\"\")","v":""},{"$f":"IFERROR(Table3[[#This Row],[Average $ Raised per 1% of Time]]*$H$6,\"\")","v":""},{"$f":"IFERROR(Table3[[#This Row],[Average $ Raised per 1% of Time]]*$I$6,\"\")","v":""},{"$f":"IFERROR(Table3[[#This Row],[Average $ Raised per 1% of Time]]*$J$6,\"\")","v":""},{"$f":"IFERROR(Table3[[#This Row],[Average $ Raised per 1% of Time]]*$K$6,\"\")","v":""},{"$f":"IFERROR(Table3[[#This Row],[Average $ Raised per 1% of Time]]*$L$6,\"\")","v":""},{"$f":"IFERROR(Table3[[#This Row],[Average $ Raised per 1% of Time]]*$M$6,\"\")","v":""},{"$f":"IFERROR(Table3[[#This Row],[Average $ Raised per 1% of Time]]*$N$6,\"\")","v":""},{"$f":"IFERROR(Table3[[#This Row],[Average $ Raised per 1% of Time]]*$O$6,\"\")","v":""},{"$f":"IFERROR(Table3[[#This Row],[Average $ Raised per 1% of Time]]*$P$6,\"\")","v":""},{"$f":"IFERROR(Table3[[#This Row],[Average $ Raised per 1% of Time]]*$Q$6,\"\")","v":""},{"$f":"IFERROR(Table3[[#This Row],[Average $ Raised per 1% of Time]]*$R$6,\"\")","v":""},{"$f":"IFERROR(Table3[[#This Row],[Average $ Raised per 1% of Time]]*$S$6,\"\")","v":""},{"$f":"IFERROR(Table3[[#This Row],[Average $ Raised per 1% of Time]]*$T$6,\"\")","v":""},{"$f":"IFERROR(Table3[[#This Row],[Average $ Raised per 1% of Time]]*$U$6,\"\")","v":""},{"$f":"IFERROR(Table3[[#This Row],[Average $ Raised per 1% of Time]]*$V$6,\"\")","v":""},{"$f":"IFERROR(Table3[[#This Row],[Average $ Raised per 1% of Time]]*$W$6,\"\")","v":""},{"$f":"IFERROR(Table3[[#This Row],[Average $ Raised per 1% of Time]]*$X$6,\"\")","v":""}]
[{"$f":"IF(Table5[Gift Officer Name]<>\"\",Table5[Gift Officer Name],\"\")","v":""},{"$f":"IFERROR(AVERAGE(Table5[[#This Row],[Total Dollars Raised in FY19]:[Total Dollars Raised in FY17]]),\"\")","v":""},{"$f":"IFERROR(AVERAGE(Table5[[#This Row],[Total Dollars Raised in FY19]:[Total Dollars Raised in FY17]])/Table5[[#This Row],[Estimated % of Time Spent on Fundraising]],\"\")","v":""},{"$f":"IFERROR(Table3[[#This Row],[Average $ Raised per 1% of Time]]*AVERAGEIF(Table5[Estimated % of Time Spent on Fundraising],\"<>\"\"\"),\"\")","v":""},{"$f":"IFERROR(Table3[[#This Row],[Average $ Raised per 1% of Time]]*$E$6,\"\")","v":""},{"$f":"IFERROR(Table3[[#This Row],[Average $ Raised per 1% of Time]]*$F$6,\"\")","v":""},{"$f":"IFERROR(Table3[[#This Row],[Average $ Raised per 1% of Time]]*$G$6,\"\")","v":""},{"$f":"IFERROR(Table3[[#This Row],[Average $ Raised per 1% of Time]]*$H$6,\"\")","v":""},{"$f":"IFERROR(Table3[[#This Row],[Average $ Raised per 1% of Time]]*$I$6,\"\")","v":""},{"$f":"IFERROR(Table3[[#This Row],[Average $ Raised per 1% of Time]]*$J$6,\"\")","v":""},{"$f":"IFERROR(Table3[[#This Row],[Average $ Raised per 1% of Time]]*$K$6,\"\")","v":""},{"$f":"IFERROR(Table3[[#This Row],[Average $ Raised per 1% of Time]]*$L$6,\"\")","v":""},{"$f":"IFERROR(Table3[[#This Row],[Average $ Raised per 1% of Time]]*$M$6,\"\")","v":""},{"$f":"IFERROR(Table3[[#This Row],[Average $ Raised per 1% of Time]]*$N$6,\"\")","v":""},{"$f":"IFERROR(Table3[[#This Row],[Average $ Raised per 1% of Time]]*$O$6,\"\")","v":""},{"$f":"IFERROR(Table3[[#This Row],[Average $ Raised per 1% of Time]]*$P$6,\"\")","v":""},{"$f":"IFERROR(Table3[[#This Row],[Average $ Raised per 1% of Time]]*$Q$6,\"\")","v":""},{"$f":"IFERROR(Table3[[#This Row],[Average $ Raised per 1% of Time]]*$R$6,\"\")","v":""},{"$f":"IFERROR(Table3[[#This Row],[Average $ Raised per 1% of Time]]*$S$6,\"\")","v":""},{"$f":"IFERROR(Table3[[#This Row],[Average $ Raised per 1% of Time]]*$T$6,\"\")","v":""},{"$f":"IFERROR(Table3[[#This Row],[Average $ Raised per 1% of Time]]*$U$6,\"\")","v":""},{"$f":"IFERROR(Table3[[#This Row],[Average $ Raised per 1% of Time]]*$V$6,\"\")","v":""},{"$f":"IFERROR(Table3[[#This Row],[Average $ Raised per 1% of Time]]*$W$6,\"\")","v":""},{"$f":"IFERROR(Table3[[#This Row],[Average $ Raised per 1% of Time]]*$X$6,\"\")","v":""}]
[{"$f":"IF(Table5[Gift Officer Name]<>\"\",Table5[Gift Officer Name],\"\")","v":""},{"$f":"IFERROR(AVERAGE(Table5[[#This Row],[Total Dollars Raised in FY19]:[Total Dollars Raised in FY17]]),\"\")","v":""},{"$f":"IFERROR(AVERAGE(Table5[[#This Row],[Total Dollars Raised in FY19]:[Total Dollars Raised in FY17]])/Table5[[#This Row],[Estimated % of Time Spent on Fundraising]],\"\")","v":""},{"$f":"IFERROR(Table3[[#This Row],[Average $ Raised per 1% of Time]]*AVERAGEIF(Table5[Estimated % of Time Spent on Fundraising],\"<>\"\"\"),\"\")","v":""},{"$f":"IFERROR(Table3[[#This Row],[Average $ Raised per 1% of Time]]*$E$6,\"\")","v":""},{"$f":"IFERROR(Table3[[#This Row],[Average $ Raised per 1% of Time]]*$F$6,\"\")","v":""},{"$f":"IFERROR(Table3[[#This Row],[Average $ Raised per 1% of Time]]*$G$6,\"\")","v":""},{"$f":"IFERROR(Table3[[#This Row],[Average $ Raised per 1% of Time]]*$H$6,\"\")","v":""},{"$f":"IFERROR(Table3[[#This Row],[Average $ Raised per 1% of Time]]*$I$6,\"\")","v":""},{"$f":"IFERROR(Table3[[#This Row],[Average $ Raised per 1% of Time]]*$J$6,\"\")","v":""},{"$f":"IFERROR(Table3[[#This Row],[Average $ Raised per 1% of Time]]*$K$6,\"\")","v":""},{"$f":"IFERROR(Table3[[#This Row],[Average $ Raised per 1% of Time]]*$L$6,\"\")","v":""},{"$f":"IFERROR(Table3[[#This Row],[Average $ Raised per 1% of Time]]*$M$6,\"\")","v":""},{"$f":"IFERROR(Table3[[#This Row],[Average $ Raised per 1% of Time]]*$N$6,\"\")","v":""},{"$f":"IFERROR(Table3[[#This Row],[Average $ Raised per 1% of Time]]*$O$6,\"\")","v":""},{"$f":"IFERROR(Table3[[#This Row],[Average $ Raised per 1% of Time]]*$P$6,\"\")","v":""},{"$f":"IFERROR(Table3[[#This Row],[Average $ Raised per 1% of Time]]*$Q$6,\"\")","v":""},{"$f":"IFERROR(Table3[[#This Row],[Average $ Raised per 1% of Time]]*$R$6,\"\")","v":""},{"$f":"IFERROR(Table3[[#This Row],[Average $ Raised per 1% of Time]]*$S$6,\"\")","v":""},{"$f":"IFERROR(Table3[[#This Row],[Average $ Raised per 1% of Time]]*$T$6,\"\")","v":""},{"$f":"IFERROR(Table3[[#This Row],[Average $ Raised per 1% of Time]]*$U$6,\"\")","v":""},{"$f":"IFERROR(Table3[[#This Row],[Average $ Raised per 1% of Time]]*$V$6,\"\")","v":""},{"$f":"IFERROR(Table3[[#This Row],[Average $ Raised per 1% of Time]]*$W$6,\"\")","v":""},{"$f":"IFERROR(Table3[[#This Row],[Average $ Raised per 1% of Time]]*$X$6,\"\")","v":""}]
[{"$f":"IF(Table5[Gift Officer Name]<>\"\",Table5[Gift Officer Name],\"\")","v":""},{"$f":"IFERROR(AVERAGE(Table5[[#This Row],[Total Dollars Raised in FY19]:[Total Dollars Raised in FY17]]),\"\")","v":""},{"$f":"IFERROR(AVERAGE(Table5[[#This Row],[Total Dollars Raised in FY19]:[Total Dollars Raised in FY17]])/Table5[[#This Row],[Estimated % of Time Spent on Fundraising]],\"\")","v":""},{"$f":"IFERROR(Table3[[#This Row],[Average $ Raised per 1% of Time]]*AVERAGEIF(Table5[Estimated % of Time Spent on Fundraising],\"<>\"\"\"),\"\")","v":""},{"$f":"IFERROR(Table3[[#This Row],[Average $ Raised per 1% of Time]]*$E$6,\"\")","v":""},{"$f":"IFERROR(Table3[[#This Row],[Average $ Raised per 1% of Time]]*$F$6,\"\")","v":""},{"$f":"IFERROR(Table3[[#This Row],[Average $ Raised per 1% of Time]]*$G$6,\"\")","v":""},{"$f":"IFERROR(Table3[[#This Row],[Average $ Raised per 1% of Time]]*$H$6,\"\")","v":""},{"$f":"IFERROR(Table3[[#This Row],[Average $ Raised per 1% of Time]]*$I$6,\"\")","v":""},{"$f":"IFERROR(Table3[[#This Row],[Average $ Raised per 1% of Time]]*$J$6,\"\")","v":""},{"$f":"IFERROR(Table3[[#This Row],[Average $ Raised per 1% of Time]]*$K$6,\"\")","v":""},{"$f":"IFERROR(Table3[[#This Row],[Average $ Raised per 1% of Time]]*$L$6,\"\")","v":""},{"$f":"IFERROR(Table3[[#This Row],[Average $ Raised per 1% of Time]]*$M$6,\"\")","v":""},{"$f":"IFERROR(Table3[[#This Row],[Average $ Raised per 1% of Time]]*$N$6,\"\")","v":""},{"$f":"IFERROR(Table3[[#This Row],[Average $ Raised per 1% of Time]]*$O$6,\"\")","v":""},{"$f":"IFERROR(Table3[[#This Row],[Average $ Raised per 1% of Time]]*$P$6,\"\")","v":""},{"$f":"IFERROR(Table3[[#This Row],[Average $ Raised per 1% of Time]]*$Q$6,\"\")","v":""},{"$f":"IFERROR(Table3[[#This Row],[Average $ Raised per 1% of Time]]*$R$6,\"\")","v":""},{"$f":"IFERROR(Table3[[#This Row],[Average $ Raised per 1% of Time]]*$S$6,\"\")","v":""},{"$f":"IFERROR(Table3[[#This Row],[Average $ Raised per 1% of Time]]*$T$6,\"\")","v":""},{"$f":"IFERROR(Table3[[#This Row],[Average $ Raised per 1% of Time]]*$U$6,\"\")","v":""},{"$f":"IFERROR(Table3[[#This Row],[Average $ Raised per 1% of Time]]*$V$6,\"\")","v":""},{"$f":"IFERROR(Table3[[#This Row],[Average $ Raised per 1% of Time]]*$W$6,\"\")","v":""},{"$f":"IFERROR(Table3[[#This Row],[Average $ Raised per 1% of Time]]*$X$6,\"\")","v":""}]
[{"$f":"IF(Table5[Gift Officer Name]<>\"\",Table5[Gift Officer Name],\"\")","v":""},{"$f":"IFERROR(AVERAGE(Table5[[#This Row],[Total Dollars Raised in FY19]:[Total Dollars Raised in FY17]]),\"\")","v":""},{"$f":"IFERROR(AVERAGE(Table5[[#This Row],[Total Dollars Raised in FY19]:[Total Dollars Raised in FY17]])/Table5[[#This Row],[Estimated % of Time Spent on Fundraising]],\"\")","v":""},{"$f":"IFERROR(Table3[[#This Row],[Average $ Raised per 1% of Time]]*AVERAGEIF(Table5[Estimated % of Time Spent on Fundraising],\"<>\"\"\"),\"\")","v":""},{"$f":"IFERROR(Table3[[#This Row],[Average $ Raised per 1% of Time]]*$E$6,\"\")","v":""},{"$f":"IFERROR(Table3[[#This Row],[Average $ Raised per 1% of Time]]*$F$6,\"\")","v":""},{"$f":"IFERROR(Table3[[#This Row],[Average $ Raised per 1% of Time]]*$G$6,\"\")","v":""},{"$f":"IFERROR(Table3[[#This Row],[Average $ Raised per 1% of Time]]*$H$6,\"\")","v":""},{"$f":"IFERROR(Table3[[#This Row],[Average $ Raised per 1% of Time]]*$I$6,\"\")","v":""},{"$f":"IFERROR(Table3[[#This Row],[Average $ Raised per 1% of Time]]*$J$6,\"\")","v":""},{"$f":"IFERROR(Table3[[#This Row],[Average $ Raised per 1% of Time]]*$K$6,\"\")","v":""},{"$f":"IFERROR(Table3[[#This Row],[Average $ Raised per 1% of Time]]*$L$6,\"\")","v":""},{"$f":"IFERROR(Table3[[#This Row],[Average $ Raised per 1% of Time]]*$M$6,\"\")","v":""},{"$f":"IFERROR(Table3[[#This Row],[Average $ Raised per 1% of Time]]*$N$6,\"\")","v":""},{"$f":"IFERROR(Table3[[#This Row],[Average $ Raised per 1% of Time]]*$O$6,\"\")","v":""},{"$f":"IFERROR(Table3[[#This Row],[Average $ Raised per 1% of Time]]*$P$6,\"\")","v":""},{"$f":"IFERROR(Table3[[#This Row],[Average $ Raised per 1% of Time]]*$Q$6,\"\")","v":""},{"$f":"IFERROR(Table3[[#This Row],[Average $ Raised per 1% of Time]]*$R$6,\"\")","v":""},{"$f":"IFERROR(Table3[[#This Row],[Average $ Raised per 1% of Time]]*$S$6,\"\")","v":""},{"$f":"IFERROR(Table3[[#This Row],[Average $ Raised per 1% of Time]]*$T$6,\"\")","v":""},{"$f":"IFERROR(Table3[[#This Row],[Average $ Raised per 1% of Time]]*$U$6,\"\")","v":""},{"$f":"IFERROR(Table3[[#This Row],[Average $ Raised per 1% of Time]]*$V$6,\"\")","v":""},{"$f":"IFERROR(Table3[[#This Row],[Average $ Raised per 1% of Time]]*$W$6,\"\")","v":""},{"$f":"IFERROR(Table3[[#This Row],[Average $ Raised per 1% of Time]]*$X$6,\"\")","v":""}]
[{"$f":"IF(Table5[Gift Officer Name]<>\"\",Table5[Gift Officer Name],\"\")","v":""},{"$f":"IFERROR(AVERAGE(Table5[[#This Row],[Total Dollars Raised in FY19]:[Total Dollars Raised in FY17]]),\"\")","v":""},{"$f":"IFERROR(AVERAGE(Table5[[#This Row],[Total Dollars Raised in FY19]:[Total Dollars Raised in FY17]])/Table5[[#This Row],[Estimated % of Time Spent on Fundraising]],\"\")","v":""},{"$f":"IFERROR(Table3[[#This Row],[Average $ Raised per 1% of Time]]*AVERAGEIF(Table5[Estimated % of Time Spent on Fundraising],\"<>\"\"\"),\"\")","v":""},{"$f":"IFERROR(Table3[[#This Row],[Average $ Raised per 1% of Time]]*$E$6,\"\")","v":""},{"$f":"IFERROR(Table3[[#This Row],[Average $ Raised per 1% of Time]]*$F$6,\"\")","v":""},{"$f":"IFERROR(Table3[[#This Row],[Average $ Raised per 1% of Time]]*$G$6,\"\")","v":""},{"$f":"IFERROR(Table3[[#This Row],[Average $ Raised per 1% of Time]]*$H$6,\"\")","v":""},{"$f":"IFERROR(Table3[[#This Row],[Average $ Raised per 1% of Time]]*$I$6,\"\")","v":""},{"$f":"IFERROR(Table3[[#This Row],[Average $ Raised per 1% of Time]]*$J$6,\"\")","v":""},{"$f":"IFERROR(Table3[[#This Row],[Average $ Raised per 1% of Time]]*$K$6,\"\")","v":""},{"$f":"IFERROR(Table3[[#This Row],[Average $ Raised per 1% of Time]]*$L$6,\"\")","v":""},{"$f":"IFERROR(Table3[[#This Row],[Average $ Raised per 1% of Time]]*$M$6,\"\")","v":""},{"$f":"IFERROR(Table3[[#This Row],[Average $ Raised per 1% of Time]]*$N$6,\"\")","v":""},{"$f":"IFERROR(Table3[[#This Row],[Average $ Raised per 1% of Time]]*$O$6,\"\")","v":""},{"$f":"IFERROR(Table3[[#This Row],[Average $ Raised per 1% of Time]]*$P$6,\"\")","v":""},{"$f":"IFERROR(Table3[[#This Row],[Average $ Raised per 1% of Time]]*$Q$6,\"\")","v":""},{"$f":"IFERROR(Table3[[#This Row],[Average $ Raised per 1% of Time]]*$R$6,\"\")","v":""},{"$f":"IFERROR(Table3[[#This Row],[Average $ Raised per 1% of Time]]*$S$6,\"\")","v":""},{"$f":"IFERROR(Table3[[#This Row],[Average $ Raised per 1% of Time]]*$T$6,\"\")","v":""},{"$f":"IFERROR(Table3[[#This Row],[Average $ Raised per 1% of Time]]*$U$6,\"\")","v":""},{"$f":"IFERROR(Table3[[#This Row],[Average $ Raised per 1% of Time]]*$V$6,\"\")","v":""},{"$f":"IFERROR(Table3[[#This Row],[Average $ Raised per 1% of Time]]*$W$6,\"\")","v":""},{"$f":"IFERROR(Table3[[#This Row],[Average $ Raised per 1% of Time]]*$X$6,\"\")","v":""}]
[{"$f":"IF(Table5[Gift Officer Name]<>\"\",Table5[Gift Officer Name],\"\")","v":""},{"$f":"IFERROR(AVERAGE(Table5[[#This Row],[Total Dollars Raised in FY19]:[Total Dollars Raised in FY17]]),\"\")","v":""},{"$f":"IFERROR(AVERAGE(Table5[[#This Row],[Total Dollars Raised in FY19]:[Total Dollars Raised in FY17]])/Table5[[#This Row],[Estimated % of Time Spent on Fundraising]],\"\")","v":""},{"$f":"IFERROR(Table3[[#This Row],[Average $ Raised per 1% of Time]]*AVERAGEIF(Table5[Estimated % of Time Spent on Fundraising],\"<>\"\"\"),\"\")","v":""},{"$f":"IFERROR(Table3[[#This Row],[Average $ Raised per 1% of Time]]*$E$6,\"\")","v":""},{"$f":"IFERROR(Table3[[#This Row],[Average $ Raised per 1% of Time]]*$F$6,\"\")","v":""},{"$f":"IFERROR(Table3[[#This Row],[Average $ Raised per 1% of Time]]*$G$6,\"\")","v":""},{"$f":"IFERROR(Table3[[#This Row],[Average $ Raised per 1% of Time]]*$H$6,\"\")","v":""},{"$f":"IFERROR(Table3[[#This Row],[Average $ Raised per 1% of Time]]*$I$6,\"\")","v":""},{"$f":"IFERROR(Table3[[#This Row],[Average $ Raised per 1% of Time]]*$J$6,\"\")","v":""},{"$f":"IFERROR(Table3[[#This Row],[Average $ Raised per 1% of Time]]*$K$6,\"\")","v":""},{"$f":"IFERROR(Table3[[#This Row],[Average $ Raised per 1% of Time]]*$L$6,\"\")","v":""},{"$f":"IFERROR(Table3[[#This Row],[Average $ Raised per 1% of Time]]*$M$6,\"\")","v":""},{"$f":"IFERROR(Table3[[#This Row],[Average $ Raised per 1% of Time]]*$N$6,\"\")","v":""},{"$f":"IFERROR(Table3[[#This Row],[Average $ Raised per 1% of Time]]*$O$6,\"\")","v":""},{"$f":"IFERROR(Table3[[#This Row],[Average $ Raised per 1% of Time]]*$P$6,\"\")","v":""},{"$f":"IFERROR(Table3[[#This Row],[Average $ Raised per 1% of Time]]*$Q$6,\"\")","v":""},{"$f":"IFERROR(Table3[[#This Row],[Average $ Raised per 1% of Time]]*$R$6,\"\")","v":""},{"$f":"IFERROR(Table3[[#This Row],[Average $ Raised per 1% of Time]]*$S$6,\"\")","v":""},{"$f":"IFERROR(Table3[[#This Row],[Average $ Raised per 1% of Time]]*$T$6,\"\")","v":""},{"$f":"IFERROR(Table3[[#This Row],[Average $ Raised per 1% of Time]]*$U$6,\"\")","v":""},{"$f":"IFERROR(Table3[[#This Row],[Average $ Raised per 1% of Time]]*$V$6,\"\")","v":""},{"$f":"IFERROR(Table3[[#This Row],[Average $ Raised per 1% of Time]]*$W$6,\"\")","v":""},{"$f":"IFERROR(Table3[[#This Row],[Average $ Raised per 1% of Time]]*$X$6,\"\")","v":""}]
[{"$f":"IF(Table5[Gift Officer Name]<>\"\",Table5[Gift Officer Name],\"\")","v":""},{"$f":"IFERROR(AVERAGE(Table5[[#This Row],[Total Dollars Raised in FY19]:[Total Dollars Raised in FY17]]),\"\")","v":""},{"$f":"IFERROR(AVERAGE(Table5[[#This Row],[Total Dollars Raised in FY19]:[Total Dollars Raised in FY17]])/Table5[[#This Row],[Estimated % of Time Spent on Fundraising]],\"\")","v":""},{"$f":"IFERROR(Table3[[#This Row],[Average $ Raised per 1% of Time]]*AVERAGEIF(Table5[Estimated % of Time Spent on Fundraising],\"<>\"\"\"),\"\")","v":""},{"$f":"IFERROR(Table3[[#This Row],[Average $ Raised per 1% of Time]]*$E$6,\"\")","v":""},{"$f":"IFERROR(Table3[[#This Row],[Average $ Raised per 1% of Time]]*$F$6,\"\")","v":""},{"$f":"IFERROR(Table3[[#This Row],[Average $ Raised per 1% of Time]]*$G$6,\"\")","v":""},{"$f":"IFERROR(Table3[[#This Row],[Average $ Raised per 1% of Time]]*$H$6,\"\")","v":""},{"$f":"IFERROR(Table3[[#This Row],[Average $ Raised per 1% of Time]]*$I$6,\"\")","v":""},{"$f":"IFERROR(Table3[[#This Row],[Average $ Raised per 1% of Time]]*$J$6,\"\")","v":""},{"$f":"IFERROR(Table3[[#This Row],[Average $ Raised per 1% of Time]]*$K$6,\"\")","v":""},{"$f":"IFERROR(Table3[[#This Row],[Average $ Raised per 1% of Time]]*$L$6,\"\")","v":""},{"$f":"IFERROR(Table3[[#This Row],[Average $ Raised per 1% of Time]]*$M$6,\"\")","v":""},{"$f":"IFERROR(Table3[[#This Row],[Average $ Raised per 1% of Time]]*$N$6,\"\")","v":""},{"$f":"IFERROR(Table3[[#This Row],[Average $ Raised per 1% of Time]]*$O$6,\"\")","v":""},{"$f":"IFERROR(Table3[[#This Row],[Average $ Raised per 1% of Time]]*$P$6,\"\")","v":""},{"$f":"IFERROR(Table3[[#This Row],[Average $ Raised per 1% of Time]]*$Q$6,\"\")","v":""},{"$f":"IFERROR(Table3[[#This Row],[Average $ Raised per 1% of Time]]*$R$6,\"\")","v":""},{"$f":"IFERROR(Table3[[#This Row],[Average $ Raised per 1% of Time]]*$S$6,\"\")","v":""},{"$f":"IFERROR(Table3[[#This Row],[Average $ Raised per 1% of Time]]*$T$6,\"\")","v":""},{"$f":"IFERROR(Table3[[#This Row],[Average $ Raised per 1% of Time]]*$U$6,\"\")","v":""},{"$f":"IFERROR(Table3[[#This Row],[Average $ Raised per 1% of Time]]*$V$6,\"\")","v":""},{"$f":"IFERROR(Table3[[#This Row],[Average $ Raised per 1% of Time]]*$W$6,\"\")","v":""},{"$f":"IFERROR(Table3[[#This Row],[Average $ Raised per 1% of Time]]*$X$6,\"\")","v":""}]
[{"$f":"IF(Table5[Gift Officer Name]<>\"\",Table5[Gift Officer Name],\"\")","v":""},{"$f":"IFERROR(AVERAGE(Table5[[#This Row],[Total Dollars Raised in FY19]:[Total Dollars Raised in FY17]]),\"\")","v":""},{"$f":"IFERROR(AVERAGE(Table5[[#This Row],[Total Dollars Raised in FY19]:[Total Dollars Raised in FY17]])/Table5[[#This Row],[Estimated % of Time Spent on Fundraising]],\"\")","v":""},{"$f":"IFERROR(Table3[[#This Row],[Average $ Raised per 1% of Time]]*AVERAGEIF(Table5[Estimated % of Time Spent on Fundraising],\"<>\"\"\"),\"\")","v":""},{"$f":"IFERROR(Table3[[#This Row],[Average $ Raised per 1% of Time]]*$E$6,\"\")","v":""},{"$f":"IFERROR(Table3[[#This Row],[Average $ Raised per 1% of Time]]*$F$6,\"\")","v":""},{"$f":"IFERROR(Table3[[#This Row],[Average $ Raised per 1% of Time]]*$G$6,\"\")","v":""},{"$f":"IFERROR(Table3[[#This Row],[Average $ Raised per 1% of Time]]*$H$6,\"\")","v":""},{"$f":"IFERROR(Table3[[#This Row],[Average $ Raised per 1% of Time]]*$I$6,\"\")","v":""},{"$f":"IFERROR(Table3[[#This Row],[Average $ Raised per 1% of Time]]*$J$6,\"\")","v":""},{"$f":"IFERROR(Table3[[#This Row],[Average $ Raised per 1% of Time]]*$K$6,\"\")","v":""},{"$f":"IFERROR(Table3[[#This Row],[Average $ Raised per 1% of Time]]*$L$6,\"\")","v":""},{"$f":"IFERROR(Table3[[#This Row],[Average $ Raised per 1% of Time]]*$M$6,\"\")","v":""},{"$f":"IFERROR(Table3[[#This Row],[Average $ Raised per 1% of Time]]*$N$6,\"\")","v":""},{"$f":"IFERROR(Table3[[#This Row],[Average $ Raised per 1% of Time]]*$O$6,\"\")","v":""},{"$f":"IFERROR(Table3[[#This Row],[Average $ Raised per 1% of Time]]*$P$6,\"\")","v":""},{"$f":"IFERROR(Table3[[#This Row],[Average $ Raised per 1% of Time]]*$Q$6,\"\")","v":""},{"$f":"IFERROR(Table3[[#This Row],[Average $ Raised per 1% of Time]]*$R$6,\"\")","v":""},{"$f":"IFERROR(Table3[[#This Row],[Average $ Raised per 1% of Time]]*$S$6,\"\")","v":""},{"$f":"IFERROR(Table3[[#This Row],[Average $ Raised per 1% of Time]]*$T$6,\"\")","v":""},{"$f":"IFERROR(Table3[[#This Row],[Average $ Raised per 1% of Time]]*$U$6,\"\")","v":""},{"$f":"IFERROR(Table3[[#This Row],[Average $ Raised per 1% of Time]]*$V$6,\"\")","v":""},{"$f":"IFERROR(Table3[[#This Row],[Average $ Raised per 1% of Time]]*$W$6,\"\")","v":""},{"$f":"IFERROR(Table3[[#This Row],[Average $ Raised per 1% of Time]]*$X$6,\"\")","v":""}]
[{"$f":"IF(Table5[Gift Officer Name]<>\"\",Table5[Gift Officer Name],\"\")","v":""},{"$f":"IFERROR(AVERAGE(Table5[[#This Row],[Total Dollars Raised in FY19]:[Total Dollars Raised in FY17]]),\"\")","v":""},{"$f":"IFERROR(AVERAGE(Table5[[#This Row],[Total Dollars Raised in FY19]:[Total Dollars Raised in FY17]])/Table5[[#This Row],[Estimated % of Time Spent on Fundraising]],\"\")","v":""},{"$f":"IFERROR(Table3[[#This Row],[Average $ Raised per 1% of Time]]*AVERAGEIF(Table5[Estimated % of Time Spent on Fundraising],\"<>\"\"\"),\"\")","v":""},{"$f":"IFERROR(Table3[[#This Row],[Average $ Raised per 1% of Time]]*$E$6,\"\")","v":""},{"$f":"IFERROR(Table3[[#This Row],[Average $ Raised per 1% of Time]]*$F$6,\"\")","v":""},{"$f":"IFERROR(Table3[[#This Row],[Average $ Raised per 1% of Time]]*$G$6,\"\")","v":""},{"$f":"IFERROR(Table3[[#This Row],[Average $ Raised per 1% of Time]]*$H$6,\"\")","v":""},{"$f":"IFERROR(Table3[[#This Row],[Average $ Raised per 1% of Time]]*$I$6,\"\")","v":""},{"$f":"IFERROR(Table3[[#This Row],[Average $ Raised per 1% of Time]]*$J$6,\"\")","v":""},{"$f":"IFERROR(Table3[[#This Row],[Average $ Raised per 1% of Time]]*$K$6,\"\")","v":""},{"$f":"IFERROR(Table3[[#This Row],[Average $ Raised per 1% of Time]]*$L$6,\"\")","v":""},{"$f":"IFERROR(Table3[[#This Row],[Average $ Raised per 1% of Time]]*$M$6,\"\")","v":""},{"$f":"IFERROR(Table3[[#This Row],[Average $ Raised per 1% of Time]]*$N$6,\"\")","v":""},{"$f":"IFERROR(Table3[[#This Row],[Average $ Raised per 1% of Time]]*$O$6,\"\")","v":""},{"$f":"IFERROR(Table3[[#This Row],[Average $ Raised per 1% of Time]]*$P$6,\"\")","v":""},{"$f":"IFERROR(Table3[[#This Row],[Average $ Raised per 1% of Time]]*$Q$6,\"\")","v":""},{"$f":"IFERROR(Table3[[#This Row],[Average $ Raised per 1% of Time]]*$R$6,\"\")","v":""},{"$f":"IFERROR(Table3[[#This Row],[Average $ Raised per 1% of Time]]*$S$6,\"\")","v":""},{"$f":"IFERROR(Table3[[#This Row],[Average $ Raised per 1% of Time]]*$T$6,\"\")","v":""},{"$f":"IFERROR(Table3[[#This Row],[Average $ Raised per 1% of Time]]*$U$6,\"\")","v":""},{"$f":"IFERROR(Table3[[#This Row],[Average $ Raised per 1% of Time]]*$V$6,\"\")","v":""},{"$f":"IFERROR(Table3[[#This Row],[Average $ Raised per 1% of Time]]*$W$6,\"\")","v":""},{"$f":"IFERROR(Table3[[#This Row],[Average $ Raised per 1% of Time]]*$X$6,\"\")","v":""}]
[{"$f":"IF(Table5[Gift Officer Name]<>\"\",Table5[Gift Officer Name],\"\")","v":""},{"$f":"IFERROR(AVERAGE(Table5[[#This Row],[Total Dollars Raised in FY19]:[Total Dollars Raised in FY17]]),\"\")","v":""},{"$f":"IFERROR(AVERAGE(Table5[[#This Row],[Total Dollars Raised in FY19]:[Total Dollars Raised in FY17]])/Table5[[#This Row],[Estimated % of Time Spent on Fundraising]],\"\")","v":""},{"$f":"IFERROR(Table3[[#This Row],[Average $ Raised per 1% of Time]]*AVERAGEIF(Table5[Estimated % of Time Spent on Fundraising],\"<>\"\"\"),\"\")","v":""},{"$f":"IFERROR(Table3[[#This Row],[Average $ Raised per 1% of Time]]*$E$6,\"\")","v":""},{"$f":"IFERROR(Table3[[#This Row],[Average $ Raised per 1% of Time]]*$F$6,\"\")","v":""},{"$f":"IFERROR(Table3[[#This Row],[Average $ Raised per 1% of Time]]*$G$6,\"\")","v":""},{"$f":"IFERROR(Table3[[#This Row],[Average $ Raised per 1% of Time]]*$H$6,\"\")","v":""},{"$f":"IFERROR(Table3[[#This Row],[Average $ Raised per 1% of Time]]*$I$6,\"\")","v":""},{"$f":"IFERROR(Table3[[#This Row],[Average $ Raised per 1% of Time]]*$J$6,\"\")","v":""},{"$f":"IFERROR(Table3[[#This Row],[Average $ Raised per 1% of Time]]*$K$6,\"\")","v":""},{"$f":"IFERROR(Table3[[#This Row],[Average $ Raised per 1% of Time]]*$L$6,\"\")","v":""},{"$f":"IFERROR(Table3[[#This Row],[Average $ Raised per 1% of Time]]*$M$6,\"\")","v":""},{"$f":"IFERROR(Table3[[#This Row],[Average $ Raised per 1% of Time]]*$N$6,\"\")","v":""},{"$f":"IFERROR(Table3[[#This Row],[Average $ Raised per 1% of Time]]*$O$6,\"\")","v":""},{"$f":"IFERROR(Table3[[#This Row],[Average $ Raised per 1% of Time]]*$P$6,\"\")","v":""},{"$f":"IFERROR(Table3[[#This Row],[Average $ Raised per 1% of Time]]*$Q$6,\"\")","v":""},{"$f":"IFERROR(Table3[[#This Row],[Average $ Raised per 1% of Time]]*$R$6,\"\")","v":""},{"$f":"IFERROR(Table3[[#This Row],[Average $ Raised per 1% of Time]]*$S$6,\"\")","v":""},{"$f":"IFERROR(Table3[[#This Row],[Average $ Raised per 1% of Time]]*$T$6,\"\")","v":""},{"$f":"IFERROR(Table3[[#This Row],[Average $ Raised per 1% of Time]]*$U$6,\"\")","v":""},{"$f":"IFERROR(Table3[[#This Row],[Average $ Raised per 1% of Time]]*$V$6,\"\")","v":""},{"$f":"IFERROR(Table3[[#This Row],[Average $ Raised per 1% of Time]]*$W$6,\"\")","v":""},{"$f":"IFERROR(Table3[[#This Row],[Average $ Raised per 1% of Time]]*$X$6,\"\")","v":""}]
[{"$f":"IF(Table5[Gift Officer Name]<>\"\",Table5[Gift Officer Name],\"\")","v":""},{"$f":"IFERROR(AVERAGE(Table5[[#This Row],[Total Dollars Raised in FY19]:[Total Dollars Raised in FY17]]),\"\")","v":""},{"$f":"IFERROR(AVERAGE(Table5[[#This Row],[Total Dollars Raised in FY19]:[Total Dollars Raised in FY17]])/Table5[[#This Row],[Estimated % of Time Spent on Fundraising]],\"\")","v":""},{"$f":"IFERROR(Table3[[#This Row],[Average $ Raised per 1% of Time]]*AVERAGEIF(Table5[Estimated % of Time Spent on Fundraising],\"<>\"\"\"),\"\")","v":""},{"$f":"IFERROR(Table3[[#This Row],[Average $ Raised per 1% of Time]]*$E$6,\"\")","v":""},{"$f":"IFERROR(Table3[[#This Row],[Average $ Raised per 1% of Time]]*$F$6,\"\")","v":""},{"$f":"IFERROR(Table3[[#This Row],[Average $ Raised per 1% of Time]]*$G$6,\"\")","v":""},{"$f":"IFERROR(Table3[[#This Row],[Average $ Raised per 1% of Time]]*$H$6,\"\")","v":""},{"$f":"IFERROR(Table3[[#This Row],[Average $ Raised per 1% of Time]]*$I$6,\"\")","v":""},{"$f":"IFERROR(Table3[[#This Row],[Average $ Raised per 1% of Time]]*$J$6,\"\")","v":""},{"$f":"IFERROR(Table3[[#This Row],[Average $ Raised per 1% of Time]]*$K$6,\"\")","v":""},{"$f":"IFERROR(Table3[[#This Row],[Average $ Raised per 1% of Time]]*$L$6,\"\")","v":""},{"$f":"IFERROR(Table3[[#This Row],[Average $ Raised per 1% of Time]]*$M$6,\"\")","v":""},{"$f":"IFERROR(Table3[[#This Row],[Average $ Raised per 1% of Time]]*$N$6,\"\")","v":""},{"$f":"IFERROR(Table3[[#This Row],[Average $ Raised per 1% of Time]]*$O$6,\"\")","v":""},{"$f":"IFERROR(Table3[[#This Row],[Average $ Raised per 1% of Time]]*$P$6,\"\")","v":""},{"$f":"IFERROR(Table3[[#This Row],[Average $ Raised per 1% of Time]]*$Q$6,\"\")","v":""},{"$f":"IFERROR(Table3[[#This Row],[Average $ Raised per 1% of Time]]*$R$6,\"\")","v":""},{"$f":"IFERROR(Table3[[#This Row],[Average $ Raised per 1% of Time]]*$S$6,\"\")","v":""},{"$f":"IFERROR(Table3[[#This Row],[Average $ Raised per 1% of Time]]*$T$6,\"\")","v":""},{"$f":"IFERROR(Table3[[#This Row],[Average $ Raised per 1% of Time]]*$U$6,\"\")","v":""},{"$f":"IFERROR(Table3[[#This Row],[Average $ Raised per 1% of Time]]*$V$6,\"\")","v":""},{"$f":"IFERROR(Table3[[#This Row],[Average $ Raised per 1% of Time]]*$W$6,\"\")","v":""},{"$f":"IFERROR(Table3[[#This Row],[Average $ Raised per 1% of Time]]*$X$6,\"\")","v":""}]
[{"$f":"IF(Table5[Gift Officer Name]<>\"\",Table5[Gift Officer Name],\"\")","v":""},{"$f":"IFERROR(AVERAGE(Table5[[#This Row],[Total Dollars Raised in FY19]:[Total Dollars Raised in FY17]]),\"\")","v":""},{"$f":"IFERROR(AVERAGE(Table5[[#This Row],[Total Dollars Raised in FY19]:[Total Dollars Raised in FY17]])/Table5[[#This Row],[Estimated % of Time Spent on Fundraising]],\"\")","v":""},{"$f":"IFERROR(Table3[[#This Row],[Average $ Raised per 1% of Time]]*AVERAGEIF(Table5[Estimated % of Time Spent on Fundraising],\"<>\"\"\"),\"\")","v":""},{"$f":"IFERROR(Table3[[#This Row],[Average $ Raised per 1% of Time]]*$E$6,\"\")","v":""},{"$f":"IFERROR(Table3[[#This Row],[Average $ Raised per 1% of Time]]*$F$6,\"\")","v":""},{"$f":"IFERROR(Table3[[#This Row],[Average $ Raised per 1% of Time]]*$G$6,\"\")","v":""},{"$f":"IFERROR(Table3[[#This Row],[Average $ Raised per 1% of Time]]*$H$6,\"\")","v":""},{"$f":"IFERROR(Table3[[#This Row],[Average $ Raised per 1% of Time]]*$I$6,\"\")","v":""},{"$f":"IFERROR(Table3[[#This Row],[Average $ Raised per 1% of Time]]*$J$6,\"\")","v":""},{"$f":"IFERROR(Table3[[#This Row],[Average $ Raised per 1% of Time]]*$K$6,\"\")","v":""},{"$f":"IFERROR(Table3[[#This Row],[Average $ Raised per 1% of Time]]*$L$6,\"\")","v":""},{"$f":"IFERROR(Table3[[#This Row],[Average $ Raised per 1% of Time]]*$M$6,\"\")","v":""},{"$f":"IFERROR(Table3[[#This Row],[Average $ Raised per 1% of Time]]*$N$6,\"\")","v":""},{"$f":"IFERROR(Table3[[#This Row],[Average $ Raised per 1% of Time]]*$O$6,\"\")","v":""},{"$f":"IFERROR(Table3[[#This Row],[Average $ Raised per 1% of Time]]*$P$6,\"\")","v":""},{"$f":"IFERROR(Table3[[#This Row],[Average $ Raised per 1% of Time]]*$Q$6,\"\")","v":""},{"$f":"IFERROR(Table3[[#This Row],[Average $ Raised per 1% of Time]]*$R$6,\"\")","v":""},{"$f":"IFERROR(Table3[[#This Row],[Average $ Raised per 1% of Time]]*$S$6,\"\")","v":""},{"$f":"IFERROR(Table3[[#This Row],[Average $ Raised per 1% of Time]]*$T$6,\"\")","v":""},{"$f":"IFERROR(Table3[[#This Row],[Average $ Raised per 1% of Time]]*$U$6,\"\")","v":""},{"$f":"IFERROR(Table3[[#This Row],[Average $ Raised per 1% of Time]]*$V$6,\"\")","v":""},{"$f":"IFERROR(Table3[[#This Row],[Average $ Raised per 1% of Time]]*$W$6,\"\")","v":""},{"$f":"IFERROR(Table3[[#This Row],[Average $ Raised per 1% of Time]]*$X$6,\"\")","v":""}]
[{"$f":"IF(Table5[Gift Officer Name]<>\"\",Table5[Gift Officer Name],\"\")","v":""},{"$f":"IFERROR(AVERAGE(Table5[[#This Row],[Total Dollars Raised in FY19]:[Total Dollars Raised in FY17]]),\"\")","v":""},{"$f":"IFERROR(AVERAGE(Table5[[#This Row],[Total Dollars Raised in FY19]:[Total Dollars Raised in FY17]])/Table5[[#This Row],[Estimated % of Time Spent on Fundraising]],\"\")","v":""},{"$f":"IFERROR(Table3[[#This Row],[Average $ Raised per 1% of Time]]*AVERAGEIF(Table5[Estimated % of Time Spent on Fundraising],\"<>\"\"\"),\"\")","v":""},{"$f":"IFERROR(Table3[[#This Row],[Average $ Raised per 1% of Time]]*$E$6,\"\")","v":""},{"$f":"IFERROR(Table3[[#This Row],[Average $ Raised per 1% of Time]]*$F$6,\"\")","v":""},{"$f":"IFERROR(Table3[[#This Row],[Average $ Raised per 1% of Time]]*$G$6,\"\")","v":""},{"$f":"IFERROR(Table3[[#This Row],[Average $ Raised per 1% of Time]]*$H$6,\"\")","v":""},{"$f":"IFERROR(Table3[[#This Row],[Average $ Raised per 1% of Time]]*$I$6,\"\")","v":""},{"$f":"IFERROR(Table3[[#This Row],[Average $ Raised per 1% of Time]]*$J$6,\"\")","v":""},{"$f":"IFERROR(Table3[[#This Row],[Average $ Raised per 1% of Time]]*$K$6,\"\")","v":""},{"$f":"IFERROR(Table3[[#This Row],[Average $ Raised per 1% of Time]]*$L$6,\"\")","v":""},{"$f":"IFERROR(Table3[[#This Row],[Average $ Raised per 1% of Time]]*$M$6,\"\")","v":""},{"$f":"IFERROR(Table3[[#This Row],[Average $ Raised per 1% of Time]]*$N$6,\"\")","v":""},{"$f":"IFERROR(Table3[[#This Row],[Average $ Raised per 1% of Time]]*$O$6,\"\")","v":""},{"$f":"IFERROR(Table3[[#This Row],[Average $ Raised per 1% of Time]]*$P$6,\"\")","v":""},{"$f":"IFERROR(Table3[[#This Row],[Average $ Raised per 1% of Time]]*$Q$6,\"\")","v":""},{"$f":"IFERROR(Table3[[#This Row],[Average $ Raised per 1% of Time]]*$R$6,\"\")","v":""},{"$f":"IFERROR(Table3[[#This Row],[Average $ Raised per 1% of Time]]*$S$6,\"\")","v":""},{"$f":"IFERROR(Table3[[#This Row],[Average $ Raised per 1% of Time]]*$T$6,\"\")","v":""},{"$f":"IFERROR(Table3[[#This Row],[Average $ Raised per 1% of Time]]*$U$6,\"\")","v":""},{"$f":"IFERROR(Table3[[#This Row],[Average $ Raised per 1% of Time]]*$V$6,\"\")","v":""},{"$f":"IFERROR(Table3[[#This Row],[Average $ Raised per 1% of Time]]*$W$6,\"\")","v":""},{"$f":"IFERROR(Table3[[#This Row],[Average $ Raised per 1% of Time]]*$X$6,\"\")","v":""}]
[{"$f":"IF(Table5[Gift Officer Name]<>\"\",Table5[Gift Officer Name],\"\")","v":""},{"$f":"IFERROR(AVERAGE(Table5[[#This Row],[Total Dollars Raised in FY19]:[Total Dollars Raised in FY17]]),\"\")","v":""},{"$f":"IFERROR(AVERAGE(Table5[[#This Row],[Total Dollars Raised in FY19]:[Total Dollars Raised in FY17]])/Table5[[#This Row],[Estimated % of Time Spent on Fundraising]],\"\")","v":""},{"$f":"IFERROR(Table3[[#This Row],[Average $ Raised per 1% of Time]]*AVERAGEIF(Table5[Estimated % of Time Spent on Fundraising],\"<>\"\"\"),\"\")","v":""},{"$f":"IFERROR(Table3[[#This Row],[Average $ Raised per 1% of Time]]*$E$6,\"\")","v":""},{"$f":"IFERROR(Table3[[#This Row],[Average $ Raised per 1% of Time]]*$F$6,\"\")","v":""},{"$f":"IFERROR(Table3[[#This Row],[Average $ Raised per 1% of Time]]*$G$6,\"\")","v":""},{"$f":"IFERROR(Table3[[#This Row],[Average $ Raised per 1% of Time]]*$H$6,\"\")","v":""},{"$f":"IFERROR(Table3[[#This Row],[Average $ Raised per 1% of Time]]*$I$6,\"\")","v":""},{"$f":"IFERROR(Table3[[#This Row],[Average $ Raised per 1% of Time]]*$J$6,\"\")","v":""},{"$f":"IFERROR(Table3[[#This Row],[Average $ Raised per 1% of Time]]*$K$6,\"\")","v":""},{"$f":"IFERROR(Table3[[#This Row],[Average $ Raised per 1% of Time]]*$L$6,\"\")","v":""},{"$f":"IFERROR(Table3[[#This Row],[Average $ Raised per 1% of Time]]*$M$6,\"\")","v":""},{"$f":"IFERROR(Table3[[#This Row],[Average $ Raised per 1% of Time]]*$N$6,\"\")","v":""},{"$f":"IFERROR(Table3[[#This Row],[Average $ Raised per 1% of Time]]*$O$6,\"\")","v":""},{"$f":"IFERROR(Table3[[#This Row],[Average $ Raised per 1% of Time]]*$P$6,\"\")","v":""},{"$f":"IFERROR(Table3[[#This Row],[Average $ Raised per 1% of Time]]*$Q$6,\"\")","v":""},{"$f":"IFERROR(Table3[[#This Row],[Average $ Raised per 1% of Time]]*$R$6,\"\")","v":""},{"$f":"IFERROR(Table3[[#This Row],[Average $ Raised per 1% of Time]]*$S$6,\"\")","v":""},{"$f":"IFERROR(Table3[[#This Row],[Average $ Raised per 1% of Time]]*$T$6,\"\")","v":""},{"$f":"IFERROR(Table3[[#This Row],[Average $ Raised per 1% of Time]]*$U$6,\"\")","v":""},{"$f":"IFERROR(Table3[[#This Row],[Average $ Raised per 1% of Time]]*$V$6,\"\")","v":""},{"$f":"IFERROR(Table3[[#This Row],[Average $ Raised per 1% of Time]]*$W$6,\"\")","v":""},{"$f":"IFERROR(Table3[[#This Row],[Average $ Raised per 1% of Time]]*$X$6,\"\")","v":""}]
[{"$f":"IF(Table5[Gift Officer Name]<>\"\",Table5[Gift Officer Name],\"\")","v":""},{"$f":"IFERROR(AVERAGE(Table5[[#This Row],[Total Dollars Raised in FY19]:[Total Dollars Raised in FY17]]),\"\")","v":""},{"$f":"IFERROR(AVERAGE(Table5[[#This Row],[Total Dollars Raised in FY19]:[Total Dollars Raised in FY17]])/Table5[[#This Row],[Estimated % of Time Spent on Fundraising]],\"\")","v":""},{"$f":"IFERROR(Table3[[#This Row],[Average $ Raised per 1% of Time]]*AVERAGEIF(Table5[Estimated % of Time Spent on Fundraising],\"<>\"\"\"),\"\")","v":""},{"$f":"IFERROR(Table3[[#This Row],[Average $ Raised per 1% of Time]]*$E$6,\"\")","v":""},{"$f":"IFERROR(Table3[[#This Row],[Average $ Raised per 1% of Time]]*$F$6,\"\")","v":""},{"$f":"IFERROR(Table3[[#This Row],[Average $ Raised per 1% of Time]]*$G$6,\"\")","v":""},{"$f":"IFERROR(Table3[[#This Row],[Average $ Raised per 1% of Time]]*$H$6,\"\")","v":""},{"$f":"IFERROR(Table3[[#This Row],[Average $ Raised per 1% of Time]]*$I$6,\"\")","v":""},{"$f":"IFERROR(Table3[[#This Row],[Average $ Raised per 1% of Time]]*$J$6,\"\")","v":""},{"$f":"IFERROR(Table3[[#This Row],[Average $ Raised per 1% of Time]]*$K$6,\"\")","v":""},{"$f":"IFERROR(Table3[[#This Row],[Average $ Raised per 1% of Time]]*$L$6,\"\")","v":""},{"$f":"IFERROR(Table3[[#This Row],[Average $ Raised per 1% of Time]]*$M$6,\"\")","v":""},{"$f":"IFERROR(Table3[[#This Row],[Average $ Raised per 1% of Time]]*$N$6,\"\")","v":""},{"$f":"IFERROR(Table3[[#This Row],[Average $ Raised per 1% of Time]]*$O$6,\"\")","v":""},{"$f":"IFERROR(Table3[[#This Row],[Average $ Raised per 1% of Time]]*$P$6,\"\")","v":""},{"$f":"IFERROR(Table3[[#This Row],[Average $ Raised per 1% of Time]]*$Q$6,\"\")","v":""},{"$f":"IFERROR(Table3[[#This Row],[Average $ Raised per 1% of Time]]*$R$6,\"\")","v":""},{"$f":"IFERROR(Table3[[#This Row],[Average $ Raised per 1% of Time]]*$S$6,\"\")","v":""},{"$f":"IFERROR(Table3[[#This Row],[Average $ Raised per 1% of Time]]*$T$6,\"\")","v":""},{"$f":"IFERROR(Table3[[#This Row],[Average $ Raised per 1% of Time]]*$U$6,\"\")","v":""},{"$f":"IFERROR(Table3[[#This Row],[Average $ Raised per 1% of Time]]*$V$6,\"\")","v":""},{"$f":"IFERROR(Table3[[#This Row],[Average $ Raised per 1% of Time]]*$W$6,\"\")","v":""},{"$f":"IFERROR(Table3[[#This Row],[Average $ Raised per 1% of Time]]*$X$6,\"\")","v":""}]
[{"$f":"IF(Table5[Gift Officer Name]<>\"\",Table5[Gift Officer Name],\"\")","v":""},{"$f":"IFERROR(AVERAGE(Table5[[#This Row],[Total Dollars Raised in FY19]:[Total Dollars Raised in FY17]]),\"\")","v":""},{"$f":"IFERROR(AVERAGE(Table5[[#This Row],[Total Dollars Raised in FY19]:[Total Dollars Raised in FY17]])/Table5[[#This Row],[Estimated % of Time Spent on Fundraising]],\"\")","v":""},{"$f":"IFERROR(Table3[[#This Row],[Average $ Raised per 1% of Time]]*AVERAGEIF(Table5[Estimated % of Time Spent on Fundraising],\"<>\"\"\"),\"\")","v":""},{"$f":"IFERROR(Table3[[#This Row],[Average $ Raised per 1% of Time]]*$E$6,\"\")","v":""},{"$f":"IFERROR(Table3[[#This Row],[Average $ Raised per 1% of Time]]*$F$6,\"\")","v":""},{"$f":"IFERROR(Table3[[#This Row],[Average $ Raised per 1% of Time]]*$G$6,\"\")","v":""},{"$f":"IFERROR(Table3[[#This Row],[Average $ Raised per 1% of Time]]*$H$6,\"\")","v":""},{"$f":"IFERROR(Table3[[#This Row],[Average $ Raised per 1% of Time]]*$I$6,\"\")","v":""},{"$f":"IFERROR(Table3[[#This Row],[Average $ Raised per 1% of Time]]*$J$6,\"\")","v":""},{"$f":"IFERROR(Table3[[#This Row],[Average $ Raised per 1% of Time]]*$K$6,\"\")","v":""},{"$f":"IFERROR(Table3[[#This Row],[Average $ Raised per 1% of Time]]*$L$6,\"\")","v":""},{"$f":"IFERROR(Table3[[#This Row],[Average $ Raised per 1% of Time]]*$M$6,\"\")","v":""},{"$f":"IFERROR(Table3[[#This Row],[Average $ Raised per 1% of Time]]*$N$6,\"\")","v":""},{"$f":"IFERROR(Table3[[#This Row],[Average $ Raised per 1% of Time]]*$O$6,\"\")","v":""},{"$f":"IFERROR(Table3[[#This Row],[Average $ Raised per 1% of Time]]*$P$6,\"\")","v":""},{"$f":"IFERROR(Table3[[#This Row],[Average $ Raised per 1% of Time]]*$Q$6,\"\")","v":""},{"$f":"IFERROR(Table3[[#This Row],[Average $ Raised per 1% of Time]]*$R$6,\"\")","v":""},{"$f":"IFERROR(Table3[[#This Row],[Average $ Raised per 1% of Time]]*$S$6,\"\")","v":""},{"$f":"IFERROR(Table3[[#This Row],[Average $ Raised per 1% of Time]]*$T$6,\"\")","v":""},{"$f":"IFERROR(Table3[[#This Row],[Average $ Raised per 1% of Time]]*$U$6,\"\")","v":""},{"$f":"IFERROR(Table3[[#This Row],[Average $ Raised per 1% of Time]]*$V$6,\"\")","v":""},{"$f":"IFERROR(Table3[[#This Row],[Average $ Raised per 1% of Time]]*$W$6,\"\")","v":""},{"$f":"IFERROR(Table3[[#This Row],[Average $ Raised per 1% of Time]]*$X$6,\"\")","v":""}]
[{"$f":"IF(Table5[Gift Officer Name]<>\"\",Table5[Gift Officer Name],\"\")","v":""},{"$f":"IFERROR(AVERAGE(Table5[[#This Row],[Total Dollars Raised in FY19]:[Total Dollars Raised in FY17]]),\"\")","v":""},{"$f":"IFERROR(AVERAGE(Table5[[#This Row],[Total Dollars Raised in FY19]:[Total Dollars Raised in FY17]])/Table5[[#This Row],[Estimated % of Time Spent on Fundraising]],\"\")","v":""},{"$f":"IFERROR(Table3[[#This Row],[Average $ Raised per 1% of Time]]*AVERAGEIF(Table5[Estimated % of Time Spent on Fundraising],\"<>\"\"\"),\"\")","v":""},{"$f":"IFERROR(Table3[[#This Row],[Average $ Raised per 1% of Time]]*$E$6,\"\")","v":""},{"$f":"IFERROR(Table3[[#This Row],[Average $ Raised per 1% of Time]]*$F$6,\"\")","v":""},{"$f":"IFERROR(Table3[[#This Row],[Average $ Raised per 1% of Time]]*$G$6,\"\")","v":""},{"$f":"IFERROR(Table3[[#This Row],[Average $ Raised per 1% of Time]]*$H$6,\"\")","v":""},{"$f":"IFERROR(Table3[[#This Row],[Average $ Raised per 1% of Time]]*$I$6,\"\")","v":""},{"$f":"IFERROR(Table3[[#This Row],[Average $ Raised per 1% of Time]]*$J$6,\"\")","v":""},{"$f":"IFERROR(Table3[[#This Row],[Average $ Raised per 1% of Time]]*$K$6,\"\")","v":""},{"$f":"IFERROR(Table3[[#This Row],[Average $ Raised per 1% of Time]]*$L$6,\"\")","v":""},{"$f":"IFERROR(Table3[[#This Row],[Average $ Raised per 1% of Time]]*$M$6,\"\")","v":""},{"$f":"IFERROR(Table3[[#This Row],[Average $ Raised per 1% of Time]]*$N$6,\"\")","v":""},{"$f":"IFERROR(Table3[[#This Row],[Average $ Raised per 1% of Time]]*$O$6,\"\")","v":""},{"$f":"IFERROR(Table3[[#This Row],[Average $ Raised per 1% of Time]]*$P$6,\"\")","v":""},{"$f":"IFERROR(Table3[[#This Row],[Average $ Raised per 1% of Time]]*$Q$6,\"\")","v":""},{"$f":"IFERROR(Table3[[#This Row],[Average $ Raised per 1% of Time]]*$R$6,\"\")","v":""},{"$f":"IFERROR(Table3[[#This Row],[Average $ Raised per 1% of Time]]*$S$6,\"\")","v":""},{"$f":"IFERROR(Table3[[#This Row],[Average $ Raised per 1% of Time]]*$T$6,\"\")","v":""},{"$f":"IFERROR(Table3[[#This Row],[Average $ Raised per 1% of Time]]*$U$6,\"\")","v":""},{"$f":"IFERROR(Table3[[#This Row],[Average $ Raised per 1% of Time]]*$V$6,\"\")","v":""},{"$f":"IFERROR(Table3[[#This Row],[Average $ Raised per 1% of Time]]*$W$6,\"\")","v":""},{"$f":"IFERROR(Table3[[#This Row],[Average $ Raised per 1% of Time]]*$X$6,\"\")","v":""}]
[{"$f":"IF(Table5[Gift Officer Name]<>\"\",Table5[Gift Officer Name],\"\")","v":""},{"$f":"IFERROR(AVERAGE(Table5[[#This Row],[Total Dollars Raised in FY19]:[Total Dollars Raised in FY17]]),\"\")","v":""},{"$f":"IFERROR(AVERAGE(Table5[[#This Row],[Total Dollars Raised in FY19]:[Total Dollars Raised in FY17]])/Table5[[#This Row],[Estimated % of Time Spent on Fundraising]],\"\")","v":""},{"$f":"IFERROR(Table3[[#This Row],[Average $ Raised per 1% of Time]]*AVERAGEIF(Table5[Estimated % of Time Spent on Fundraising],\"<>\"\"\"),\"\")","v":""},{"$f":"IFERROR(Table3[[#This Row],[Average $ Raised per 1% of Time]]*$E$6,\"\")","v":""},{"$f":"IFERROR(Table3[[#This Row],[Average $ Raised per 1% of Time]]*$F$6,\"\")","v":""},{"$f":"IFERROR(Table3[[#This Row],[Average $ Raised per 1% of Time]]*$G$6,\"\")","v":""},{"$f":"IFERROR(Table3[[#This Row],[Average $ Raised per 1% of Time]]*$H$6,\"\")","v":""},{"$f":"IFERROR(Table3[[#This Row],[Average $ Raised per 1% of Time]]*$I$6,\"\")","v":""},{"$f":"IFERROR(Table3[[#This Row],[Average $ Raised per 1% of Time]]*$J$6,\"\")","v":""},{"$f":"IFERROR(Table3[[#This Row],[Average $ Raised per 1% of Time]]*$K$6,\"\")","v":""},{"$f":"IFERROR(Table3[[#This Row],[Average $ Raised per 1% of Time]]*$L$6,\"\")","v":""},{"$f":"IFERROR(Table3[[#This Row],[Average $ Raised per 1% of Time]]*$M$6,\"\")","v":""},{"$f":"IFERROR(Table3[[#This Row],[Average $ Raised per 1% of Time]]*$N$6,\"\")","v":""},{"$f":"IFERROR(Table3[[#This Row],[Average $ Raised per 1% of Time]]*$O$6,\"\")","v":""},{"$f":"IFERROR(Table3[[#This Row],[Average $ Raised per 1% of Time]]*$P$6,\"\")","v":""},{"$f":"IFERROR(Table3[[#This Row],[Average $ Raised per 1% of Time]]*$Q$6,\"\")","v":""},{"$f":"IFERROR(Table3[[#This Row],[Average $ Raised per 1% of Time]]*$R$6,\"\")","v":""},{"$f":"IFERROR(Table3[[#This Row],[Average $ Raised per 1% of Time]]*$S$6,\"\")","v":""},{"$f":"IFERROR(Table3[[#This Row],[Average $ Raised per 1% of Time]]*$T$6,\"\")","v":""},{"$f":"IFERROR(Table3[[#This Row],[Average $ Raised per 1% of Time]]*$U$6,\"\")","v":""},{"$f":"IFERROR(Table3[[#This Row],[Average $ Raised per 1% of Time]]*$V$6,\"\")","v":""},{"$f":"IFERROR(Table3[[#This Row],[Average $ Raised per 1% of Time]]*$W$6,\"\")","v":""},{"$f":"IFERROR(Table3[[#This Row],[Average $ Raised per 1% of Time]]*$X$6,\"\")","v":""}]
[{"$f":"IF(Table5[Gift Officer Name]<>\"\",Table5[Gift Officer Name],\"\")","v":""},{"$f":"IFERROR(AVERAGE(Table5[[#This Row],[Total Dollars Raised in FY19]:[Total Dollars Raised in FY17]]),\"\")","v":""},{"$f":"IFERROR(AVERAGE(Table5[[#This Row],[Total Dollars Raised in FY19]:[Total Dollars Raised in FY17]])/Table5[[#This Row],[Estimated % of Time Spent on Fundraising]],\"\")","v":""},{"$f":"IFERROR(Table3[[#This Row],[Average $ Raised per 1% of Time]]*AVERAGEIF(Table5[Estimated % of Time Spent on Fundraising],\"<>\"\"\"),\"\")","v":""},{"$f":"IFERROR(Table3[[#This Row],[Average $ Raised per 1% of Time]]*$E$6,\"\")","v":""},{"$f":"IFERROR(Table3[[#This Row],[Average $ Raised per 1% of Time]]*$F$6,\"\")","v":""},{"$f":"IFERROR(Table3[[#This Row],[Average $ Raised per 1% of Time]]*$G$6,\"\")","v":""},{"$f":"IFERROR(Table3[[#This Row],[Average $ Raised per 1% of Time]]*$H$6,\"\")","v":""},{"$f":"IFERROR(Table3[[#This Row],[Average $ Raised per 1% of Time]]*$I$6,\"\")","v":""},{"$f":"IFERROR(Table3[[#This Row],[Average $ Raised per 1% of Time]]*$J$6,\"\")","v":""},{"$f":"IFERROR(Table3[[#This Row],[Average $ Raised per 1% of Time]]*$K$6,\"\")","v":""},{"$f":"IFERROR(Table3[[#This Row],[Average $ Raised per 1% of Time]]*$L$6,\"\")","v":""},{"$f":"IFERROR(Table3[[#This Row],[Average $ Raised per 1% of Time]]*$M$6,\"\")","v":""},{"$f":"IFERROR(Table3[[#This Row],[Average $ Raised per 1% of Time]]*$N$6,\"\")","v":""},{"$f":"IFERROR(Table3[[#This Row],[Average $ Raised per 1% of Time]]*$O$6,\"\")","v":""},{"$f":"IFERROR(Table3[[#This Row],[Average $ Raised per 1% of Time]]*$P$6,\"\")","v":""},{"$f":"IFERROR(Table3[[#This Row],[Average $ Raised per 1% of Time]]*$Q$6,\"\")","v":""},{"$f":"IFERROR(Table3[[#This Row],[Average $ Raised per 1% of Time]]*$R$6,\"\")","v":""},{"$f":"IFERROR(Table3[[#This Row],[Average $ Raised per 1% of Time]]*$S$6,\"\")","v":""},{"$f":"IFERROR(Table3[[#This Row],[Average $ Raised per 1% of Time]]*$T$6,\"\")","v":""},{"$f":"IFERROR(Table3[[#This Row],[Average $ Raised per 1% of Time]]*$U$6,\"\")","v":""},{"$f":"IFERROR(Table3[[#This Row],[Average $ Raised per 1% of Time]]*$V$6,\"\")","v":""},{"$f":"IFERROR(Table3[[#This Row],[Average $ Raised per 1% of Time]]*$W$6,\"\")","v":""},{"$f":"IFERROR(Table3[[#This Row],[Average $ Raised per 1% of Time]]*$X$6,\"\")","v":""}]
[{"$f":"IF(Table5[Gift Officer Name]<>\"\",Table5[Gift Officer Name],\"\")","v":""},{"$f":"IFERROR(AVERAGE(Table5[[#This Row],[Total Dollars Raised in FY19]:[Total Dollars Raised in FY17]]),\"\")","v":""},{"$f":"IFERROR(AVERAGE(Table5[[#This Row],[Total Dollars Raised in FY19]:[Total Dollars Raised in FY17]])/Table5[[#This Row],[Estimated % of Time Spent on Fundraising]],\"\")","v":""},{"$f":"IFERROR(Table3[[#This Row],[Average $ Raised per 1% of Time]]*AVERAGEIF(Table5[Estimated % of Time Spent on Fundraising],\"<>\"\"\"),\"\")","v":""},{"$f":"IFERROR(Table3[[#This Row],[Average $ Raised per 1% of Time]]*$E$6,\"\")","v":""},{"$f":"IFERROR(Table3[[#This Row],[Average $ Raised per 1% of Time]]*$F$6,\"\")","v":""},{"$f":"IFERROR(Table3[[#This Row],[Average $ Raised per 1% of Time]]*$G$6,\"\")","v":""},{"$f":"IFERROR(Table3[[#This Row],[Average $ Raised per 1% of Time]]*$H$6,\"\")","v":""},{"$f":"IFERROR(Table3[[#This Row],[Average $ Raised per 1% of Time]]*$I$6,\"\")","v":""},{"$f":"IFERROR(Table3[[#This Row],[Average $ Raised per 1% of Time]]*$J$6,\"\")","v":""},{"$f":"IFERROR(Table3[[#This Row],[Average $ Raised per 1% of Time]]*$K$6,\"\")","v":""},{"$f":"IFERROR(Table3[[#This Row],[Average $ Raised per 1% of Time]]*$L$6,\"\")","v":""},{"$f":"IFERROR(Table3[[#This Row],[Average $ Raised per 1% of Time]]*$M$6,\"\")","v":""},{"$f":"IFERROR(Table3[[#This Row],[Average $ Raised per 1% of Time]]*$N$6,\"\")","v":""},{"$f":"IFERROR(Table3[[#This Row],[Average $ Raised per 1% of Time]]*$O$6,\"\")","v":""},{"$f":"IFERROR(Table3[[#This Row],[Average $ Raised per 1% of Time]]*$P$6,\"\")","v":""},{"$f":"IFERROR(Table3[[#This Row],[Average $ Raised per 1% of Time]]*$Q$6,\"\")","v":""},{"$f":"IFERROR(Table3[[#This Row],[Average $ Raised per 1% of Time]]*$R$6,\"\")","v":""},{"$f":"IFERROR(Table3[[#This Row],[Average $ Raised per 1% of Time]]*$S$6,\"\")","v":""},{"$f":"IFERROR(Table3[[#This Row],[Average $ Raised per 1% of Time]]*$T$6,\"\")","v":""},{"$f":"IFERROR(Table3[[#This Row],[Average $ Raised per 1% of Time]]*$U$6,\"\")","v":""},{"$f":"IFERROR(Table3[[#This Row],[Average $ Raised per 1% of Time]]*$V$6,\"\")","v":""},{"$f":"IFERROR(Table3[[#This Row],[Average $ Raised per 1% of Time]]*$W$6,\"\")","v":""},{"$f":"IFERROR(Table3[[#This Row],[Average $ Raised per 1% of Time]]*$X$6,\"\")","v":""}]
[{"$f":"IF(Table5[Gift Officer Name]<>\"\",Table5[Gift Officer Name],\"\")","v":""},{"$f":"IFERROR(AVERAGE(Table5[[#This Row],[Total Dollars Raised in FY19]:[Total Dollars Raised in FY17]]),\"\")","v":""},{"$f":"IFERROR(AVERAGE(Table5[[#This Row],[Total Dollars Raised in FY19]:[Total Dollars Raised in FY17]])/Table5[[#This Row],[Estimated % of Time Spent on Fundraising]],\"\")","v":""},{"$f":"IFERROR(Table3[[#This Row],[Average $ Raised per 1% of Time]]*AVERAGEIF(Table5[Estimated % of Time Spent on Fundraising],\"<>\"\"\"),\"\")","v":""},{"$f":"IFERROR(Table3[[#This Row],[Average $ Raised per 1% of Time]]*$E$6,\"\")","v":""},{"$f":"IFERROR(Table3[[#This Row],[Average $ Raised per 1% of Time]]*$F$6,\"\")","v":""},{"$f":"IFERROR(Table3[[#This Row],[Average $ Raised per 1% of Time]]*$G$6,\"\")","v":""},{"$f":"IFERROR(Table3[[#This Row],[Average $ Raised per 1% of Time]]*$H$6,\"\")","v":""},{"$f":"IFERROR(Table3[[#This Row],[Average $ Raised per 1% of Time]]*$I$6,\"\")","v":""},{"$f":"IFERROR(Table3[[#This Row],[Average $ Raised per 1% of Time]]*$J$6,\"\")","v":""},{"$f":"IFERROR(Table3[[#This Row],[Average $ Raised per 1% of Time]]*$K$6,\"\")","v":""},{"$f":"IFERROR(Table3[[#This Row],[Average $ Raised per 1% of Time]]*$L$6,\"\")","v":""},{"$f":"IFERROR(Table3[[#This Row],[Average $ Raised per 1% of Time]]*$M$6,\"\")","v":""},{"$f":"IFERROR(Table3[[#This Row],[Average $ Raised per 1% of Time]]*$N$6,\"\")","v":""},{"$f":"IFERROR(Table3[[#This Row],[Average $ Raised per 1% of Time]]*$O$6,\"\")","v":""},{"$f":"IFERROR(Table3[[#This Row],[Average $ Raised per 1% of Time]]*$P$6,\"\")","v":""},{"$f":"IFERROR(Table3[[#This Row],[Average $ Raised per 1% of Time]]*$Q$6,\"\")","v":""},{"$f":"IFERROR(Table3[[#This Row],[Average $ Raised per 1% of Time]]*$R$6,\"\")","v":""},{"$f":"IFERROR(Table3[[#This Row],[Average $ Raised per 1% of Time]]*$S$6,\"\")","v":""},{"$f":"IFERROR(Table3[[#This Row],[Average $ Raised per 1% of Time]]*$T$6,\"\")","v":""},{"$f":"IFERROR(Table3[[#This Row],[Average $ Raised per 1% of Time]]*$U$6,\"\")","v":""},{"$f":"IFERROR(Table3[[#This Row],[Average $ Raised per 1% of Time]]*$V$6,\"\")","v":""},{"$f":"IFERROR(Table3[[#This Row],[Average $ Raised per 1% of Time]]*$W$6,\"\")","v":""},{"$f":"IFERROR(Table3[[#This Row],[Average $ Raised per 1% of Time]]*$X$6,\"\")","v":""}]
[{"$f":"IF(Table5[Gift Officer Name]<>\"\",Table5[Gift Officer Name],\"\")","v":""},{"$f":"IFERROR(AVERAGE(Table5[[#This Row],[Total Dollars Raised in FY19]:[Total Dollars Raised in FY17]]),\"\")","v":""},{"$f":"IFERROR(AVERAGE(Table5[[#This Row],[Total Dollars Raised in FY19]:[Total Dollars Raised in FY17]])/Table5[[#This Row],[Estimated % of Time Spent on Fundraising]],\"\")","v":""},{"$f":"IFERROR(Table3[[#This Row],[Average $ Raised per 1% of Time]]*AVERAGEIF(Table5[Estimated % of Time Spent on Fundraising],\"<>\"\"\"),\"\")","v":""},{"$f":"IFERROR(Table3[[#This Row],[Average $ Raised per 1% of Time]]*$E$6,\"\")","v":""},{"$f":"IFERROR(Table3[[#This Row],[Average $ Raised per 1% of Time]]*$F$6,\"\")","v":""},{"$f":"IFERROR(Table3[[#This Row],[Average $ Raised per 1% of Time]]*$G$6,\"\")","v":""},{"$f":"IFERROR(Table3[[#This Row],[Average $ Raised per 1% of Time]]*$H$6,\"\")","v":""},{"$f":"IFERROR(Table3[[#This Row],[Average $ Raised per 1% of Time]]*$I$6,\"\")","v":""},{"$f":"IFERROR(Table3[[#This Row],[Average $ Raised per 1% of Time]]*$J$6,\"\")","v":""},{"$f":"IFERROR(Table3[[#This Row],[Average $ Raised per 1% of Time]]*$K$6,\"\")","v":""},{"$f":"IFERROR(Table3[[#This Row],[Average $ Raised per 1% of Time]]*$L$6,\"\")","v":""},{"$f":"IFERROR(Table3[[#This Row],[Average $ Raised per 1% of Time]]*$M$6,\"\")","v":""},{"$f":"IFERROR(Table3[[#This Row],[Average $ Raised per 1% of Time]]*$N$6,\"\")","v":""},{"$f":"IFERROR(Table3[[#This Row],[Average $ Raised per 1% of Time]]*$O$6,\"\")","v":""},{"$f":"IFERROR(Table3[[#This Row],[Average $ Raised per 1% of Time]]*$P$6,\"\")","v":""},{"$f":"IFERROR(Table3[[#This Row],[Average $ Raised per 1% of Time]]*$Q$6,\"\")","v":""},{"$f":"IFERROR(Table3[[#This Row],[Average $ Raised per 1% of Time]]*$R$6,\"\")","v":""},{"$f":"IFERROR(Table3[[#This Row],[Average $ Raised per 1% of Time]]*$S$6,\"\")","v":""},{"$f":"IFERROR(Table3[[#This Row],[Average $ Raised per 1% of Time]]*$T$6,\"\")","v":""},{"$f":"IFERROR(Table3[[#This Row],[Average $ Raised per 1% of Time]]*$U$6,\"\")","v":""},{"$f":"IFERROR(Table3[[#This Row],[Average $ Raised per 1% of Time]]*$V$6,\"\")","v":""},{"$f":"IFERROR(Table3[[#This Row],[Average $ Raised per 1% of Time]]*$W$6,\"\")","v":""},{"$f":"IFERROR(Table3[[#This Row],[Average $ Raised per 1% of Time]]*$X$6,\"\")","v":""}]
[{"$f":"IF(Table5[Gift Officer Name]<>\"\",Table5[Gift Officer Name],\"\")","v":""},{"$f":"IFERROR(AVERAGE(Table5[[#This Row],[Total Dollars Raised in FY19]:[Total Dollars Raised in FY17]]),\"\")","v":""},{"$f":"IFERROR(AVERAGE(Table5[[#This Row],[Total Dollars Raised in FY19]:[Total Dollars Raised in FY17]])/Table5[[#This Row],[Estimated % of Time Spent on Fundraising]],\"\")","v":""},{"$f":"IFERROR(Table3[[#This Row],[Average $ Raised per 1% of Time]]*AVERAGEIF(Table5[Estimated % of Time Spent on Fundraising],\"<>\"\"\"),\"\")","v":""},{"$f":"IFERROR(Table3[[#This Row],[Average $ Raised per 1% of Time]]*$E$6,\"\")","v":""},{"$f":"IFERROR(Table3[[#This Row],[Average $ Raised per 1% of Time]]*$F$6,\"\")","v":""},{"$f":"IFERROR(Table3[[#This Row],[Average $ Raised per 1% of Time]]*$G$6,\"\")","v":""},{"$f":"IFERROR(Table3[[#This Row],[Average $ Raised per 1% of Time]]*$H$6,\"\")","v":""},{"$f":"IFERROR(Table3[[#This Row],[Average $ Raised per 1% of Time]]*$I$6,\"\")","v":""},{"$f":"IFERROR(Table3[[#This Row],[Average $ Raised per 1% of Time]]*$J$6,\"\")","v":""},{"$f":"IFERROR(Table3[[#This Row],[Average $ Raised per 1% of Time]]*$K$6,\"\")","v":""},{"$f":"IFERROR(Table3[[#This Row],[Average $ Raised per 1% of Time]]*$L$6,\"\")","v":""},{"$f":"IFERROR(Table3[[#This Row],[Average $ Raised per 1% of Time]]*$M$6,\"\")","v":""},{"$f":"IFERROR(Table3[[#This Row],[Average $ Raised per 1% of Time]]*$N$6,\"\")","v":""},{"$f":"IFERROR(Table3[[#This Row],[Average $ Raised per 1% of Time]]*$O$6,\"\")","v":""},{"$f":"IFERROR(Table3[[#This Row],[Average $ Raised per 1% of Time]]*$P$6,\"\")","v":""},{"$f":"IFERROR(Table3[[#This Row],[Average $ Raised per 1% of Time]]*$Q$6,\"\")","v":""},{"$f":"IFERROR(Table3[[#This Row],[Average $ Raised per 1% of Time]]*$R$6,\"\")","v":""},{"$f":"IFERROR(Table3[[#This Row],[Average $ Raised per 1% of Time]]*$S$6,\"\")","v":""},{"$f":"IFERROR(Table3[[#This Row],[Average $ Raised per 1% of Time]]*$T$6,\"\")","v":""},{"$f":"IFERROR(Table3[[#This Row],[Average $ Raised per 1% of Time]]*$U$6,\"\")","v":""},{"$f":"IFERROR(Table3[[#This Row],[Average $ Raised per 1% of Time]]*$V$6,\"\")","v":""},{"$f":"IFERROR(Table3[[#This Row],[Average $ Raised per 1% of Time]]*$W$6,\"\")","v":""},{"$f":"IFERROR(Table3[[#This Row],[Average $ Raised per 1% of Time]]*$X$6,\"\")","v":""}]
[{"$f":"IF(Table5[Gift Officer Name]<>\"\",Table5[Gift Officer Name],\"\")","v":""},{"$f":"IFERROR(AVERAGE(Table5[[#This Row],[Total Dollars Raised in FY19]:[Total Dollars Raised in FY17]]),\"\")","v":""},{"$f":"IFERROR(AVERAGE(Table5[[#This Row],[Total Dollars Raised in FY19]:[Total Dollars Raised in FY17]])/Table5[[#This Row],[Estimated % of Time Spent on Fundraising]],\"\")","v":""},{"$f":"IFERROR(Table3[[#This Row],[Average $ Raised per 1% of Time]]*AVERAGEIF(Table5[Estimated % of Time Spent on Fundraising],\"<>\"\"\"),\"\")","v":""},{"$f":"IFERROR(Table3[[#This Row],[Average $ Raised per 1% of Time]]*$E$6,\"\")","v":""},{"$f":"IFERROR(Table3[[#This Row],[Average $ Raised per 1% of Time]]*$F$6,\"\")","v":""},{"$f":"IFERROR(Table3[[#This Row],[Average $ Raised per 1% of Time]]*$G$6,\"\")","v":""},{"$f":"IFERROR(Table3[[#This Row],[Average $ Raised per 1% of Time]]*$H$6,\"\")","v":""},{"$f":"IFERROR(Table3[[#This Row],[Average $ Raised per 1% of Time]]*$I$6,\"\")","v":""},{"$f":"IFERROR(Table3[[#This Row],[Average $ Raised per 1% of Time]]*$J$6,\"\")","v":""},{"$f":"IFERROR(Table3[[#This Row],[Average $ Raised per 1% of Time]]*$K$6,\"\")","v":""},{"$f":"IFERROR(Table3[[#This Row],[Average $ Raised per 1% of Time]]*$L$6,\"\")","v":""},{"$f":"IFERROR(Table3[[#This Row],[Average $ Raised per 1% of Time]]*$M$6,\"\")","v":""},{"$f":"IFERROR(Table3[[#This Row],[Average $ Raised per 1% of Time]]*$N$6,\"\")","v":""},{"$f":"IFERROR(Table3[[#This Row],[Average $ Raised per 1% of Time]]*$O$6,\"\")","v":""},{"$f":"IFERROR(Table3[[#This Row],[Average $ Raised per 1% of Time]]*$P$6,\"\")","v":""},{"$f":"IFERROR(Table3[[#This Row],[Average $ Raised per 1% of Time]]*$Q$6,\"\")","v":""},{"$f":"IFERROR(Table3[[#This Row],[Average $ Raised per 1% of Time]]*$R$6,\"\")","v":""},{"$f":"IFERROR(Table3[[#This Row],[Average $ Raised per 1% of Time]]*$S$6,\"\")","v":""},{"$f":"IFERROR(Table3[[#This Row],[Average $ Raised per 1% of Time]]*$T$6,\"\")","v":""},{"$f":"IFERROR(Table3[[#This Row],[Average $ Raised per 1% of Time]]*$U$6,\"\")","v":""},{"$f":"IFERROR(Table3[[#This Row],[Average $ Raised per 1% of Time]]*$V$6,\"\")","v":""},{"$f":"IFERROR(Table3[[#This Row],[Average $ Raised per 1% of Time]]*$W$6,\"\")","v":""},{"$f":"IFERROR(Table3[[#This Row],[Average $ Raised per 1% of Time]]*$X$6,\"\")","v":""}]
[{"$f":"IF(Table5[Gift Officer Name]<>\"\",Table5[Gift Officer Name],\"\")","v":""},{"$f":"IFERROR(AVERAGE(Table5[[#This Row],[Total Dollars Raised in FY19]:[Total Dollars Raised in FY17]]),\"\")","v":""},{"$f":"IFERROR(AVERAGE(Table5[[#This Row],[Total Dollars Raised in FY19]:[Total Dollars Raised in FY17]])/Table5[[#This Row],[Estimated % of Time Spent on Fundraising]],\"\")","v":""},{"$f":"IFERROR(Table3[[#This Row],[Average $ Raised per 1% of Time]]*AVERAGEIF(Table5[Estimated % of Time Spent on Fundraising],\"<>\"\"\"),\"\")","v":""},{"$f":"IFERROR(Table3[[#This Row],[Average $ Raised per 1% of Time]]*$E$6,\"\")","v":""},{"$f":"IFERROR(Table3[[#This Row],[Average $ Raised per 1% of Time]]*$F$6,\"\")","v":""},{"$f":"IFERROR(Table3[[#This Row],[Average $ Raised per 1% of Time]]*$G$6,\"\")","v":""},{"$f":"IFERROR(Table3[[#This Row],[Average $ Raised per 1% of Time]]*$H$6,\"\")","v":""},{"$f":"IFERROR(Table3[[#This Row],[Average $ Raised per 1% of Time]]*$I$6,\"\")","v":""},{"$f":"IFERROR(Table3[[#This Row],[Average $ Raised per 1% of Time]]*$J$6,\"\")","v":""},{"$f":"IFERROR(Table3[[#This Row],[Average $ Raised per 1% of Time]]*$K$6,\"\")","v":""},{"$f":"IFERROR(Table3[[#This Row],[Average $ Raised per 1% of Time]]*$L$6,\"\")","v":""},{"$f":"IFERROR(Table3[[#This Row],[Average $ Raised per 1% of Time]]*$M$6,\"\")","v":""},{"$f":"IFERROR(Table3[[#This Row],[Average $ Raised per 1% of Time]]*$N$6,\"\")","v":""},{"$f":"IFERROR(Table3[[#This Row],[Average $ Raised per 1% of Time]]*$O$6,\"\")","v":""},{"$f":"IFERROR(Table3[[#This Row],[Average $ Raised per 1% of Time]]*$P$6,\"\")","v":""},{"$f":"IFERROR(Table3[[#This Row],[Average $ Raised per 1% of Time]]*$Q$6,\"\")","v":""},{"$f":"IFERROR(Table3[[#This Row],[Average $ Raised per 1% of Time]]*$R$6,\"\")","v":""},{"$f":"IFERROR(Table3[[#This Row],[Average $ Raised per 1% of Time]]*$S$6,\"\")","v":""},{"$f":"IFERROR(Table3[[#This Row],[Average $ Raised per 1% of Time]]*$T$6,\"\")","v":""},{"$f":"IFERROR(Table3[[#This Row],[Average $ Raised per 1% of Time]]*$U$6,\"\")","v":""},{"$f":"IFERROR(Table3[[#This Row],[Average $ Raised per 1% of Time]]*$V$6,\"\")","v":""},{"$f":"IFERROR(Table3[[#This Row],[Average $ Raised per 1% of Time]]*$W$6,\"\")","v":""},{"$f":"IFERROR(Table3[[#This Row],[Average $ Raised per 1% of Time]]*$X$6,\"\")","v":""}]
[{"$f":"IF(Table5[Gift Officer Name]<>\"\",Table5[Gift Officer Name],\"\")","v":""},{"$f":"IFERROR(AVERAGE(Table5[[#This Row],[Total Dollars Raised in FY19]:[Total Dollars Raised in FY17]]),\"\")","v":""},{"$f":"IFERROR(AVERAGE(Table5[[#This Row],[Total Dollars Raised in FY19]:[Total Dollars Raised in FY17]])/Table5[[#This Row],[Estimated % of Time Spent on Fundraising]],\"\")","v":""},{"$f":"IFERROR(Table3[[#This Row],[Average $ Raised per 1% of Time]]*AVERAGEIF(Table5[Estimated % of Time Spent on Fundraising],\"<>\"\"\"),\"\")","v":""},{"$f":"IFERROR(Table3[[#This Row],[Average $ Raised per 1% of Time]]*$E$6,\"\")","v":""},{"$f":"IFERROR(Table3[[#This Row],[Average $ Raised per 1% of Time]]*$F$6,\"\")","v":""},{"$f":"IFERROR(Table3[[#This Row],[Average $ Raised per 1% of Time]]*$G$6,\"\")","v":""},{"$f":"IFERROR(Table3[[#This Row],[Average $ Raised per 1% of Time]]*$H$6,\"\")","v":""},{"$f":"IFERROR(Table3[[#This Row],[Average $ Raised per 1% of Time]]*$I$6,\"\")","v":""},{"$f":"IFERROR(Table3[[#This Row],[Average $ Raised per 1% of Time]]*$J$6,\"\")","v":""},{"$f":"IFERROR(Table3[[#This Row],[Average $ Raised per 1% of Time]]*$K$6,\"\")","v":""},{"$f":"IFERROR(Table3[[#This Row],[Average $ Raised per 1% of Time]]*$L$6,\"\")","v":""},{"$f":"IFERROR(Table3[[#This Row],[Average $ Raised per 1% of Time]]*$M$6,\"\")","v":""},{"$f":"IFERROR(Table3[[#This Row],[Average $ Raised per 1% of Time]]*$N$6,\"\")","v":""},{"$f":"IFERROR(Table3[[#This Row],[Average $ Raised per 1% of Time]]*$O$6,\"\")","v":""},{"$f":"IFERROR(Table3[[#This Row],[Average $ Raised per 1% of Time]]*$P$6,\"\")","v":""},{"$f":"IFERROR(Table3[[#This Row],[Average $ Raised per 1% of Time]]*$Q$6,\"\")","v":""},{"$f":"IFERROR(Table3[[#This Row],[Average $ Raised per 1% of Time]]*$R$6,\"\")","v":""},{"$f":"IFERROR(Table3[[#This Row],[Average $ Raised per 1% of Time]]*$S$6,\"\")","v":""},{"$f":"IFERROR(Table3[[#This Row],[Average $ Raised per 1% of Time]]*$T$6,\"\")","v":""},{"$f":"IFERROR(Table3[[#This Row],[Average $ Raised per 1% of Time]]*$U$6,\"\")","v":""},{"$f":"IFERROR(Table3[[#This Row],[Average $ Raised per 1% of Time]]*$V$6,\"\")","v":""},{"$f":"IFERROR(Table3[[#This Row],[Average $ Raised per 1% of Time]]*$W$6,\"\")","v":""},{"$f":"IFERROR(Table3[[#This Row],[Average $ Raised per 1% of Time]]*$X$6,\"\")","v":""}]
[{"$f":"IF(Table5[Gift Officer Name]<>\"\",Table5[Gift Officer Name],\"\")","v":""},{"$f":"IFERROR(AVERAGE(Table5[[#This Row],[Total Dollars Raised in FY19]:[Total Dollars Raised in FY17]]),\"\")","v":""},{"$f":"IFERROR(AVERAGE(Table5[[#This Row],[Total Dollars Raised in FY19]:[Total Dollars Raised in FY17]])/Table5[[#This Row],[Estimated % of Time Spent on Fundraising]],\"\")","v":""},{"$f":"IFERROR(Table3[[#This Row],[Average $ Raised per 1% of Time]]*AVERAGEIF(Table5[Estimated % of Time Spent on Fundraising],\"<>\"\"\"),\"\")","v":""},{"$f":"IFERROR(Table3[[#This Row],[Average $ Raised per 1% of Time]]*$E$6,\"\")","v":""},{"$f":"IFERROR(Table3[[#This Row],[Average $ Raised per 1% of Time]]*$F$6,\"\")","v":""},{"$f":"IFERROR(Table3[[#This Row],[Average $ Raised per 1% of Time]]*$G$6,\"\")","v":""},{"$f":"IFERROR(Table3[[#This Row],[Average $ Raised per 1% of Time]]*$H$6,\"\")","v":""},{"$f":"IFERROR(Table3[[#This Row],[Average $ Raised per 1% of Time]]*$I$6,\"\")","v":""},{"$f":"IFERROR(Table3[[#This Row],[Average $ Raised per 1% of Time]]*$J$6,\"\")","v":""},{"$f":"IFERROR(Table3[[#This Row],[Average $ Raised per 1% of Time]]*$K$6,\"\")","v":""},{"$f":"IFERROR(Table3[[#This Row],[Average $ Raised per 1% of Time]]*$L$6,\"\")","v":""},{"$f":"IFERROR(Table3[[#This Row],[Average $ Raised per 1% of Time]]*$M$6,\"\")","v":""},{"$f":"IFERROR(Table3[[#This Row],[Average $ Raised per 1% of Time]]*$N$6,\"\")","v":""},{"$f":"IFERROR(Table3[[#This Row],[Average $ Raised per 1% of Time]]*$O$6,\"\")","v":""},{"$f":"IFERROR(Table3[[#This Row],[Average $ Raised per 1% of Time]]*$P$6,\"\")","v":""},{"$f":"IFERROR(Table3[[#This Row],[Average $ Raised per 1% of Time]]*$Q$6,\"\")","v":""},{"$f":"IFERROR(Table3[[#This Row],[Average $ Raised per 1% of Time]]*$R$6,\"\")","v":""},{"$f":"IFERROR(Table3[[#This Row],[Average $ Raised per 1% of Time]]*$S$6,\"\")","v":""},{"$f":"IFERROR(Table3[[#This Row],[Average $ Raised per 1% of Time]]*$T$6,\"\")","v":""},{"$f":"IFERROR(Table3[[#This Row],[Average $ Raised per 1% of Time]]*$U$6,\"\")","v":""},{"$f":"IFERROR(Table3[[#This Row],[Average $ Raised per 1% of Time]]*$V$6,\"\")","v":""},{"$f":"IFERROR(Table3[[#This Row],[Average $ Raised per 1% of Time]]*$W$6,\"\")","v":""},{"$f":"IFERROR(Table3[[#This Row],[Average $ Raised per 1% of Time]]*$X$6,\"\")","v":""}]
[{"$f":"IF(Table5[Gift Officer Name]<>\"\",Table5[Gift Officer Name],\"\")","v":""},{"$f":"IFERROR(AVERAGE(Table5[[#This Row],[Total Dollars Raised in FY19]:[Total Dollars Raised in FY17]]),\"\")","v":""},{"$f":"IFERROR(AVERAGE(Table5[[#This Row],[Total Dollars Raised in FY19]:[Total Dollars Raised in FY17]])/Table5[[#This Row],[Estimated % of Time Spent on Fundraising]],\"\")","v":""},{"$f":"IFERROR(Table3[[#This Row],[Average $ Raised per 1% of Time]]*AVERAGEIF(Table5[Estimated % of Time Spent on Fundraising],\"<>\"\"\"),\"\")","v":""},{"$f":"IFERROR(Table3[[#This Row],[Average $ Raised per 1% of Time]]*$E$6,\"\")","v":""},{"$f":"IFERROR(Table3[[#This Row],[Average $ Raised per 1% of Time]]*$F$6,\"\")","v":""},{"$f":"IFERROR(Table3[[#This Row],[Average $ Raised per 1% of Time]]*$G$6,\"\")","v":""},{"$f":"IFERROR(Table3[[#This Row],[Average $ Raised per 1% of Time]]*$H$6,\"\")","v":""},{"$f":"IFERROR(Table3[[#This Row],[Average $ Raised per 1% of Time]]*$I$6,\"\")","v":""},{"$f":"IFERROR(Table3[[#This Row],[Average $ Raised per 1% of Time]]*$J$6,\"\")","v":""},{"$f":"IFERROR(Table3[[#This Row],[Average $ Raised per 1% of Time]]*$K$6,\"\")","v":""},{"$f":"IFERROR(Table3[[#This Row],[Average $ Raised per 1% of Time]]*$L$6,\"\")","v":""},{"$f":"IFERROR(Table3[[#This Row],[Average $ Raised per 1% of Time]]*$M$6,\"\")","v":""},{"$f":"IFERROR(Table3[[#This Row],[Average $ Raised per 1% of Time]]*$N$6,\"\")","v":""},{"$f":"IFERROR(Table3[[#This Row],[Average $ Raised per 1% of Time]]*$O$6,\"\")","v":""},{"$f":"IFERROR(Table3[[#This Row],[Average $ Raised per 1% of Time]]*$P$6,\"\")","v":""},{"$f":"IFERROR(Table3[[#This Row],[Average $ Raised per 1% of Time]]*$Q$6,\"\")","v":""},{"$f":"IFERROR(Table3[[#This Row],[Average $ Raised per 1% of Time]]*$R$6,\"\")","v":""},{"$f":"IFERROR(Table3[[#This Row],[Average $ Raised per 1% of Time]]*$S$6,\"\")","v":""},{"$f":"IFERROR(Table3[[#This Row],[Average $ Raised per 1% of Time]]*$T$6,\"\")","v":""},{"$f":"IFERROR(Table3[[#This Row],[Average $ Raised per 1% of Time]]*$U$6,\"\")","v":""},{"$f":"IFERROR(Table3[[#This Row],[Average $ Raised per 1% of Time]]*$V$6,\"\")","v":""},{"$f":"IFERROR(Table3[[#This Row],[Average $ Raised per 1% of Time]]*$W$6,\"\")","v":""},{"$f":"IFERROR(Table3[[#This Row],[Average $ Raised per 1% of Time]]*$X$6,\"\")","v":""}]
[{"$f":"IF(Table5[Gift Officer Name]<>\"\",Table5[Gift Officer Name],\"\")","v":""},{"$f":"IFERROR(AVERAGE(Table5[[#This Row],[Total Dollars Raised in FY19]:[Total Dollars Raised in FY17]]),\"\")","v":""},{"$f":"IFERROR(AVERAGE(Table5[[#This Row],[Total Dollars Raised in FY19]:[Total Dollars Raised in FY17]])/Table5[[#This Row],[Estimated % of Time Spent on Fundraising]],\"\")","v":""},{"$f":"IFERROR(Table3[[#This Row],[Average $ Raised per 1% of Time]]*AVERAGEIF(Table5[Estimated % of Time Spent on Fundraising],\"<>\"\"\"),\"\")","v":""},{"$f":"IFERROR(Table3[[#This Row],[Average $ Raised per 1% of Time]]*$E$6,\"\")","v":""},{"$f":"IFERROR(Table3[[#This Row],[Average $ Raised per 1% of Time]]*$F$6,\"\")","v":""},{"$f":"IFERROR(Table3[[#This Row],[Average $ Raised per 1% of Time]]*$G$6,\"\")","v":""},{"$f":"IFERROR(Table3[[#This Row],[Average $ Raised per 1% of Time]]*$H$6,\"\")","v":""},{"$f":"IFERROR(Table3[[#This Row],[Average $ Raised per 1% of Time]]*$I$6,\"\")","v":""},{"$f":"IFERROR(Table3[[#This Row],[Average $ Raised per 1% of Time]]*$J$6,\"\")","v":""},{"$f":"IFERROR(Table3[[#This Row],[Average $ Raised per 1% of Time]]*$K$6,\"\")","v":""},{"$f":"IFERROR(Table3[[#This Row],[Average $ Raised per 1% of Time]]*$L$6,\"\")","v":""},{"$f":"IFERROR(Table3[[#This Row],[Average $ Raised per 1% of Time]]*$M$6,\"\")","v":""},{"$f":"IFERROR(Table3[[#This Row],[Average $ Raised per 1% of Time]]*$N$6,\"\")","v":""},{"$f":"IFERROR(Table3[[#This Row],[Average $ Raised per 1% of Time]]*$O$6,\"\")","v":""},{"$f":"IFERROR(Table3[[#This Row],[Average $ Raised per 1% of Time]]*$P$6,\"\")","v":""},{"$f":"IFERROR(Table3[[#This Row],[Average $ Raised per 1% of Time]]*$Q$6,\"\")","v":""},{"$f":"IFERROR(Table3[[#This Row],[Average $ Raised per 1% of Time]]*$R$6,\"\")","v":""},{"$f":"IFERROR(Table3[[#This Row],[Average $ Raised per 1% of Time]]*$S$6,\"\")","v":""},{"$f":"IFERROR(Table3[[#This Row],[Average $ Raised per 1% of Time]]*$T$6,\"\")","v":""},{"$f":"IFERROR(Table3[[#This Row],[Average $ Raised per 1% of Time]]*$U$6,\"\")","v":""},{"$f":"IFERROR(Table3[[#This Row],[Average $ Raised per 1% of Time]]*$V$6,\"\")","v":""},{"$f":"IFERROR(Table3[[#This Row],[Average $ Raised per 1% of Time]]*$W$6,\"\")","v":""},{"$f":"IFERROR(Table3[[#This Row],[Average $ Raised per 1% of Time]]*$X$6,\"\")","v":""}]
[{"$f":"IF(Table5[Gift Officer Name]<>\"\",Table5[Gift Officer Name],\"\")","v":""},{"$f":"IFERROR(AVERAGE(Table5[[#This Row],[Total Dollars Raised in FY19]:[Total Dollars Raised in FY17]]),\"\")","v":""},{"$f":"IFERROR(AVERAGE(Table5[[#This Row],[Total Dollars Raised in FY19]:[Total Dollars Raised in FY17]])/Table5[[#This Row],[Estimated % of Time Spent on Fundraising]],\"\")","v":""},{"$f":"IFERROR(Table3[[#This Row],[Average $ Raised per 1% of Time]]*AVERAGEIF(Table5[Estimated % of Time Spent on Fundraising],\"<>\"\"\"),\"\")","v":""},{"$f":"IFERROR(Table3[[#This Row],[Average $ Raised per 1% of Time]]*$E$6,\"\")","v":""},{"$f":"IFERROR(Table3[[#This Row],[Average $ Raised per 1% of Time]]*$F$6,\"\")","v":""},{"$f":"IFERROR(Table3[[#This Row],[Average $ Raised per 1% of Time]]*$G$6,\"\")","v":""},{"$f":"IFERROR(Table3[[#This Row],[Average $ Raised per 1% of Time]]*$H$6,\"\")","v":""},{"$f":"IFERROR(Table3[[#This Row],[Average $ Raised per 1% of Time]]*$I$6,\"\")","v":""},{"$f":"IFERROR(Table3[[#This Row],[Average $ Raised per 1% of Time]]*$J$6,\"\")","v":""},{"$f":"IFERROR(Table3[[#This Row],[Average $ Raised per 1% of Time]]*$K$6,\"\")","v":""},{"$f":"IFERROR(Table3[[#This Row],[Average $ Raised per 1% of Time]]*$L$6,\"\")","v":""},{"$f":"IFERROR(Table3[[#This Row],[Average $ Raised per 1% of Time]]*$M$6,\"\")","v":""},{"$f":"IFERROR(Table3[[#This Row],[Average $ Raised per 1% of Time]]*$N$6,\"\")","v":""},{"$f":"IFERROR(Table3[[#This Row],[Average $ Raised per 1% of Time]]*$O$6,\"\")","v":""},{"$f":"IFERROR(Table3[[#This Row],[Average $ Raised per 1% of Time]]*$P$6,\"\")","v":""},{"$f":"IFERROR(Table3[[#This Row],[Average $ Raised per 1% of Time]]*$Q$6,\"\")","v":""},{"$f":"IFERROR(Table3[[#This Row],[Average $ Raised per 1% of Time]]*$R$6,\"\")","v":""},{"$f":"IFERROR(Table3[[#This Row],[Average $ Raised per 1% of Time]]*$S$6,\"\")","v":""},{"$f":"IFERROR(Table3[[#This Row],[Average $ Raised per 1% of Time]]*$T$6,\"\")","v":""},{"$f":"IFERROR(Table3[[#This Row],[Average $ Raised per 1% of Time]]*$U$6,\"\")","v":""},{"$f":"IFERROR(Table3[[#This Row],[Average $ Raised per 1% of Time]]*$V$6,\"\")","v":""},{"$f":"IFERROR(Table3[[#This Row],[Average $ Raised per 1% of Time]]*$W$6,\"\")","v":""},{"$f":"IFERROR(Table3[[#This Row],[Average $ Raised per 1% of Time]]*$X$6,\"\")","v":""}]
[{"$f":"IF(Table5[Gift Officer Name]<>\"\",Table5[Gift Officer Name],\"\")","v":""},{"$f":"IFERROR(AVERAGE(Table5[[#This Row],[Total Dollars Raised in FY19]:[Total Dollars Raised in FY17]]),\"\")","v":""},{"$f":"IFERROR(AVERAGE(Table5[[#This Row],[Total Dollars Raised in FY19]:[Total Dollars Raised in FY17]])/Table5[[#This Row],[Estimated % of Time Spent on Fundraising]],\"\")","v":""},{"$f":"IFERROR(Table3[[#This Row],[Average $ Raised per 1% of Time]]*AVERAGEIF(Table5[Estimated % of Time Spent on Fundraising],\"<>\"\"\"),\"\")","v":""},{"$f":"IFERROR(Table3[[#This Row],[Average $ Raised per 1% of Time]]*$E$6,\"\")","v":""},{"$f":"IFERROR(Table3[[#This Row],[Average $ Raised per 1% of Time]]*$F$6,\"\")","v":""},{"$f":"IFERROR(Table3[[#This Row],[Average $ Raised per 1% of Time]]*$G$6,\"\")","v":""},{"$f":"IFERROR(Table3[[#This Row],[Average $ Raised per 1% of Time]]*$H$6,\"\")","v":""},{"$f":"IFERROR(Table3[[#This Row],[Average $ Raised per 1% of Time]]*$I$6,\"\")","v":""},{"$f":"IFERROR(Table3[[#This Row],[Average $ Raised per 1% of Time]]*$J$6,\"\")","v":""},{"$f":"IFERROR(Table3[[#This Row],[Average $ Raised per 1% of Time]]*$K$6,\"\")","v":""},{"$f":"IFERROR(Table3[[#This Row],[Average $ Raised per 1% of Time]]*$L$6,\"\")","v":""},{"$f":"IFERROR(Table3[[#This Row],[Average $ Raised per 1% of Time]]*$M$6,\"\")","v":""},{"$f":"IFERROR(Table3[[#This Row],[Average $ Raised per 1% of Time]]*$N$6,\"\")","v":""},{"$f":"IFERROR(Table3[[#This Row],[Average $ Raised per 1% of Time]]*$O$6,\"\")","v":""},{"$f":"IFERROR(Table3[[#This Row],[Average $ Raised per 1% of Time]]*$P$6,\"\")","v":""},{"$f":"IFERROR(Table3[[#This Row],[Average $ Raised per 1% of Time]]*$Q$6,\"\")","v":""},{"$f":"IFERROR(Table3[[#This Row],[Average $ Raised per 1% of Time]]*$R$6,\"\")","v":""},{"$f":"IFERROR(Table3[[#This Row],[Average $ Raised per 1% of Time]]*$S$6,\"\")","v":""},{"$f":"IFERROR(Table3[[#This Row],[Average $ Raised per 1% of Time]]*$T$6,\"\")","v":""},{"$f":"IFERROR(Table3[[#This Row],[Average $ Raised per 1% of Time]]*$U$6,\"\")","v":""},{"$f":"IFERROR(Table3[[#This Row],[Average $ Raised per 1% of Time]]*$V$6,\"\")","v":""},{"$f":"IFERROR(Table3[[#This Row],[Average $ Raised per 1% of Time]]*$W$6,\"\")","v":""},{"$f":"IFERROR(Table3[[#This Row],[Average $ Raised per 1% of Time]]*$X$6,\"\")","v":""}]
[{"$f":"IF(Table5[Gift Officer Name]<>\"\",Table5[Gift Officer Name],\"\")","v":""},{"$f":"IFERROR(AVERAGE(Table5[[#This Row],[Total Dollars Raised in FY19]:[Total Dollars Raised in FY17]]),\"\")","v":""},{"$f":"IFERROR(AVERAGE(Table5[[#This Row],[Total Dollars Raised in FY19]:[Total Dollars Raised in FY17]])/Table5[[#This Row],[Estimated % of Time Spent on Fundraising]],\"\")","v":""},{"$f":"IFERROR(Table3[[#This Row],[Average $ Raised per 1% of Time]]*AVERAGEIF(Table5[Estimated % of Time Spent on Fundraising],\"<>\"\"\"),\"\")","v":""},{"$f":"IFERROR(Table3[[#This Row],[Average $ Raised per 1% of Time]]*$E$6,\"\")","v":""},{"$f":"IFERROR(Table3[[#This Row],[Average $ Raised per 1% of Time]]*$F$6,\"\")","v":""},{"$f":"IFERROR(Table3[[#This Row],[Average $ Raised per 1% of Time]]*$G$6,\"\")","v":""},{"$f":"IFERROR(Table3[[#This Row],[Average $ Raised per 1% of Time]]*$H$6,\"\")","v":""},{"$f":"IFERROR(Table3[[#This Row],[Average $ Raised per 1% of Time]]*$I$6,\"\")","v":""},{"$f":"IFERROR(Table3[[#This Row],[Average $ Raised per 1% of Time]]*$J$6,\"\")","v":""},{"$f":"IFERROR(Table3[[#This Row],[Average $ Raised per 1% of Time]]*$K$6,\"\")","v":""},{"$f":"IFERROR(Table3[[#This Row],[Average $ Raised per 1% of Time]]*$L$6,\"\")","v":""},{"$f":"IFERROR(Table3[[#This Row],[Average $ Raised per 1% of Time]]*$M$6,\"\")","v":""},{"$f":"IFERROR(Table3[[#This Row],[Average $ Raised per 1% of Time]]*$N$6,\"\")","v":""},{"$f":"IFERROR(Table3[[#This Row],[Average $ Raised per 1% of Time]]*$O$6,\"\")","v":""},{"$f":"IFERROR(Table3[[#This Row],[Average $ Raised per 1% of Time]]*$P$6,\"\")","v":""},{"$f":"IFERROR(Table3[[#This Row],[Average $ Raised per 1% of Time]]*$Q$6,\"\")","v":""},{"$f":"IFERROR(Table3[[#This Row],[Average $ Raised per 1% of Time]]*$R$6,\"\")","v":""},{"$f":"IFERROR(Table3[[#This Row],[Average $ Raised per 1% of Time]]*$S$6,\"\")","v":""},{"$f":"IFERROR(Table3[[#This Row],[Average $ Raised per 1% of Time]]*$T$6,\"\")","v":""},{"$f":"IFERROR(Table3[[#This Row],[Average $ Raised per 1% of Time]]*$U$6,\"\")","v":""},{"$f":"IFERROR(Table3[[#This Row],[Average $ Raised per 1% of Time]]*$V$6,\"\")","v":""},{"$f":"IFERROR(Table3[[#This Row],[Average $ Raised per 1% of Time]]*$W$6,\"\")","v":""},{"$f":"IFERROR(Table3[[#This Row],[Average $ Raised per 1% of Time]]*$X$6,\"\")","v":""}]
[{"$f":"IF(Table5[Gift Officer Name]<>\"\",Table5[Gift Officer Name],\"\")","v":""},{"$f":"IFERROR(AVERAGE(Table5[[#This Row],[Total Dollars Raised in FY19]:[Total Dollars Raised in FY17]]),\"\")","v":""},{"$f":"IFERROR(AVERAGE(Table5[[#This Row],[Total Dollars Raised in FY19]:[Total Dollars Raised in FY17]])/Table5[[#This Row],[Estimated % of Time Spent on Fundraising]],\"\")","v":""},{"$f":"IFERROR(Table3[[#This Row],[Average $ Raised per 1% of Time]]*AVERAGEIF(Table5[Estimated % of Time Spent on Fundraising],\"<>\"\"\"),\"\")","v":""},{"$f":"IFERROR(Table3[[#This Row],[Average $ Raised per 1% of Time]]*$E$6,\"\")","v":""},{"$f":"IFERROR(Table3[[#This Row],[Average $ Raised per 1% of Time]]*$F$6,\"\")","v":""},{"$f":"IFERROR(Table3[[#This Row],[Average $ Raised per 1% of Time]]*$G$6,\"\")","v":""},{"$f":"IFERROR(Table3[[#This Row],[Average $ Raised per 1% of Time]]*$H$6,\"\")","v":""},{"$f":"IFERROR(Table3[[#This Row],[Average $ Raised per 1% of Time]]*$I$6,\"\")","v":""},{"$f":"IFERROR(Table3[[#This Row],[Average $ Raised per 1% of Time]]*$J$6,\"\")","v":""},{"$f":"IFERROR(Table3[[#This Row],[Average $ Raised per 1% of Time]]*$K$6,\"\")","v":""},{"$f":"IFERROR(Table3[[#This Row],[Average $ Raised per 1% of Time]]*$L$6,\"\")","v":""},{"$f":"IFERROR(Table3[[#This Row],[Average $ Raised per 1% of Time]]*$M$6,\"\")","v":""},{"$f":"IFERROR(Table3[[#This Row],[Average $ Raised per 1% of Time]]*$N$6,\"\")","v":""},{"$f":"IFERROR(Table3[[#This Row],[Average $ Raised per 1% of Time]]*$O$6,\"\")","v":""},{"$f":"IFERROR(Table3[[#This Row],[Average $ Raised per 1% of Time]]*$P$6,\"\")","v":""},{"$f":"IFERROR(Table3[[#This Row],[Average $ Raised per 1% of Time]]*$Q$6,\"\")","v":""},{"$f":"IFERROR(Table3[[#This Row],[Average $ Raised per 1% of Time]]*$R$6,\"\")","v":""},{"$f":"IFERROR(Table3[[#This Row],[Average $ Raised per 1% of Time]]*$S$6,\"\")","v":""},{"$f":"IFERROR(Table3[[#This Row],[Average $ Raised per 1% of Time]]*$T$6,\"\")","v":""},{"$f":"IFERROR(Table3[[#This Row],[Average $ Raised per 1% of Time]]*$U$6,\"\")","v":""},{"$f":"IFERROR(Table3[[#This Row],[Average $ Raised per 1% of Time]]*$V$6,\"\")","v":""},{"$f":"IFERROR(Table3[[#This Row],[Average $ Raised per 1% of Time]]*$W$6,\"\")","v":""},{"$f":"IFERROR(Table3[[#This Row],[Average $ Raised per 1% of Time]]*$X$6,\"\")","v":""}]
[{"$f":"IF(Table5[Gift Officer Name]<>\"\",Table5[Gift Officer Name],\"\")","v":""},{"$f":"IFERROR(AVERAGE(Table5[[#This Row],[Total Dollars Raised in FY19]:[Total Dollars Raised in FY17]]),\"\")","v":""},{"$f":"IFERROR(AVERAGE(Table5[[#This Row],[Total Dollars Raised in FY19]:[Total Dollars Raised in FY17]])/Table5[[#This Row],[Estimated % of Time Spent on Fundraising]],\"\")","v":""},{"$f":"IFERROR(Table3[[#This Row],[Average $ Raised per 1% of Time]]*AVERAGEIF(Table5[Estimated % of Time Spent on Fundraising],\"<>\"\"\"),\"\")","v":""},{"$f":"IFERROR(Table3[[#This Row],[Average $ Raised per 1% of Time]]*$E$6,\"\")","v":""},{"$f":"IFERROR(Table3[[#This Row],[Average $ Raised per 1% of Time]]*$F$6,\"\")","v":""},{"$f":"IFERROR(Table3[[#This Row],[Average $ Raised per 1% of Time]]*$G$6,\"\")","v":""},{"$f":"IFERROR(Table3[[#This Row],[Average $ Raised per 1% of Time]]*$H$6,\"\")","v":""},{"$f":"IFERROR(Table3[[#This Row],[Average $ Raised per 1% of Time]]*$I$6,\"\")","v":""},{"$f":"IFERROR(Table3[[#This Row],[Average $ Raised per 1% of Time]]*$J$6,\"\")","v":""},{"$f":"IFERROR(Table3[[#This Row],[Average $ Raised per 1% of Time]]*$K$6,\"\")","v":""},{"$f":"IFERROR(Table3[[#This Row],[Average $ Raised per 1% of Time]]*$L$6,\"\")","v":""},{"$f":"IFERROR(Table3[[#This Row],[Average $ Raised per 1% of Time]]*$M$6,\"\")","v":""},{"$f":"IFERROR(Table3[[#This Row],[Average $ Raised per 1% of Time]]*$N$6,\"\")","v":""},{"$f":"IFERROR(Table3[[#This Row],[Average $ Raised per 1% of Time]]*$O$6,\"\")","v":""},{"$f":"IFERROR(Table3[[#This Row],[Average $ Raised per 1% of Time]]*$P$6,\"\")","v":""},{"$f":"IFERROR(Table3[[#This Row],[Average $ Raised per 1% of Time]]*$Q$6,\"\")","v":""},{"$f":"IFERROR(Table3[[#This Row],[Average $ Raised per 1% of Time]]*$R$6,\"\")","v":""},{"$f":"IFERROR(Table3[[#This Row],[Average $ Raised per 1% of Time]]*$S$6,\"\")","v":""},{"$f":"IFERROR(Table3[[#This Row],[Average $ Raised per 1% of Time]]*$T$6,\"\")","v":""},{"$f":"IFERROR(Table3[[#This Row],[Average $ Raised per 1% of Time]]*$U$6,\"\")","v":""},{"$f":"IFERROR(Table3[[#This Row],[Average $ Raised per 1% of Time]]*$V$6,\"\")","v":""},{"$f":"IFERROR(Table3[[#This Row],[Average $ Raised per 1% of Time]]*$W$6,\"\")","v":""},{"$f":"IFERROR(Table3[[#This Row],[Average $ Raised per 1% of Time]]*$X$6,\"\")","v":""}]
[{"$f":"IF(Table5[Gift Officer Name]<>\"\",Table5[Gift Officer Name],\"\")","v":""},{"$f":"IFERROR(AVERAGE(Table5[[#This Row],[Total Dollars Raised in FY19]:[Total Dollars Raised in FY17]]),\"\")","v":""},{"$f":"IFERROR(AVERAGE(Table5[[#This Row],[Total Dollars Raised in FY19]:[Total Dollars Raised in FY17]])/Table5[[#This Row],[Estimated % of Time Spent on Fundraising]],\"\")","v":""},{"$f":"IFERROR(Table3[[#This Row],[Average $ Raised per 1% of Time]]*AVERAGEIF(Table5[Estimated % of Time Spent on Fundraising],\"<>\"\"\"),\"\")","v":""},{"$f":"IFERROR(Table3[[#This Row],[Average $ Raised per 1% of Time]]*$E$6,\"\")","v":""},{"$f":"IFERROR(Table3[[#This Row],[Average $ Raised per 1% of Time]]*$F$6,\"\")","v":""},{"$f":"IFERROR(Table3[[#This Row],[Average $ Raised per 1% of Time]]*$G$6,\"\")","v":""},{"$f":"IFERROR(Table3[[#This Row],[Average $ Raised per 1% of Time]]*$H$6,\"\")","v":""},{"$f":"IFERROR(Table3[[#This Row],[Average $ Raised per 1% of Time]]*$I$6,\"\")","v":""},{"$f":"IFERROR(Table3[[#This Row],[Average $ Raised per 1% of Time]]*$J$6,\"\")","v":""},{"$f":"IFERROR(Table3[[#This Row],[Average $ Raised per 1% of Time]]*$K$6,\"\")","v":""},{"$f":"IFERROR(Table3[[#This Row],[Average $ Raised per 1% of Time]]*$L$6,\"\")","v":""},{"$f":"IFERROR(Table3[[#This Row],[Average $ Raised per 1% of Time]]*$M$6,\"\")","v":""},{"$f":"IFERROR(Table3[[#This Row],[Average $ Raised per 1% of Time]]*$N$6,\"\")","v":""},{"$f":"IFERROR(Table3[[#This Row],[Average $ Raised per 1% of Time]]*$O$6,\"\")","v":""},{"$f":"IFERROR(Table3[[#This Row],[Average $ Raised per 1% of Time]]*$P$6,\"\")","v":""},{"$f":"IFERROR(Table3[[#This Row],[Average $ Raised per 1% of Time]]*$Q$6,\"\")","v":""},{"$f":"IFERROR(Table3[[#This Row],[Average $ Raised per 1% of Time]]*$R$6,\"\")","v":""},{"$f":"IFERROR(Table3[[#This Row],[Average $ Raised per 1% of Time]]*$S$6,\"\")","v":""},{"$f":"IFERROR(Table3[[#This Row],[Average $ Raised per 1% of Time]]*$T$6,\"\")","v":""},{"$f":"IFERROR(Table3[[#This Row],[Average $ Raised per 1% of Time]]*$U$6,\"\")","v":""},{"$f":"IFERROR(Table3[[#This Row],[Average $ Raised per 1% of Time]]*$V$6,\"\")","v":""},{"$f":"IFERROR(Table3[[#This Row],[Average $ Raised per 1% of Time]]*$W$6,\"\")","v":""},{"$f":"IFERROR(Table3[[#This Row],[Average $ Raised per 1% of Time]]*$X$6,\"\")","v":""}]
[{"$f":"IF(Table5[Gift Officer Name]<>\"\",Table5[Gift Officer Name],\"\")","v":""},{"$f":"IFERROR(AVERAGE(Table5[[#This Row],[Total Dollars Raised in FY19]:[Total Dollars Raised in FY17]]),\"\")","v":""},{"$f":"IFERROR(AVERAGE(Table5[[#This Row],[Total Dollars Raised in FY19]:[Total Dollars Raised in FY17]])/Table5[[#This Row],[Estimated % of Time Spent on Fundraising]],\"\")","v":""},{"$f":"IFERROR(Table3[[#This Row],[Average $ Raised per 1% of Time]]*AVERAGEIF(Table5[Estimated % of Time Spent on Fundraising],\"<>\"\"\"),\"\")","v":""},{"$f":"IFERROR(Table3[[#This Row],[Average $ Raised per 1% of Time]]*$E$6,\"\")","v":""},{"$f":"IFERROR(Table3[[#This Row],[Average $ Raised per 1% of Time]]*$F$6,\"\")","v":""},{"$f":"IFERROR(Table3[[#This Row],[Average $ Raised per 1% of Time]]*$G$6,\"\")","v":""},{"$f":"IFERROR(Table3[[#This Row],[Average $ Raised per 1% of Time]]*$H$6,\"\")","v":""},{"$f":"IFERROR(Table3[[#This Row],[Average $ Raised per 1% of Time]]*$I$6,\"\")","v":""},{"$f":"IFERROR(Table3[[#This Row],[Average $ Raised per 1% of Time]]*$J$6,\"\")","v":""},{"$f":"IFERROR(Table3[[#This Row],[Average $ Raised per 1% of Time]]*$K$6,\"\")","v":""},{"$f":"IFERROR(Table3[[#This Row],[Average $ Raised per 1% of Time]]*$L$6,\"\")","v":""},{"$f":"IFERROR(Table3[[#This Row],[Average $ Raised per 1% of Time]]*$M$6,\"\")","v":""},{"$f":"IFERROR(Table3[[#This Row],[Average $ Raised per 1% of Time]]*$N$6,\"\")","v":""},{"$f":"IFERROR(Table3[[#This Row],[Average $ Raised per 1% of Time]]*$O$6,\"\")","v":""},{"$f":"IFERROR(Table3[[#This Row],[Average $ Raised per 1% of Time]]*$P$6,\"\")","v":""},{"$f":"IFERROR(Table3[[#This Row],[Average $ Raised per 1% of Time]]*$Q$6,\"\")","v":""},{"$f":"IFERROR(Table3[[#This Row],[Average $ Raised per 1% of Time]]*$R$6,\"\")","v":""},{"$f":"IFERROR(Table3[[#This Row],[Average $ Raised per 1% of Time]]*$S$6,\"\")","v":""},{"$f":"IFERROR(Table3[[#This Row],[Average $ Raised per 1% of Time]]*$T$6,\"\")","v":""},{"$f":"IFERROR(Table3[[#This Row],[Average $ Raised per 1% of Time]]*$U$6,\"\")","v":""},{"$f":"IFERROR(Table3[[#This Row],[Average $ Raised per 1% of Time]]*$V$6,\"\")","v":""},{"$f":"IFERROR(Table3[[#This Row],[Average $ Raised per 1% of Time]]*$W$6,\"\")","v":""},{"$f":"IFERROR(Table3[[#This Row],[Average $ Raised per 1% of Time]]*$X$6,\"\")","v":""}]
[{"$f":"IF(Table5[Gift Officer Name]<>\"\",Table5[Gift Officer Name],\"\")","v":""},{"$f":"IFERROR(AVERAGE(Table5[[#This Row],[Total Dollars Raised in FY19]:[Total Dollars Raised in FY17]]),\"\")","v":""},{"$f":"IFERROR(AVERAGE(Table5[[#This Row],[Total Dollars Raised in FY19]:[Total Dollars Raised in FY17]])/Table5[[#This Row],[Estimated % of Time Spent on Fundraising]],\"\")","v":""},{"$f":"IFERROR(Table3[[#This Row],[Average $ Raised per 1% of Time]]*AVERAGEIF(Table5[Estimated % of Time Spent on Fundraising],\"<>\"\"\"),\"\")","v":""},{"$f":"IFERROR(Table3[[#This Row],[Average $ Raised per 1% of Time]]*$E$6,\"\")","v":""},{"$f":"IFERROR(Table3[[#This Row],[Average $ Raised per 1% of Time]]*$F$6,\"\")","v":""},{"$f":"IFERROR(Table3[[#This Row],[Average $ Raised per 1% of Time]]*$G$6,\"\")","v":""},{"$f":"IFERROR(Table3[[#This Row],[Average $ Raised per 1% of Time]]*$H$6,\"\")","v":""},{"$f":"IFERROR(Table3[[#This Row],[Average $ Raised per 1% of Time]]*$I$6,\"\")","v":""},{"$f":"IFERROR(Table3[[#This Row],[Average $ Raised per 1% of Time]]*$J$6,\"\")","v":""},{"$f":"IFERROR(Table3[[#This Row],[Average $ Raised per 1% of Time]]*$K$6,\"\")","v":""},{"$f":"IFERROR(Table3[[#This Row],[Average $ Raised per 1% of Time]]*$L$6,\"\")","v":""},{"$f":"IFERROR(Table3[[#This Row],[Average $ Raised per 1% of Time]]*$M$6,\"\")","v":""},{"$f":"IFERROR(Table3[[#This Row],[Average $ Raised per 1% of Time]]*$N$6,\"\")","v":""},{"$f":"IFERROR(Table3[[#This Row],[Average $ Raised per 1% of Time]]*$O$6,\"\")","v":""},{"$f":"IFERROR(Table3[[#This Row],[Average $ Raised per 1% of Time]]*$P$6,\"\")","v":""},{"$f":"IFERROR(Table3[[#This Row],[Average $ Raised per 1% of Time]]*$Q$6,\"\")","v":""},{"$f":"IFERROR(Table3[[#This Row],[Average $ Raised per 1% of Time]]*$R$6,\"\")","v":""},{"$f":"IFERROR(Table3[[#This Row],[Average $ Raised per 1% of Time]]*$S$6,\"\")","v":""},{"$f":"IFERROR(Table3[[#This Row],[Average $ Raised per 1% of Time]]*$T$6,\"\")","v":""},{"$f":"IFERROR(Table3[[#This Row],[Average $ Raised per 1% of Time]]*$U$6,\"\")","v":""},{"$f":"IFERROR(Table3[[#This Row],[Average $ Raised per 1% of Time]]*$V$6,\"\")","v":""},{"$f":"IFERROR(Table3[[#This Row],[Average $ Raised per 1% of Time]]*$W$6,\"\")","v":""},{"$f":"IFERROR(Table3[[#This Row],[Average $ Raised per 1% of Time]]*$X$6,\"\")","v":""}]
[{"$f":"IF(Table5[Gift Officer Name]<>\"\",Table5[Gift Officer Name],\"\")","v":""},{"$f":"IFERROR(AVERAGE(Table5[[#This Row],[Total Dollars Raised in FY19]:[Total Dollars Raised in FY17]]),\"\")","v":""},{"$f":"IFERROR(AVERAGE(Table5[[#This Row],[Total Dollars Raised in FY19]:[Total Dollars Raised in FY17]])/Table5[[#This Row],[Estimated % of Time Spent on Fundraising]],\"\")","v":""},{"$f":"IFERROR(Table3[[#This Row],[Average $ Raised per 1% of Time]]*AVERAGEIF(Table5[Estimated % of Time Spent on Fundraising],\"<>\"\"\"),\"\")","v":""},{"$f":"IFERROR(Table3[[#This Row],[Average $ Raised per 1% of Time]]*$E$6,\"\")","v":""},{"$f":"IFERROR(Table3[[#This Row],[Average $ Raised per 1% of Time]]*$F$6,\"\")","v":""},{"$f":"IFERROR(Table3[[#This Row],[Average $ Raised per 1% of Time]]*$G$6,\"\")","v":""},{"$f":"IFERROR(Table3[[#This Row],[Average $ Raised per 1% of Time]]*$H$6,\"\")","v":""},{"$f":"IFERROR(Table3[[#This Row],[Average $ Raised per 1% of Time]]*$I$6,\"\")","v":""},{"$f":"IFERROR(Table3[[#This Row],[Average $ Raised per 1% of Time]]*$J$6,\"\")","v":""},{"$f":"IFERROR(Table3[[#This Row],[Average $ Raised per 1% of Time]]*$K$6,\"\")","v":""},{"$f":"IFERROR(Table3[[#This Row],[Average $ Raised per 1% of Time]]*$L$6,\"\")","v":""},{"$f":"IFERROR(Table3[[#This Row],[Average $ Raised per 1% of Time]]*$M$6,\"\")","v":""},{"$f":"IFERROR(Table3[[#This Row],[Average $ Raised per 1% of Time]]*$N$6,\"\")","v":""},{"$f":"IFERROR(Table3[[#This Row],[Average $ Raised per 1% of Time]]*$O$6,\"\")","v":""},{"$f":"IFERROR(Table3[[#This Row],[Average $ Raised per 1% of Time]]*$P$6,\"\")","v":""},{"$f":"IFERROR(Table3[[#This Row],[Average $ Raised per 1% of Time]]*$Q$6,\"\")","v":""},{"$f":"IFERROR(Table3[[#This Row],[Average $ Raised per 1% of Time]]*$R$6,\"\")","v":""},{"$f":"IFERROR(Table3[[#This Row],[Average $ Raised per 1% of Time]]*$S$6,\"\")","v":""},{"$f":"IFERROR(Table3[[#This Row],[Average $ Raised per 1% of Time]]*$T$6,\"\")","v":""},{"$f":"IFERROR(Table3[[#This Row],[Average $ Raised per 1% of Time]]*$U$6,\"\")","v":""},{"$f":"IFERROR(Table3[[#This Row],[Average $ Raised per 1% of Time]]*$V$6,\"\")","v":""},{"$f":"IFERROR(Table3[[#This Row],[Average $ Raised per 1% of Time]]*$W$6,\"\")","v":""},{"$f":"IFERROR(Table3[[#This Row],[Average $ Raised per 1% of Time]]*$X$6,\"\")","v":""}]
[{"$f":"IF(Table5[Gift Officer Name]<>\"\",Table5[Gift Officer Name],\"\")","v":""},{"$f":"IFERROR(AVERAGE(Table5[[#This Row],[Total Dollars Raised in FY19]:[Total Dollars Raised in FY17]]),\"\")","v":""},{"$f":"IFERROR(AVERAGE(Table5[[#This Row],[Total Dollars Raised in FY19]:[Total Dollars Raised in FY17]])/Table5[[#This Row],[Estimated % of Time Spent on Fundraising]],\"\")","v":""},{"$f":"IFERROR(Table3[[#This Row],[Average $ Raised per 1% of Time]]*AVERAGEIF(Table5[Estimated % of Time Spent on Fundraising],\"<>\"\"\"),\"\")","v":""},{"$f":"IFERROR(Table3[[#This Row],[Average $ Raised per 1% of Time]]*$E$6,\"\")","v":""},{"$f":"IFERROR(Table3[[#This Row],[Average $ Raised per 1% of Time]]*$F$6,\"\")","v":""},{"$f":"IFERROR(Table3[[#This Row],[Average $ Raised per 1% of Time]]*$G$6,\"\")","v":""},{"$f":"IFERROR(Table3[[#This Row],[Average $ Raised per 1% of Time]]*$H$6,\"\")","v":""},{"$f":"IFERROR(Table3[[#This Row],[Average $ Raised per 1% of Time]]*$I$6,\"\")","v":""},{"$f":"IFERROR(Table3[[#This Row],[Average $ Raised per 1% of Time]]*$J$6,\"\")","v":""},{"$f":"IFERROR(Table3[[#This Row],[Average $ Raised per 1% of Time]]*$K$6,\"\")","v":""},{"$f":"IFERROR(Table3[[#This Row],[Average $ Raised per 1% of Time]]*$L$6,\"\")","v":""},{"$f":"IFERROR(Table3[[#This Row],[Average $ Raised per 1% of Time]]*$M$6,\"\")","v":""},{"$f":"IFERROR(Table3[[#This Row],[Average $ Raised per 1% of Time]]*$N$6,\"\")","v":""},{"$f":"IFERROR(Table3[[#This Row],[Average $ Raised per 1% of Time]]*$O$6,\"\")","v":""},{"$f":"IFERROR(Table3[[#This Row],[Average $ Raised per 1% of Time]]*$P$6,\"\")","v":""},{"$f":"IFERROR(Table3[[#This Row],[Average $ Raised per 1% of Time]]*$Q$6,\"\")","v":""},{"$f":"IFERROR(Table3[[#This Row],[Average $ Raised per 1% of Time]]*$R$6,\"\")","v":""},{"$f":"IFERROR(Table3[[#This Row],[Average $ Raised per 1% of Time]]*$S$6,\"\")","v":""},{"$f":"IFERROR(Table3[[#This Row],[Average $ Raised per 1% of Time]]*$T$6,\"\")","v":""},{"$f":"IFERROR(Table3[[#This Row],[Average $ Raised per 1% of Time]]*$U$6,\"\")","v":""},{"$f":"IFERROR(Table3[[#This Row],[Average $ Raised per 1% of Time]]*$V$6,\"\")","v":""},{"$f":"IFERROR(Table3[[#This Row],[Average $ Raised per 1% of Time]]*$W$6,\"\")","v":""},{"$f":"IFERROR(Table3[[#This Row],[Average $ Raised per 1% of Time]]*$X$6,\"\")","v":""}]
[{"$f":"IF(Table5[Gift Officer Name]<>\"\",Table5[Gift Officer Name],\"\")","v":""},{"$f":"IFERROR(AVERAGE(Table5[[#This Row],[Total Dollars Raised in FY19]:[Total Dollars Raised in FY17]]),\"\")","v":""},{"$f":"IFERROR(AVERAGE(Table5[[#This Row],[Total Dollars Raised in FY19]:[Total Dollars Raised in FY17]])/Table5[[#This Row],[Estimated % of Time Spent on Fundraising]],\"\")","v":""},{"$f":"IFERROR(Table3[[#This Row],[Average $ Raised per 1% of Time]]*AVERAGEIF(Table5[Estimated % of Time Spent on Fundraising],\"<>\"\"\"),\"\")","v":""},{"$f":"IFERROR(Table3[[#This Row],[Average $ Raised per 1% of Time]]*$E$6,\"\")","v":""},{"$f":"IFERROR(Table3[[#This Row],[Average $ Raised per 1% of Time]]*$F$6,\"\")","v":""},{"$f":"IFERROR(Table3[[#This Row],[Average $ Raised per 1% of Time]]*$G$6,\"\")","v":""},{"$f":"IFERROR(Table3[[#This Row],[Average $ Raised per 1% of Time]]*$H$6,\"\")","v":""},{"$f":"IFERROR(Table3[[#This Row],[Average $ Raised per 1% of Time]]*$I$6,\"\")","v":""},{"$f":"IFERROR(Table3[[#This Row],[Average $ Raised per 1% of Time]]*$J$6,\"\")","v":""},{"$f":"IFERROR(Table3[[#This Row],[Average $ Raised per 1% of Time]]*$K$6,\"\")","v":""},{"$f":"IFERROR(Table3[[#This Row],[Average $ Raised per 1% of Time]]*$L$6,\"\")","v":""},{"$f":"IFERROR(Table3[[#This Row],[Average $ Raised per 1% of Time]]*$M$6,\"\")","v":""},{"$f":"IFERROR(Table3[[#This Row],[Average $ Raised per 1% of Time]]*$N$6,\"\")","v":""},{"$f":"IFERROR(Table3[[#This Row],[Average $ Raised per 1% of Time]]*$O$6,\"\")","v":""},{"$f":"IFERROR(Table3[[#This Row],[Average $ Raised per 1% of Time]]*$P$6,\"\")","v":""},{"$f":"IFERROR(Table3[[#This Row],[Average $ Raised per 1% of Time]]*$Q$6,\"\")","v":""},{"$f":"IFERROR(Table3[[#This Row],[Average $ Raised per 1% of Time]]*$R$6,\"\")","v":""},{"$f":"IFERROR(Table3[[#This Row],[Average $ Raised per 1% of Time]]*$S$6,\"\")","v":""},{"$f":"IFERROR(Table3[[#This Row],[Average $ Raised per 1% of Time]]*$T$6,\"\")","v":""},{"$f":"IFERROR(Table3[[#This Row],[Average $ Raised per 1% of Time]]*$U$6,\"\")","v":""},{"$f":"IFERROR(Table3[[#This Row],[Average $ Raised per 1% of Time]]*$V$6,\"\")","v":""},{"$f":"IFERROR(Table3[[#This Row],[Average $ Raised per 1% of Time]]*$W$6,\"\")","v":""},{"$f":"IFERROR(Table3[[#This Row],[Average $ Raised per 1% of Time]]*$X$6,\"\")","v":""}]
[{"$f":"IF(Table5[Gift Officer Name]<>\"\",Table5[Gift Officer Name],\"\")","v":""},{"$f":"IFERROR(AVERAGE(Table5[[#This Row],[Total Dollars Raised in FY19]:[Total Dollars Raised in FY17]]),\"\")","v":""},{"$f":"IFERROR(AVERAGE(Table5[[#This Row],[Total Dollars Raised in FY19]:[Total Dollars Raised in FY17]])/Table5[[#This Row],[Estimated % of Time Spent on Fundraising]],\"\")","v":""},{"$f":"IFERROR(Table3[[#This Row],[Average $ Raised per 1% of Time]]*AVERAGEIF(Table5[Estimated % of Time Spent on Fundraising],\"<>\"\"\"),\"\")","v":""},{"$f":"IFERROR(Table3[[#This Row],[Average $ Raised per 1% of Time]]*$E$6,\"\")","v":""},{"$f":"IFERROR(Table3[[#This Row],[Average $ Raised per 1% of Time]]*$F$6,\"\")","v":""},{"$f":"IFERROR(Table3[[#This Row],[Average $ Raised per 1% of Time]]*$G$6,\"\")","v":""},{"$f":"IFERROR(Table3[[#This Row],[Average $ Raised per 1% of Time]]*$H$6,\"\")","v":""},{"$f":"IFERROR(Table3[[#This Row],[Average $ Raised per 1% of Time]]*$I$6,\"\")","v":""},{"$f":"IFERROR(Table3[[#This Row],[Average $ Raised per 1% of Time]]*$J$6,\"\")","v":""},{"$f":"IFERROR(Table3[[#This Row],[Average $ Raised per 1% of Time]]*$K$6,\"\")","v":""},{"$f":"IFERROR(Table3[[#This Row],[Average $ Raised per 1% of Time]]*$L$6,\"\")","v":""},{"$f":"IFERROR(Table3[[#This Row],[Average $ Raised per 1% of Time]]*$M$6,\"\")","v":""},{"$f":"IFERROR(Table3[[#This Row],[Average $ Raised per 1% of Time]]*$N$6,\"\")","v":""},{"$f":"IFERROR(Table3[[#This Row],[Average $ Raised per 1% of Time]]*$O$6,\"\")","v":""},{"$f":"IFERROR(Table3[[#This Row],[Average $ Raised per 1% of Time]]*$P$6,\"\")","v":""},{"$f":"IFERROR(Table3[[#This Row],[Average $ Raised per 1% of Time]]*$Q$6,\"\")","v":""},{"$f":"IFERROR(Table3[[#This Row],[Average $ Raised per 1% of Time]]*$R$6,\"\")","v":""},{"$f":"IFERROR(Table3[[#This Row],[Average $ Raised per 1% of Time]]*$S$6,\"\")","v":""},{"$f":"IFERROR(Table3[[#This Row],[Average $ Raised per 1% of Time]]*$T$6,\"\")","v":""},{"$f":"IFERROR(Table3[[#This Row],[Average $ Raised per 1% of Time]]*$U$6,\"\")","v":""},{"$f":"IFERROR(Table3[[#This Row],[Average $ Raised per 1% of Time]]*$V$6,\"\")","v":""},{"$f":"IFERROR(Table3[[#This Row],[Average $ Raised per 1% of Time]]*$W$6,\"\")","v":""},{"$f":"IFERROR(Table3[[#This Row],[Average $ Raised per 1% of Time]]*$X$6,\"\")","v":""}]
[{"$f":"IF(Table5[Gift Officer Name]<>\"\",Table5[Gift Officer Name],\"\")","v":""},{"$f":"IFERROR(AVERAGE(Table5[[#This Row],[Total Dollars Raised in FY19]:[Total Dollars Raised in FY17]]),\"\")","v":""},{"$f":"IFERROR(AVERAGE(Table5[[#This Row],[Total Dollars Raised in FY19]:[Total Dollars Raised in FY17]])/Table5[[#This Row],[Estimated % of Time Spent on Fundraising]],\"\")","v":""},{"$f":"IFERROR(Table3[[#This Row],[Average $ Raised per 1% of Time]]*AVERAGEIF(Table5[Estimated % of Time Spent on Fundraising],\"<>\"\"\"),\"\")","v":""},{"$f":"IFERROR(Table3[[#This Row],[Average $ Raised per 1% of Time]]*$E$6,\"\")","v":""},{"$f":"IFERROR(Table3[[#This Row],[Average $ Raised per 1% of Time]]*$F$6,\"\")","v":""},{"$f":"IFERROR(Table3[[#This Row],[Average $ Raised per 1% of Time]]*$G$6,\"\")","v":""},{"$f":"IFERROR(Table3[[#This Row],[Average $ Raised per 1% of Time]]*$H$6,\"\")","v":""},{"$f":"IFERROR(Table3[[#This Row],[Average $ Raised per 1% of Time]]*$I$6,\"\")","v":""},{"$f":"IFERROR(Table3[[#This Row],[Average $ Raised per 1% of Time]]*$J$6,\"\")","v":""},{"$f":"IFERROR(Table3[[#This Row],[Average $ Raised per 1% of Time]]*$K$6,\"\")","v":""},{"$f":"IFERROR(Table3[[#This Row],[Average $ Raised per 1% of Time]]*$L$6,\"\")","v":""},{"$f":"IFERROR(Table3[[#This Row],[Average $ Raised per 1% of Time]]*$M$6,\"\")","v":""},{"$f":"IFERROR(Table3[[#This Row],[Average $ Raised per 1% of Time]]*$N$6,\"\")","v":""},{"$f":"IFERROR(Table3[[#This Row],[Average $ Raised per 1% of Time]]*$O$6,\"\")","v":""},{"$f":"IFERROR(Table3[[#This Row],[Average $ Raised per 1% of Time]]*$P$6,\"\")","v":""},{"$f":"IFERROR(Table3[[#This Row],[Average $ Raised per 1% of Time]]*$Q$6,\"\")","v":""},{"$f":"IFERROR(Table3[[#This Row],[Average $ Raised per 1% of Time]]*$R$6,\"\")","v":""},{"$f":"IFERROR(Table3[[#This Row],[Average $ Raised per 1% of Time]]*$S$6,\"\")","v":""},{"$f":"IFERROR(Table3[[#This Row],[Average $ Raised per 1% of Time]]*$T$6,\"\")","v":""},{"$f":"IFERROR(Table3[[#This Row],[Average $ Raised per 1% of Time]]*$U$6,\"\")","v":""},{"$f":"IFERROR(Table3[[#This Row],[Average $ Raised per 1% of Time]]*$V$6,\"\")","v":""},{"$f":"IFERROR(Table3[[#This Row],[Average $ Raised per 1% of Time]]*$W$6,\"\")","v":""},{"$f":"IFERROR(Table3[[#This Row],[Average $ Raised per 1% of Time]]*$X$6,\"\")","v":""}]
[{"$f":"IF(Table5[Gift Officer Name]<>\"\",Table5[Gift Officer Name],\"\")","v":""},{"$f":"IFERROR(AVERAGE(Table5[[#This Row],[Total Dollars Raised in FY19]:[Total Dollars Raised in FY17]]),\"\")","v":""},{"$f":"IFERROR(AVERAGE(Table5[[#This Row],[Total Dollars Raised in FY19]:[Total Dollars Raised in FY17]])/Table5[[#This Row],[Estimated % of Time Spent on Fundraising]],\"\")","v":""},{"$f":"IFERROR(Table3[[#This Row],[Average $ Raised per 1% of Time]]*AVERAGEIF(Table5[Estimated % of Time Spent on Fundraising],\"<>\"\"\"),\"\")","v":""},{"$f":"IFERROR(Table3[[#This Row],[Average $ Raised per 1% of Time]]*$E$6,\"\")","v":""},{"$f":"IFERROR(Table3[[#This Row],[Average $ Raised per 1% of Time]]*$F$6,\"\")","v":""},{"$f":"IFERROR(Table3[[#This Row],[Average $ Raised per 1% of Time]]*$G$6,\"\")","v":""},{"$f":"IFERROR(Table3[[#This Row],[Average $ Raised per 1% of Time]]*$H$6,\"\")","v":""},{"$f":"IFERROR(Table3[[#This Row],[Average $ Raised per 1% of Time]]*$I$6,\"\")","v":""},{"$f":"IFERROR(Table3[[#This Row],[Average $ Raised per 1% of Time]]*$J$6,\"\")","v":""},{"$f":"IFERROR(Table3[[#This Row],[Average $ Raised per 1% of Time]]*$K$6,\"\")","v":""},{"$f":"IFERROR(Table3[[#This Row],[Average $ Raised per 1% of Time]]*$L$6,\"\")","v":""},{"$f":"IFERROR(Table3[[#This Row],[Average $ Raised per 1% of Time]]*$M$6,\"\")","v":""},{"$f":"IFERROR(Table3[[#This Row],[Average $ Raised per 1% of Time]]*$N$6,\"\")","v":""},{"$f":"IFERROR(Table3[[#This Row],[Average $ Raised per 1% of Time]]*$O$6,\"\")","v":""},{"$f":"IFERROR(Table3[[#This Row],[Average $ Raised per 1% of Time]]*$P$6,\"\")","v":""},{"$f":"IFERROR(Table3[[#This Row],[Average $ Raised per 1% of Time]]*$Q$6,\"\")","v":""},{"$f":"IFERROR(Table3[[#This Row],[Average $ Raised per 1% of Time]]*$R$6,\"\")","v":""},{"$f":"IFERROR(Table3[[#This Row],[Average $ Raised per 1% of Time]]*$S$6,\"\")","v":""},{"$f":"IFERROR(Table3[[#This Row],[Average $ Raised per 1% of Time]]*$T$6,\"\")","v":""},{"$f":"IFERROR(Table3[[#This Row],[Average $ Raised per 1% of Time]]*$U$6,\"\")","v":""},{"$f":"IFERROR(Table3[[#This Row],[Average $ Raised per 1% of Time]]*$V$6,\"\")","v":""},{"$f":"IFERROR(Table3[[#This Row],[Average $ Raised per 1% of Time]]*$W$6,\"\")","v":""},{"$f":"IFERROR(Table3[[#This Row],[Average $ Raised per 1% of Time]]*$X$6,\"\")","v":""}]
[{"$f":"IF(Table5[Gift Officer Name]<>\"\",Table5[Gift Officer Name],\"\")","v":""},{"$f":"IFERROR(AVERAGE(Table5[[#This Row],[Total Dollars Raised in FY19]:[Total Dollars Raised in FY17]]),\"\")","v":""},{"$f":"IFERROR(AVERAGE(Table5[[#This Row],[Total Dollars Raised in FY19]:[Total Dollars Raised in FY17]])/Table5[[#This Row],[Estimated % of Time Spent on Fundraising]],\"\")","v":""},{"$f":"IFERROR(Table3[[#This Row],[Average $ Raised per 1% of Time]]*AVERAGEIF(Table5[Estimated % of Time Spent on Fundraising],\"<>\"\"\"),\"\")","v":""},{"$f":"IFERROR(Table3[[#This Row],[Average $ Raised per 1% of Time]]*$E$6,\"\")","v":""},{"$f":"IFERROR(Table3[[#This Row],[Average $ Raised per 1% of Time]]*$F$6,\"\")","v":""},{"$f":"IFERROR(Table3[[#This Row],[Average $ Raised per 1% of Time]]*$G$6,\"\")","v":""},{"$f":"IFERROR(Table3[[#This Row],[Average $ Raised per 1% of Time]]*$H$6,\"\")","v":""},{"$f":"IFERROR(Table3[[#This Row],[Average $ Raised per 1% of Time]]*$I$6,\"\")","v":""},{"$f":"IFERROR(Table3[[#This Row],[Average $ Raised per 1% of Time]]*$J$6,\"\")","v":""},{"$f":"IFERROR(Table3[[#This Row],[Average $ Raised per 1% of Time]]*$K$6,\"\")","v":""},{"$f":"IFERROR(Table3[[#This Row],[Average $ Raised per 1% of Time]]*$L$6,\"\")","v":""},{"$f":"IFERROR(Table3[[#This Row],[Average $ Raised per 1% of Time]]*$M$6,\"\")","v":""},{"$f":"IFERROR(Table3[[#This Row],[Average $ Raised per 1% of Time]]*$N$6,\"\")","v":""},{"$f":"IFERROR(Table3[[#This Row],[Average $ Raised per 1% of Time]]*$O$6,\"\")","v":""},{"$f":"IFERROR(Table3[[#This Row],[Average $ Raised per 1% of Time]]*$P$6,\"\")","v":""},{"$f":"IFERROR(Table3[[#This Row],[Average $ Raised per 1% of Time]]*$Q$6,\"\")","v":""},{"$f":"IFERROR(Table3[[#This Row],[Average $ Raised per 1% of Time]]*$R$6,\"\")","v":""},{"$f":"IFERROR(Table3[[#This Row],[Average $ Raised per 1% of Time]]*$S$6,\"\")","v":""},{"$f":"IFERROR(Table3[[#This Row],[Average $ Raised per 1% of Time]]*$T$6,\"\")","v":""},{"$f":"IFERROR(Table3[[#This Row],[Average $ Raised per 1% of Time]]*$U$6,\"\")","v":""},{"$f":"IFERROR(Table3[[#This Row],[Average $ Raised per 1% of Time]]*$V$6,\"\")","v":""},{"$f":"IFERROR(Table3[[#This Row],[Average $ Raised per 1% of Time]]*$W$6,\"\")","v":""},{"$f":"IFERROR(Table3[[#This Row],[Average $ Raised per 1% of Time]]*$X$6,\"\")","v":""}]
[{"$f":"IF(Table5[Gift Officer Name]<>\"\",Table5[Gift Officer Name],\"\")","v":""},{"$f":"IFERROR(AVERAGE(Table5[[#This Row],[Total Dollars Raised in FY19]:[Total Dollars Raised in FY17]]),\"\")","v":""},{"$f":"IFERROR(AVERAGE(Table5[[#This Row],[Total Dollars Raised in FY19]:[Total Dollars Raised in FY17]])/Table5[[#This Row],[Estimated % of Time Spent on Fundraising]],\"\")","v":""},{"$f":"IFERROR(Table3[[#This Row],[Average $ Raised per 1% of Time]]*AVERAGEIF(Table5[Estimated % of Time Spent on Fundraising],\"<>\"\"\"),\"\")","v":""},{"$f":"IFERROR(Table3[[#This Row],[Average $ Raised per 1% of Time]]*$E$6,\"\")","v":""},{"$f":"IFERROR(Table3[[#This Row],[Average $ Raised per 1% of Time]]*$F$6,\"\")","v":""},{"$f":"IFERROR(Table3[[#This Row],[Average $ Raised per 1% of Time]]*$G$6,\"\")","v":""},{"$f":"IFERROR(Table3[[#This Row],[Average $ Raised per 1% of Time]]*$H$6,\"\")","v":""},{"$f":"IFERROR(Table3[[#This Row],[Average $ Raised per 1% of Time]]*$I$6,\"\")","v":""},{"$f":"IFERROR(Table3[[#This Row],[Average $ Raised per 1% of Time]]*$J$6,\"\")","v":""},{"$f":"IFERROR(Table3[[#This Row],[Average $ Raised per 1% of Time]]*$K$6,\"\")","v":""},{"$f":"IFERROR(Table3[[#This Row],[Average $ Raised per 1% of Time]]*$L$6,\"\")","v":""},{"$f":"IFERROR(Table3[[#This Row],[Average $ Raised per 1% of Time]]*$M$6,\"\")","v":""},{"$f":"IFERROR(Table3[[#This Row],[Average $ Raised per 1% of Time]]*$N$6,\"\")","v":""},{"$f":"IFERROR(Table3[[#This Row],[Average $ Raised per 1% of Time]]*$O$6,\"\")","v":""},{"$f":"IFERROR(Table3[[#This Row],[Average $ Raised per 1% of Time]]*$P$6,\"\")","v":""},{"$f":"IFERROR(Table3[[#This Row],[Average $ Raised per 1% of Time]]*$Q$6,\"\")","v":""},{"$f":"IFERROR(Table3[[#This Row],[Average $ Raised per 1% of Time]]*$R$6,\"\")","v":""},{"$f":"IFERROR(Table3[[#This Row],[Average $ Raised per 1% of Time]]*$S$6,\"\")","v":""},{"$f":"IFERROR(Table3[[#This Row],[Average $ Raised per 1% of Time]]*$T$6,\"\")","v":""},{"$f":"IFERROR(Table3[[#This Row],[Average $ Raised per 1% of Time]]*$U$6,\"\")","v":""},{"$f":"IFERROR(Table3[[#This Row],[Average $ Raised per 1% of Time]]*$V$6,\"\")","v":""},{"$f":"IFERROR(Table3[[#This Row],[Average $ Raised per 1% of Time]]*$W$6,\"\")","v":""},{"$f":"IFERROR(Table3[[#This Row],[Average $ Raised per 1% of Time]]*$X$6,\"\")","v":""}]
[{"$f":"IF(Table5[Gift Officer Name]<>\"\",Table5[Gift Officer Name],\"\")","v":""},{"$f":"IFERROR(AVERAGE(Table5[[#This Row],[Total Dollars Raised in FY19]:[Total Dollars Raised in FY17]]),\"\")","v":""},{"$f":"IFERROR(AVERAGE(Table5[[#This Row],[Total Dollars Raised in FY19]:[Total Dollars Raised in FY17]])/Table5[[#This Row],[Estimated % of Time Spent on Fundraising]],\"\")","v":""},{"$f":"IFERROR(Table3[[#This Row],[Average $ Raised per 1% of Time]]*AVERAGEIF(Table5[Estimated % of Time Spent on Fundraising],\"<>\"\"\"),\"\")","v":""},{"$f":"IFERROR(Table3[[#This Row],[Average $ Raised per 1% of Time]]*$E$6,\"\")","v":""},{"$f":"IFERROR(Table3[[#This Row],[Average $ Raised per 1% of Time]]*$F$6,\"\")","v":""},{"$f":"IFERROR(Table3[[#This Row],[Average $ Raised per 1% of Time]]*$G$6,\"\")","v":""},{"$f":"IFERROR(Table3[[#This Row],[Average $ Raised per 1% of Time]]*$H$6,\"\")","v":""},{"$f":"IFERROR(Table3[[#This Row],[Average $ Raised per 1% of Time]]*$I$6,\"\")","v":""},{"$f":"IFERROR(Table3[[#This Row],[Average $ Raised per 1% of Time]]*$J$6,\"\")","v":""},{"$f":"IFERROR(Table3[[#This Row],[Average $ Raised per 1% of Time]]*$K$6,\"\")","v":""},{"$f":"IFERROR(Table3[[#This Row],[Average $ Raised per 1% of Time]]*$L$6,\"\")","v":""},{"$f":"IFERROR(Table3[[#This Row],[Average $ Raised per 1% of Time]]*$M$6,\"\")","v":""},{"$f":"IFERROR(Table3[[#This Row],[Average $ Raised per 1% of Time]]*$N$6,\"\")","v":""},{"$f":"IFERROR(Table3[[#This Row],[Average $ Raised per 1% of Time]]*$O$6,\"\")","v":""},{"$f":"IFERROR(Table3[[#This Row],[Average $ Raised per 1% of Time]]*$P$6,\"\")","v":""},{"$f":"IFERROR(Table3[[#This Row],[Average $ Raised per 1% of Time]]*$Q$6,\"\")","v":""},{"$f":"IFERROR(Table3[[#This Row],[Average $ Raised per 1% of Time]]*$R$6,\"\")","v":""},{"$f":"IFERROR(Table3[[#This Row],[Average $ Raised per 1% of Time]]*$S$6,\"\")","v":""},{"$f":"IFERROR(Table3[[#This Row],[Average $ Raised per 1% of Time]]*$T$6,\"\")","v":""},{"$f":"IFERROR(Table3[[#This Row],[Average $ Raised per 1% of Time]]*$U$6,\"\")","v":""},{"$f":"IFERROR(Table3[[#This Row],[Average $ Raised per 1% of Time]]*$V$6,\"\")","v":""},{"$f":"IFERROR(Table3[[#This Row],[Average $ Raised per 1% of Time]]*$W$6,\"\")","v":""},{"$f":"IFERROR(Table3[[#This Row],[Average $ Raised per 1% of Time]]*$X$6,\"\")","v":""}]
[{"$f":"IF(Table5[Gift Officer Name]<>\"\",Table5[Gift Officer Name],\"\")","v":""},{"$f":"IFERROR(AVERAGE(Table5[[#This Row],[Total Dollars Raised in FY19]:[Total Dollars Raised in FY17]]),\"\")","v":""},{"$f":"IFERROR(AVERAGE(Table5[[#This Row],[Total Dollars Raised in FY19]:[Total Dollars Raised in FY17]])/Table5[[#This Row],[Estimated % of Time Spent on Fundraising]],\"\")","v":""},{"$f":"IFERROR(Table3[[#This Row],[Average $ Raised per 1% of Time]]*AVERAGEIF(Table5[Estimated % of Time Spent on Fundraising],\"<>\"\"\"),\"\")","v":""},{"$f":"IFERROR(Table3[[#This Row],[Average $ Raised per 1% of Time]]*$E$6,\"\")","v":""},{"$f":"IFERROR(Table3[[#This Row],[Average $ Raised per 1% of Time]]*$F$6,\"\")","v":""},{"$f":"IFERROR(Table3[[#This Row],[Average $ Raised per 1% of Time]]*$G$6,\"\")","v":""},{"$f":"IFERROR(Table3[[#This Row],[Average $ Raised per 1% of Time]]*$H$6,\"\")","v":""},{"$f":"IFERROR(Table3[[#This Row],[Average $ Raised per 1% of Time]]*$I$6,\"\")","v":""},{"$f":"IFERROR(Table3[[#This Row],[Average $ Raised per 1% of Time]]*$J$6,\"\")","v":""},{"$f":"IFERROR(Table3[[#This Row],[Average $ Raised per 1% of Time]]*$K$6,\"\")","v":""},{"$f":"IFERROR(Table3[[#This Row],[Average $ Raised per 1% of Time]]*$L$6,\"\")","v":""},{"$f":"IFERROR(Table3[[#This Row],[Average $ Raised per 1% of Time]]*$M$6,\"\")","v":""},{"$f":"IFERROR(Table3[[#This Row],[Average $ Raised per 1% of Time]]*$N$6,\"\")","v":""},{"$f":"IFERROR(Table3[[#This Row],[Average $ Raised per 1% of Time]]*$O$6,\"\")","v":""},{"$f":"IFERROR(Table3[[#This Row],[Average $ Raised per 1% of Time]]*$P$6,\"\")","v":""},{"$f":"IFERROR(Table3[[#This Row],[Average $ Raised per 1% of Time]]*$Q$6,\"\")","v":""},{"$f":"IFERROR(Table3[[#This Row],[Average $ Raised per 1% of Time]]*$R$6,\"\")","v":""},{"$f":"IFERROR(Table3[[#This Row],[Average $ Raised per 1% of Time]]*$S$6,\"\")","v":""},{"$f":"IFERROR(Table3[[#This Row],[Average $ Raised per 1% of Time]]*$T$6,\"\")","v":""},{"$f":"IFERROR(Table3[[#This Row],[Average $ Raised per 1% of Time]]*$U$6,\"\")","v":""},{"$f":"IFERROR(Table3[[#This Row],[Average $ Raised per 1% of Time]]*$V$6,\"\")","v":""},{"$f":"IFERROR(Table3[[#This Row],[Average $ Raised per 1% of Time]]*$W$6,\"\")","v":""},{"$f":"IFERROR(Table3[[#This Row],[Average $ Raised per 1% of Time]]*$X$6,\"\")","v":""}]
[{"$f":"IF(Table5[Gift Officer Name]<>\"\",Table5[Gift Officer Name],\"\")","v":""},{"$f":"IFERROR(AVERAGE(Table5[[#This Row],[Total Dollars Raised in FY19]:[Total Dollars Raised in FY17]]),\"\")","v":""},{"$f":"IFERROR(AVERAGE(Table5[[#This Row],[Total Dollars Raised in FY19]:[Total Dollars Raised in FY17]])/Table5[[#This Row],[Estimated % of Time Spent on Fundraising]],\"\")","v":""},{"$f":"IFERROR(Table3[[#This Row],[Average $ Raised per 1% of Time]]*AVERAGEIF(Table5[Estimated % of Time Spent on Fundraising],\"<>\"\"\"),\"\")","v":""},{"$f":"IFERROR(Table3[[#This Row],[Average $ Raised per 1% of Time]]*$E$6,\"\")","v":""},{"$f":"IFERROR(Table3[[#This Row],[Average $ Raised per 1% of Time]]*$F$6,\"\")","v":""},{"$f":"IFERROR(Table3[[#This Row],[Average $ Raised per 1% of Time]]*$G$6,\"\")","v":""},{"$f":"IFERROR(Table3[[#This Row],[Average $ Raised per 1% of Time]]*$H$6,\"\")","v":""},{"$f":"IFERROR(Table3[[#This Row],[Average $ Raised per 1% of Time]]*$I$6,\"\")","v":""},{"$f":"IFERROR(Table3[[#This Row],[Average $ Raised per 1% of Time]]*$J$6,\"\")","v":""},{"$f":"IFERROR(Table3[[#This Row],[Average $ Raised per 1% of Time]]*$K$6,\"\")","v":""},{"$f":"IFERROR(Table3[[#This Row],[Average $ Raised per 1% of Time]]*$L$6,\"\")","v":""},{"$f":"IFERROR(Table3[[#This Row],[Average $ Raised per 1% of Time]]*$M$6,\"\")","v":""},{"$f":"IFERROR(Table3[[#This Row],[Average $ Raised per 1% of Time]]*$N$6,\"\")","v":""},{"$f":"IFERROR(Table3[[#This Row],[Average $ Raised per 1% of Time]]*$O$6,\"\")","v":""},{"$f":"IFERROR(Table3[[#This Row],[Average $ Raised per 1% of Time]]*$P$6,\"\")","v":""},{"$f":"IFERROR(Table3[[#This Row],[Average $ Raised per 1% of Time]]*$Q$6,\"\")","v":""},{"$f":"IFERROR(Table3[[#This Row],[Average $ Raised per 1% of Time]]*$R$6,\"\")","v":""},{"$f":"IFERROR(Table3[[#This Row],[Average $ Raised per 1% of Time]]*$S$6,\"\")","v":""},{"$f":"IFERROR(Table3[[#This Row],[Average $ Raised per 1% of Time]]*$T$6,\"\")","v":""},{"$f":"IFERROR(Table3[[#This Row],[Average $ Raised per 1% of Time]]*$U$6,\"\")","v":""},{"$f":"IFERROR(Table3[[#This Row],[Average $ Raised per 1% of Time]]*$V$6,\"\")","v":""},{"$f":"IFERROR(Table3[[#This Row],[Average $ Raised per 1% of Time]]*$W$6,\"\")","v":""},{"$f":"IFERROR(Table3[[#This Row],[Average $ Raised per 1% of Time]]*$X$6,\"\")","v":""}]
[{"$f":"IF(Table5[Gift Officer Name]<>\"\",Table5[Gift Officer Name],\"\")","v":""},{"$f":"IFERROR(AVERAGE(Table5[[#This Row],[Total Dollars Raised in FY19]:[Total Dollars Raised in FY17]]),\"\")","v":""},{"$f":"IFERROR(AVERAGE(Table5[[#This Row],[Total Dollars Raised in FY19]:[Total Dollars Raised in FY17]])/Table5[[#This Row],[Estimated % of Time Spent on Fundraising]],\"\")","v":""},{"$f":"IFERROR(Table3[[#This Row],[Average $ Raised per 1% of Time]]*AVERAGEIF(Table5[Estimated % of Time Spent on Fundraising],\"<>\"\"\"),\"\")","v":""},{"$f":"IFERROR(Table3[[#This Row],[Average $ Raised per 1% of Time]]*$E$6,\"\")","v":""},{"$f":"IFERROR(Table3[[#This Row],[Average $ Raised per 1% of Time]]*$F$6,\"\")","v":""},{"$f":"IFERROR(Table3[[#This Row],[Average $ Raised per 1% of Time]]*$G$6,\"\")","v":""},{"$f":"IFERROR(Table3[[#This Row],[Average $ Raised per 1% of Time]]*$H$6,\"\")","v":""},{"$f":"IFERROR(Table3[[#This Row],[Average $ Raised per 1% of Time]]*$I$6,\"\")","v":""},{"$f":"IFERROR(Table3[[#This Row],[Average $ Raised per 1% of Time]]*$J$6,\"\")","v":""},{"$f":"IFERROR(Table3[[#This Row],[Average $ Raised per 1% of Time]]*$K$6,\"\")","v":""},{"$f":"IFERROR(Table3[[#This Row],[Average $ Raised per 1% of Time]]*$L$6,\"\")","v":""},{"$f":"IFERROR(Table3[[#This Row],[Average $ Raised per 1% of Time]]*$M$6,\"\")","v":""},{"$f":"IFERROR(Table3[[#This Row],[Average $ Raised per 1% of Time]]*$N$6,\"\")","v":""},{"$f":"IFERROR(Table3[[#This Row],[Average $ Raised per 1% of Time]]*$O$6,\"\")","v":""},{"$f":"IFERROR(Table3[[#This Row],[Average $ Raised per 1% of Time]]*$P$6,\"\")","v":""},{"$f":"IFERROR(Table3[[#This Row],[Average $ Raised per 1% of Time]]*$Q$6,\"\")","v":""},{"$f":"IFERROR(Table3[[#This Row],[Average $ Raised per 1% of Time]]*$R$6,\"\")","v":""},{"$f":"IFERROR(Table3[[#This Row],[Average $ Raised per 1% of Time]]*$S$6,\"\")","v":""},{"$f":"IFERROR(Table3[[#This Row],[Average $ Raised per 1% of Time]]*$T$6,\"\")","v":""},{"$f":"IFERROR(Table3[[#This Row],[Average $ Raised per 1% of Time]]*$U$6,\"\")","v":""},{"$f":"IFERROR(Table3[[#This Row],[Average $ Raised per 1% of Time]]*$V$6,\"\")","v":""},{"$f":"IFERROR(Table3[[#This Row],[Average $ Raised per 1% of Time]]*$W$6,\"\")","v":""},{"$f":"IFERROR(Table3[[#This Row],[Average $ Raised per 1% of Time]]*$X$6,\"\")","v":""}]
[{"$f":"IF(Table5[Gift Officer Name]<>\"\",Table5[Gift Officer Name],\"\")","v":""},{"$f":"IFERROR(AVERAGE(Table5[[#This Row],[Total Dollars Raised in FY19]:[Total Dollars Raised in FY17]]),\"\")","v":""},{"$f":"IFERROR(AVERAGE(Table5[[#This Row],[Total Dollars Raised in FY19]:[Total Dollars Raised in FY17]])/Table5[[#This Row],[Estimated % of Time Spent on Fundraising]],\"\")","v":""},{"$f":"IFERROR(Table3[[#This Row],[Average $ Raised per 1% of Time]]*AVERAGEIF(Table5[Estimated % of Time Spent on Fundraising],\"<>\"\"\"),\"\")","v":""},{"$f":"IFERROR(Table3[[#This Row],[Average $ Raised per 1% of Time]]*$E$6,\"\")","v":""},{"$f":"IFERROR(Table3[[#This Row],[Average $ Raised per 1% of Time]]*$F$6,\"\")","v":""},{"$f":"IFERROR(Table3[[#This Row],[Average $ Raised per 1% of Time]]*$G$6,\"\")","v":""},{"$f":"IFERROR(Table3[[#This Row],[Average $ Raised per 1% of Time]]*$H$6,\"\")","v":""},{"$f":"IFERROR(Table3[[#This Row],[Average $ Raised per 1% of Time]]*$I$6,\"\")","v":""},{"$f":"IFERROR(Table3[[#This Row],[Average $ Raised per 1% of Time]]*$J$6,\"\")","v":""},{"$f":"IFERROR(Table3[[#This Row],[Average $ Raised per 1% of Time]]*$K$6,\"\")","v":""},{"$f":"IFERROR(Table3[[#This Row],[Average $ Raised per 1% of Time]]*$L$6,\"\")","v":""},{"$f":"IFERROR(Table3[[#This Row],[Average $ Raised per 1% of Time]]*$M$6,\"\")","v":""},{"$f":"IFERROR(Table3[[#This Row],[Average $ Raised per 1% of Time]]*$N$6,\"\")","v":""},{"$f":"IFERROR(Table3[[#This Row],[Average $ Raised per 1% of Time]]*$O$6,\"\")","v":""},{"$f":"IFERROR(Table3[[#This Row],[Average $ Raised per 1% of Time]]*$P$6,\"\")","v":""},{"$f":"IFERROR(Table3[[#This Row],[Average $ Raised per 1% of Time]]*$Q$6,\"\")","v":""},{"$f":"IFERROR(Table3[[#This Row],[Average $ Raised per 1% of Time]]*$R$6,\"\")","v":""},{"$f":"IFERROR(Table3[[#This Row],[Average $ Raised per 1% of Time]]*$S$6,\"\")","v":""},{"$f":"IFERROR(Table3[[#This Row],[Average $ Raised per 1% of Time]]*$T$6,\"\")","v":""},{"$f":"IFERROR(Table3[[#This Row],[Average $ Raised per 1% of Time]]*$U$6,\"\")","v":""},{"$f":"IFERROR(Table3[[#This Row],[Average $ Raised per 1% of Time]]*$V$6,\"\")","v":""},{"$f":"IFERROR(Table3[[#This Row],[Average $ Raised per 1% of Time]]*$W$6,\"\")","v":""},{"$f":"IFERROR(Table3[[#This Row],[Average $ Raised per 1% of Time]]*$X$6,\"\")","v":""}]
[{"$f":"IF(Table5[Gift Officer Name]<>\"\",Table5[Gift Officer Name],\"\")","v":""},{"$f":"IFERROR(AVERAGE(Table5[[#This Row],[Total Dollars Raised in FY19]:[Total Dollars Raised in FY17]]),\"\")","v":""},{"$f":"IFERROR(AVERAGE(Table5[[#This Row],[Total Dollars Raised in FY19]:[Total Dollars Raised in FY17]])/Table5[[#This Row],[Estimated % of Time Spent on Fundraising]],\"\")","v":""},{"$f":"IFERROR(Table3[[#This Row],[Average $ Raised per 1% of Time]]*AVERAGEIF(Table5[Estimated % of Time Spent on Fundraising],\"<>\"\"\"),\"\")","v":""},{"$f":"IFERROR(Table3[[#This Row],[Average $ Raised per 1% of Time]]*$E$6,\"\")","v":""},{"$f":"IFERROR(Table3[[#This Row],[Average $ Raised per 1% of Time]]*$F$6,\"\")","v":""},{"$f":"IFERROR(Table3[[#This Row],[Average $ Raised per 1% of Time]]*$G$6,\"\")","v":""},{"$f":"IFERROR(Table3[[#This Row],[Average $ Raised per 1% of Time]]*$H$6,\"\")","v":""},{"$f":"IFERROR(Table3[[#This Row],[Average $ Raised per 1% of Time]]*$I$6,\"\")","v":""},{"$f":"IFERROR(Table3[[#This Row],[Average $ Raised per 1% of Time]]*$J$6,\"\")","v":""},{"$f":"IFERROR(Table3[[#This Row],[Average $ Raised per 1% of Time]]*$K$6,\"\")","v":""},{"$f":"IFERROR(Table3[[#This Row],[Average $ Raised per 1% of Time]]*$L$6,\"\")","v":""},{"$f":"IFERROR(Table3[[#This Row],[Average $ Raised per 1% of Time]]*$M$6,\"\")","v":""},{"$f":"IFERROR(Table3[[#This Row],[Average $ Raised per 1% of Time]]*$N$6,\"\")","v":""},{"$f":"IFERROR(Table3[[#This Row],[Average $ Raised per 1% of Time]]*$O$6,\"\")","v":""},{"$f":"IFERROR(Table3[[#This Row],[Average $ Raised per 1% of Time]]*$P$6,\"\")","v":""},{"$f":"IFERROR(Table3[[#This Row],[Average $ Raised per 1% of Time]]*$Q$6,\"\")","v":""},{"$f":"IFERROR(Table3[[#This Row],[Average $ Raised per 1% of Time]]*$R$6,\"\")","v":""},{"$f":"IFERROR(Table3[[#This Row],[Average $ Raised per 1% of Time]]*$S$6,\"\")","v":""},{"$f":"IFERROR(Table3[[#This Row],[Average $ Raised per 1% of Time]]*$T$6,\"\")","v":""},{"$f":"IFERROR(Table3[[#This Row],[Average $ Raised per 1% of Time]]*$U$6,\"\")","v":""},{"$f":"IFERROR(Table3[[#This Row],[Average $ Raised per 1% of Time]]*$V$6,\"\")","v":""},{"$f":"IFERROR(Table3[[#This Row],[Average $ Raised per 1% of Time]]*$W$6,\"\")","v":""},{"$f":"IFERROR(Table3[[#This Row],[Average $ Raised per 1% of Time]]*$X$6,\"\")","v":""}]
[{"$f":"IF(Table5[Gift Officer Name]<>\"\",Table5[Gift Officer Name],\"\")","v":""},{"$f":"IFERROR(AVERAGE(Table5[[#This Row],[Total Dollars Raised in FY19]:[Total Dollars Raised in FY17]]),\"\")","v":""},{"$f":"IFERROR(AVERAGE(Table5[[#This Row],[Total Dollars Raised in FY19]:[Total Dollars Raised in FY17]])/Table5[[#This Row],[Estimated % of Time Spent on Fundraising]],\"\")","v":""},{"$f":"IFERROR(Table3[[#This Row],[Average $ Raised per 1% of Time]]*AVERAGEIF(Table5[Estimated % of Time Spent on Fundraising],\"<>\"\"\"),\"\")","v":""},{"$f":"IFERROR(Table3[[#This Row],[Average $ Raised per 1% of Time]]*$E$6,\"\")","v":""},{"$f":"IFERROR(Table3[[#This Row],[Average $ Raised per 1% of Time]]*$F$6,\"\")","v":""},{"$f":"IFERROR(Table3[[#This Row],[Average $ Raised per 1% of Time]]*$G$6,\"\")","v":""},{"$f":"IFERROR(Table3[[#This Row],[Average $ Raised per 1% of Time]]*$H$6,\"\")","v":""},{"$f":"IFERROR(Table3[[#This Row],[Average $ Raised per 1% of Time]]*$I$6,\"\")","v":""},{"$f":"IFERROR(Table3[[#This Row],[Average $ Raised per 1% of Time]]*$J$6,\"\")","v":""},{"$f":"IFERROR(Table3[[#This Row],[Average $ Raised per 1% of Time]]*$K$6,\"\")","v":""},{"$f":"IFERROR(Table3[[#This Row],[Average $ Raised per 1% of Time]]*$L$6,\"\")","v":""},{"$f":"IFERROR(Table3[[#This Row],[Average $ Raised per 1% of Time]]*$M$6,\"\")","v":""},{"$f":"IFERROR(Table3[[#This Row],[Average $ Raised per 1% of Time]]*$N$6,\"\")","v":""},{"$f":"IFERROR(Table3[[#This Row],[Average $ Raised per 1% of Time]]*$O$6,\"\")","v":""},{"$f":"IFERROR(Table3[[#This Row],[Average $ Raised per 1% of Time]]*$P$6,\"\")","v":""},{"$f":"IFERROR(Table3[[#This Row],[Average $ Raised per 1% of Time]]*$Q$6,\"\")","v":""},{"$f":"IFERROR(Table3[[#This Row],[Average $ Raised per 1% of Time]]*$R$6,\"\")","v":""},{"$f":"IFERROR(Table3[[#This Row],[Average $ Raised per 1% of Time]]*$S$6,\"\")","v":""},{"$f":"IFERROR(Table3[[#This Row],[Average $ Raised per 1% of Time]]*$T$6,\"\")","v":""},{"$f":"IFERROR(Table3[[#This Row],[Average $ Raised per 1% of Time]]*$U$6,\"\")","v":""},{"$f":"IFERROR(Table3[[#This Row],[Average $ Raised per 1% of Time]]*$V$6,\"\")","v":""},{"$f":"IFERROR(Table3[[#This Row],[Average $ Raised per 1% of Time]]*$W$6,\"\")","v":""},{"$f":"IFERROR(Table3[[#This Row],[Average $ Raised per 1% of Time]]*$X$6,\"\")","v":""}]
[{"$f":"IF(Table5[Gift Officer Name]<>\"\",Table5[Gift Officer Name],\"\")","v":""},{"$f":"IFERROR(AVERAGE(Table5[[#This Row],[Total Dollars Raised in FY19]:[Total Dollars Raised in FY17]]),\"\")","v":""},{"$f":"IFERROR(AVERAGE(Table5[[#This Row],[Total Dollars Raised in FY19]:[Total Dollars Raised in FY17]])/Table5[[#This Row],[Estimated % of Time Spent on Fundraising]],\"\")","v":""},{"$f":"IFERROR(Table3[[#This Row],[Average $ Raised per 1% of Time]]*AVERAGEIF(Table5[Estimated % of Time Spent on Fundraising],\"<>\"\"\"),\"\")","v":""},{"$f":"IFERROR(Table3[[#This Row],[Average $ Raised per 1% of Time]]*$E$6,\"\")","v":""},{"$f":"IFERROR(Table3[[#This Row],[Average $ Raised per 1% of Time]]*$F$6,\"\")","v":""},{"$f":"IFERROR(Table3[[#This Row],[Average $ Raised per 1% of Time]]*$G$6,\"\")","v":""},{"$f":"IFERROR(Table3[[#This Row],[Average $ Raised per 1% of Time]]*$H$6,\"\")","v":""},{"$f":"IFERROR(Table3[[#This Row],[Average $ Raised per 1% of Time]]*$I$6,\"\")","v":""},{"$f":"IFERROR(Table3[[#This Row],[Average $ Raised per 1% of Time]]*$J$6,\"\")","v":""},{"$f":"IFERROR(Table3[[#This Row],[Average $ Raised per 1% of Time]]*$K$6,\"\")","v":""},{"$f":"IFERROR(Table3[[#This Row],[Average $ Raised per 1% of Time]]*$L$6,\"\")","v":""},{"$f":"IFERROR(Table3[[#This Row],[Average $ Raised per 1% of Time]]*$M$6,\"\")","v":""},{"$f":"IFERROR(Table3[[#This Row],[Average $ Raised per 1% of Time]]*$N$6,\"\")","v":""},{"$f":"IFERROR(Table3[[#This Row],[Average $ Raised per 1% of Time]]*$O$6,\"\")","v":""},{"$f":"IFERROR(Table3[[#This Row],[Average $ Raised per 1% of Time]]*$P$6,\"\")","v":""},{"$f":"IFERROR(Table3[[#This Row],[Average $ Raised per 1% of Time]]*$Q$6,\"\")","v":""},{"$f":"IFERROR(Table3[[#This Row],[Average $ Raised per 1% of Time]]*$R$6,\"\")","v":""},{"$f":"IFERROR(Table3[[#This Row],[Average $ Raised per 1% of Time]]*$S$6,\"\")","v":""},{"$f":"IFERROR(Table3[[#This Row],[Average $ Raised per 1% of Time]]*$T$6,\"\")","v":""},{"$f":"IFERROR(Table3[[#This Row],[Average $ Raised per 1% of Time]]*$U$6,\"\")","v":""},{"$f":"IFERROR(Table3[[#This Row],[Average $ Raised per 1% of Time]]*$V$6,\"\")","v":""},{"$f":"IFERROR(Table3[[#This Row],[Average $ Raised per 1% of Time]]*$W$6,\"\")","v":""},{"$f":"IFERROR(Table3[[#This Row],[Average $ Raised per 1% of Time]]*$X$6,\"\")","v":""}]
[{"$f":"IF(Table5[Gift Officer Name]<>\"\",Table5[Gift Officer Name],\"\")","v":""},{"$f":"IFERROR(AVERAGE(Table5[[#This Row],[Total Dollars Raised in FY19]:[Total Dollars Raised in FY17]]),\"\")","v":""},{"$f":"IFERROR(AVERAGE(Table5[[#This Row],[Total Dollars Raised in FY19]:[Total Dollars Raised in FY17]])/Table5[[#This Row],[Estimated % of Time Spent on Fundraising]],\"\")","v":""},{"$f":"IFERROR(Table3[[#This Row],[Average $ Raised per 1% of Time]]*AVERAGEIF(Table5[Estimated % of Time Spent on Fundraising],\"<>\"\"\"),\"\")","v":""},{"$f":"IFERROR(Table3[[#This Row],[Average $ Raised per 1% of Time]]*$E$6,\"\")","v":""},{"$f":"IFERROR(Table3[[#This Row],[Average $ Raised per 1% of Time]]*$F$6,\"\")","v":""},{"$f":"IFERROR(Table3[[#This Row],[Average $ Raised per 1% of Time]]*$G$6,\"\")","v":""},{"$f":"IFERROR(Table3[[#This Row],[Average $ Raised per 1% of Time]]*$H$6,\"\")","v":""},{"$f":"IFERROR(Table3[[#This Row],[Average $ Raised per 1% of Time]]*$I$6,\"\")","v":""},{"$f":"IFERROR(Table3[[#This Row],[Average $ Raised per 1% of Time]]*$J$6,\"\")","v":""},{"$f":"IFERROR(Table3[[#This Row],[Average $ Raised per 1% of Time]]*$K$6,\"\")","v":""},{"$f":"IFERROR(Table3[[#This Row],[Average $ Raised per 1% of Time]]*$L$6,\"\")","v":""},{"$f":"IFERROR(Table3[[#This Row],[Average $ Raised per 1% of Time]]*$M$6,\"\")","v":""},{"$f":"IFERROR(Table3[[#This Row],[Average $ Raised per 1% of Time]]*$N$6,\"\")","v":""},{"$f":"IFERROR(Table3[[#This Row],[Average $ Raised per 1% of Time]]*$O$6,\"\")","v":""},{"$f":"IFERROR(Table3[[#This Row],[Average $ Raised per 1% of Time]]*$P$6,\"\")","v":""},{"$f":"IFERROR(Table3[[#This Row],[Average $ Raised per 1% of Time]]*$Q$6,\"\")","v":""},{"$f":"IFERROR(Table3[[#This Row],[Average $ Raised per 1% of Time]]*$R$6,\"\")","v":""},{"$f":"IFERROR(Table3[[#This Row],[Average $ Raised per 1% of Time]]*$S$6,\"\")","v":""},{"$f":"IFERROR(Table3[[#This Row],[Average $ Raised per 1% of Time]]*$T$6,\"\")","v":""},{"$f":"IFERROR(Table3[[#This Row],[Average $ Raised per 1% of Time]]*$U$6,\"\")","v":""},{"$f":"IFERROR(Table3[[#This Row],[Average $ Raised per 1% of Time]]*$V$6,\"\")","v":""},{"$f":"IFERROR(Table3[[#This Row],[Average $ Raised per 1% of Time]]*$W$6,\"\")","v":""},{"$f":"IFERROR(Table3[[#This Row],[Average $ Raised per 1% of Time]]*$X$6,\"\")","v":""}]
[{"$f":"IF(Table5[Gift Officer Name]<>\"\",Table5[Gift Officer Name],\"\")","v":""},{"$f":"IFERROR(AVERAGE(Table5[[#This Row],[Total Dollars Raised in FY19]:[Total Dollars Raised in FY17]]),\"\")","v":""},{"$f":"IFERROR(AVERAGE(Table5[[#This Row],[Total Dollars Raised in FY19]:[Total Dollars Raised in FY17]])/Table5[[#This Row],[Estimated % of Time Spent on Fundraising]],\"\")","v":""},{"$f":"IFERROR(Table3[[#This Row],[Average $ Raised per 1% of Time]]*AVERAGEIF(Table5[Estimated % of Time Spent on Fundraising],\"<>\"\"\"),\"\")","v":""},{"$f":"IFERROR(Table3[[#This Row],[Average $ Raised per 1% of Time]]*$E$6,\"\")","v":""},{"$f":"IFERROR(Table3[[#This Row],[Average $ Raised per 1% of Time]]*$F$6,\"\")","v":""},{"$f":"IFERROR(Table3[[#This Row],[Average $ Raised per 1% of Time]]*$G$6,\"\")","v":""},{"$f":"IFERROR(Table3[[#This Row],[Average $ Raised per 1% of Time]]*$H$6,\"\")","v":""},{"$f":"IFERROR(Table3[[#This Row],[Average $ Raised per 1% of Time]]*$I$6,\"\")","v":""},{"$f":"IFERROR(Table3[[#This Row],[Average $ Raised per 1% of Time]]*$J$6,\"\")","v":""},{"$f":"IFERROR(Table3[[#This Row],[Average $ Raised per 1% of Time]]*$K$6,\"\")","v":""},{"$f":"IFERROR(Table3[[#This Row],[Average $ Raised per 1% of Time]]*$L$6,\"\")","v":""},{"$f":"IFERROR(Table3[[#This Row],[Average $ Raised per 1% of Time]]*$M$6,\"\")","v":""},{"$f":"IFERROR(Table3[[#This Row],[Average $ Raised per 1% of Time]]*$N$6,\"\")","v":""},{"$f":"IFERROR(Table3[[#This Row],[Average $ Raised per 1% of Time]]*$O$6,\"\")","v":""},{"$f":"IFERROR(Table3[[#This Row],[Average $ Raised per 1% of Time]]*$P$6,\"\")","v":""},{"$f":"IFERROR(Table3[[#This Row],[Average $ Raised per 1% of Time]]*$Q$6,\"\")","v":""},{"$f":"IFERROR(Table3[[#This Row],[Average $ Raised per 1% of Time]]*$R$6,\"\")","v":""},{"$f":"IFERROR(Table3[[#This Row],[Average $ Raised per 1% of Time]]*$S$6,\"\")","v":""},{"$f":"IFERROR(Table3[[#This Row],[Average $ Raised per 1% of Time]]*$T$6,\"\")","v":""},{"$f":"IFERROR(Table3[[#This Row],[Average $ Raised per 1% of Time]]*$U$6,\"\")","v":""},{"$f":"IFERROR(Table3[[#This Row],[Average $ Raised per 1% of Time]]*$V$6,\"\")","v":""},{"$f":"IFERROR(Table3[[#This Row],[Average $ Raised per 1% of Time]]*$W$6,\"\")","v":""},{"$f":"IFERROR(Table3[[#This Row],[Average $ Raised per 1% of Time]]*$X$6,\"\")","v":""}]
[{"$f":"IF(Table5[Gift Officer Name]<>\"\",Table5[Gift Officer Name],\"\")","v":""},{"$f":"IFERROR(AVERAGE(Table5[[#This Row],[Total Dollars Raised in FY19]:[Total Dollars Raised in FY17]]),\"\")","v":""},{"$f":"IFERROR(AVERAGE(Table5[[#This Row],[Total Dollars Raised in FY19]:[Total Dollars Raised in FY17]])/Table5[[#This Row],[Estimated % of Time Spent on Fundraising]],\"\")","v":""},{"$f":"IFERROR(Table3[[#This Row],[Average $ Raised per 1% of Time]]*AVERAGEIF(Table5[Estimated % of Time Spent on Fundraising],\"<>\"\"\"),\"\")","v":""},{"$f":"IFERROR(Table3[[#This Row],[Average $ Raised per 1% of Time]]*$E$6,\"\")","v":""},{"$f":"IFERROR(Table3[[#This Row],[Average $ Raised per 1% of Time]]*$F$6,\"\")","v":""},{"$f":"IFERROR(Table3[[#This Row],[Average $ Raised per 1% of Time]]*$G$6,\"\")","v":""},{"$f":"IFERROR(Table3[[#This Row],[Average $ Raised per 1% of Time]]*$H$6,\"\")","v":""},{"$f":"IFERROR(Table3[[#This Row],[Average $ Raised per 1% of Time]]*$I$6,\"\")","v":""},{"$f":"IFERROR(Table3[[#This Row],[Average $ Raised per 1% of Time]]*$J$6,\"\")","v":""},{"$f":"IFERROR(Table3[[#This Row],[Average $ Raised per 1% of Time]]*$K$6,\"\")","v":""},{"$f":"IFERROR(Table3[[#This Row],[Average $ Raised per 1% of Time]]*$L$6,\"\")","v":""},{"$f":"IFERROR(Table3[[#This Row],[Average $ Raised per 1% of Time]]*$M$6,\"\")","v":""},{"$f":"IFERROR(Table3[[#This Row],[Average $ Raised per 1% of Time]]*$N$6,\"\")","v":""},{"$f":"IFERROR(Table3[[#This Row],[Average $ Raised per 1% of Time]]*$O$6,\"\")","v":""},{"$f":"IFERROR(Table3[[#This Row],[Average $ Raised per 1% of Time]]*$P$6,\"\")","v":""},{"$f":"IFERROR(Table3[[#This Row],[Average $ Raised per 1% of Time]]*$Q$6,\"\")","v":""},{"$f":"IFERROR(Table3[[#This Row],[Average $ Raised per 1% of Time]]*$R$6,\"\")","v":""},{"$f":"IFERROR(Table3[[#This Row],[Average $ Raised per 1% of Time]]*$S$6,\"\")","v":""},{"$f":"IFERROR(Table3[[#This Row],[Average $ Raised per 1% of Time]]*$T$6,\"\")","v":""},{"$f":"IFERROR(Table3[[#This Row],[Average $ Raised per 1% of Time]]*$U$6,\"\")","v":""},{"$f":"IFERROR(Table3[[#This Row],[Average $ Raised per 1% of Time]]*$V$6,\"\")","v":""},{"$f":"IFERROR(Table3[[#This Row],[Average $ Raised per 1% of Time]]*$W$6,\"\")","v":""},{"$f":"IFERROR(Table3[[#This Row],[Average $ Raised per 1% of Time]]*$X$6,\"\")","v":""}]
[{"$f":"IF(Table5[Gift Officer Name]<>\"\",Table5[Gift Officer Name],\"\")","v":""},{"$f":"IFERROR(AVERAGE(Table5[[#This Row],[Total Dollars Raised in FY19]:[Total Dollars Raised in FY17]]),\"\")","v":""},{"$f":"IFERROR(AVERAGE(Table5[[#This Row],[Total Dollars Raised in FY19]:[Total Dollars Raised in FY17]])/Table5[[#This Row],[Estimated % of Time Spent on Fundraising]],\"\")","v":""},{"$f":"IFERROR(Table3[[#This Row],[Average $ Raised per 1% of Time]]*AVERAGEIF(Table5[Estimated % of Time Spent on Fundraising],\"<>\"\"\"),\"\")","v":""},{"$f":"IFERROR(Table3[[#This Row],[Average $ Raised per 1% of Time]]*$E$6,\"\")","v":""},{"$f":"IFERROR(Table3[[#This Row],[Average $ Raised per 1% of Time]]*$F$6,\"\")","v":""},{"$f":"IFERROR(Table3[[#This Row],[Average $ Raised per 1% of Time]]*$G$6,\"\")","v":""},{"$f":"IFERROR(Table3[[#This Row],[Average $ Raised per 1% of Time]]*$H$6,\"\")","v":""},{"$f":"IFERROR(Table3[[#This Row],[Average $ Raised per 1% of Time]]*$I$6,\"\")","v":""},{"$f":"IFERROR(Table3[[#This Row],[Average $ Raised per 1% of Time]]*$J$6,\"\")","v":""},{"$f":"IFERROR(Table3[[#This Row],[Average $ Raised per 1% of Time]]*$K$6,\"\")","v":""},{"$f":"IFERROR(Table3[[#This Row],[Average $ Raised per 1% of Time]]*$L$6,\"\")","v":""},{"$f":"IFERROR(Table3[[#This Row],[Average $ Raised per 1% of Time]]*$M$6,\"\")","v":""},{"$f":"IFERROR(Table3[[#This Row],[Average $ Raised per 1% of Time]]*$N$6,\"\")","v":""},{"$f":"IFERROR(Table3[[#This Row],[Average $ Raised per 1% of Time]]*$O$6,\"\")","v":""},{"$f":"IFERROR(Table3[[#This Row],[Average $ Raised per 1% of Time]]*$P$6,\"\")","v":""},{"$f":"IFERROR(Table3[[#This Row],[Average $ Raised per 1% of Time]]*$Q$6,\"\")","v":""},{"$f":"IFERROR(Table3[[#This Row],[Average $ Raised per 1% of Time]]*$R$6,\"\")","v":""},{"$f":"IFERROR(Table3[[#This Row],[Average $ Raised per 1% of Time]]*$S$6,\"\")","v":""},{"$f":"IFERROR(Table3[[#This Row],[Average $ Raised per 1% of Time]]*$T$6,\"\")","v":""},{"$f":"IFERROR(Table3[[#This Row],[Average $ Raised per 1% of Time]]*$U$6,\"\")","v":""},{"$f":"IFERROR(Table3[[#This Row],[Average $ Raised per 1% of Time]]*$V$6,\"\")","v":""},{"$f":"IFERROR(Table3[[#This Row],[Average $ Raised per 1% of Time]]*$W$6,\"\")","v":""},{"$f":"IFERROR(Table3[[#This Row],[Average $ Raised per 1% of Time]]*$X$6,\"\")","v":""}]
[{"$f":"IF(Table5[Gift Officer Name]<>\"\",Table5[Gift Officer Name],\"\")","v":""},{"$f":"IFERROR(AVERAGE(Table5[[#This Row],[Total Dollars Raised in FY19]:[Total Dollars Raised in FY17]]),\"\")","v":""},{"$f":"IFERROR(AVERAGE(Table5[[#This Row],[Total Dollars Raised in FY19]:[Total Dollars Raised in FY17]])/Table5[[#This Row],[Estimated % of Time Spent on Fundraising]],\"\")","v":""},{"$f":"IFERROR(Table3[[#This Row],[Average $ Raised per 1% of Time]]*AVERAGEIF(Table5[Estimated % of Time Spent on Fundraising],\"<>\"\"\"),\"\")","v":""},{"$f":"IFERROR(Table3[[#This Row],[Average $ Raised per 1% of Time]]*$E$6,\"\")","v":""},{"$f":"IFERROR(Table3[[#This Row],[Average $ Raised per 1% of Time]]*$F$6,\"\")","v":""},{"$f":"IFERROR(Table3[[#This Row],[Average $ Raised per 1% of Time]]*$G$6,\"\")","v":""},{"$f":"IFERROR(Table3[[#This Row],[Average $ Raised per 1% of Time]]*$H$6,\"\")","v":""},{"$f":"IFERROR(Table3[[#This Row],[Average $ Raised per 1% of Time]]*$I$6,\"\")","v":""},{"$f":"IFERROR(Table3[[#This Row],[Average $ Raised per 1% of Time]]*$J$6,\"\")","v":""},{"$f":"IFERROR(Table3[[#This Row],[Average $ Raised per 1% of Time]]*$K$6,\"\")","v":""},{"$f":"IFERROR(Table3[[#This Row],[Average $ Raised per 1% of Time]]*$L$6,\"\")","v":""},{"$f":"IFERROR(Table3[[#This Row],[Average $ Raised per 1% of Time]]*$M$6,\"\")","v":""},{"$f":"IFERROR(Table3[[#This Row],[Average $ Raised per 1% of Time]]*$N$6,\"\")","v":""},{"$f":"IFERROR(Table3[[#This Row],[Average $ Raised per 1% of Time]]*$O$6,\"\")","v":""},{"$f":"IFERROR(Table3[[#This Row],[Average $ Raised per 1% of Time]]*$P$6,\"\")","v":""},{"$f":"IFERROR(Table3[[#This Row],[Average $ Raised per 1% of Time]]*$Q$6,\"\")","v":""},{"$f":"IFERROR(Table3[[#This Row],[Average $ Raised per 1% of Time]]*$R$6,\"\")","v":""},{"$f":"IFERROR(Table3[[#This Row],[Average $ Raised per 1% of Time]]*$S$6,\"\")","v":""},{"$f":"IFERROR(Table3[[#This Row],[Average $ Raised per 1% of Time]]*$T$6,\"\")","v":""},{"$f":"IFERROR(Table3[[#This Row],[Average $ Raised per 1% of Time]]*$U$6,\"\")","v":""},{"$f":"IFERROR(Table3[[#This Row],[Average $ Raised per 1% of Time]]*$V$6,\"\")","v":""},{"$f":"IFERROR(Table3[[#This Row],[Average $ Raised per 1% of Time]]*$W$6,\"\")","v":""},{"$f":"IFERROR(Table3[[#This Row],[Average $ Raised per 1% of Time]]*$X$6,\"\")","v":""}]
[{"$f":"IF(Table5[Gift Officer Name]<>\"\",Table5[Gift Officer Name],\"\")","v":""},{"$f":"IFERROR(AVERAGE(Table5[[#This Row],[Total Dollars Raised in FY19]:[Total Dollars Raised in FY17]]),\"\")","v":""},{"$f":"IFERROR(AVERAGE(Table5[[#This Row],[Total Dollars Raised in FY19]:[Total Dollars Raised in FY17]])/Table5[[#This Row],[Estimated % of Time Spent on Fundraising]],\"\")","v":""},{"$f":"IFERROR(Table3[[#This Row],[Average $ Raised per 1% of Time]]*AVERAGEIF(Table5[Estimated % of Time Spent on Fundraising],\"<>\"\"\"),\"\")","v":""},{"$f":"IFERROR(Table3[[#This Row],[Average $ Raised per 1% of Time]]*$E$6,\"\")","v":""},{"$f":"IFERROR(Table3[[#This Row],[Average $ Raised per 1% of Time]]*$F$6,\"\")","v":""},{"$f":"IFERROR(Table3[[#This Row],[Average $ Raised per 1% of Time]]*$G$6,\"\")","v":""},{"$f":"IFERROR(Table3[[#This Row],[Average $ Raised per 1% of Time]]*$H$6,\"\")","v":""},{"$f":"IFERROR(Table3[[#This Row],[Average $ Raised per 1% of Time]]*$I$6,\"\")","v":""},{"$f":"IFERROR(Table3[[#This Row],[Average $ Raised per 1% of Time]]*$J$6,\"\")","v":""},{"$f":"IFERROR(Table3[[#This Row],[Average $ Raised per 1% of Time]]*$K$6,\"\")","v":""},{"$f":"IFERROR(Table3[[#This Row],[Average $ Raised per 1% of Time]]*$L$6,\"\")","v":""},{"$f":"IFERROR(Table3[[#This Row],[Average $ Raised per 1% of Time]]*$M$6,\"\")","v":""},{"$f":"IFERROR(Table3[[#This Row],[Average $ Raised per 1% of Time]]*$N$6,\"\")","v":""},{"$f":"IFERROR(Table3[[#This Row],[Average $ Raised per 1% of Time]]*$O$6,\"\")","v":""},{"$f":"IFERROR(Table3[[#This Row],[Average $ Raised per 1% of Time]]*$P$6,\"\")","v":""},{"$f":"IFERROR(Table3[[#This Row],[Average $ Raised per 1% of Time]]*$Q$6,\"\")","v":""},{"$f":"IFERROR(Table3[[#This Row],[Average $ Raised per 1% of Time]]*$R$6,\"\")","v":""},{"$f":"IFERROR(Table3[[#This Row],[Average $ Raised per 1% of Time]]*$S$6,\"\")","v":""},{"$f":"IFERROR(Table3[[#This Row],[Average $ Raised per 1% of Time]]*$T$6,\"\")","v":""},{"$f":"IFERROR(Table3[[#This Row],[Average $ Raised per 1% of Time]]*$U$6,\"\")","v":""},{"$f":"IFERROR(Table3[[#This Row],[Average $ Raised per 1% of Time]]*$V$6,\"\")","v":""},{"$f":"IFERROR(Table3[[#This Row],[Average $ Raised per 1% of Time]]*$W$6,\"\")","v":""},{"$f":"IFERROR(Table3[[#This Row],[Average $ Raised per 1% of Time]]*$X$6,\"\")","v":""}]
[{"$f":"IF(Table5[Gift Officer Name]<>\"\",Table5[Gift Officer Name],\"\")","v":""},{"$f":"IFERROR(AVERAGE(Table5[[#This Row],[Total Dollars Raised in FY19]:[Total Dollars Raised in FY17]]),\"\")","v":""},{"$f":"IFERROR(AVERAGE(Table5[[#This Row],[Total Dollars Raised in FY19]:[Total Dollars Raised in FY17]])/Table5[[#This Row],[Estimated % of Time Spent on Fundraising]],\"\")","v":""},{"$f":"IFERROR(Table3[[#This Row],[Average $ Raised per 1% of Time]]*AVERAGEIF(Table5[Estimated % of Time Spent on Fundraising],\"<>\"\"\"),\"\")","v":""},{"$f":"IFERROR(Table3[[#This Row],[Average $ Raised per 1% of Time]]*$E$6,\"\")","v":""},{"$f":"IFERROR(Table3[[#This Row],[Average $ Raised per 1% of Time]]*$F$6,\"\")","v":""},{"$f":"IFERROR(Table3[[#This Row],[Average $ Raised per 1% of Time]]*$G$6,\"\")","v":""},{"$f":"IFERROR(Table3[[#This Row],[Average $ Raised per 1% of Time]]*$H$6,\"\")","v":""},{"$f":"IFERROR(Table3[[#This Row],[Average $ Raised per 1% of Time]]*$I$6,\"\")","v":""},{"$f":"IFERROR(Table3[[#This Row],[Average $ Raised per 1% of Time]]*$J$6,\"\")","v":""},{"$f":"IFERROR(Table3[[#This Row],[Average $ Raised per 1% of Time]]*$K$6,\"\")","v":""},{"$f":"IFERROR(Table3[[#This Row],[Average $ Raised per 1% of Time]]*$L$6,\"\")","v":""},{"$f":"IFERROR(Table3[[#This Row],[Average $ Raised per 1% of Time]]*$M$6,\"\")","v":""},{"$f":"IFERROR(Table3[[#This Row],[Average $ Raised per 1% of Time]]*$N$6,\"\")","v":""},{"$f":"IFERROR(Table3[[#This Row],[Average $ Raised per 1% of Time]]*$O$6,\"\")","v":""},{"$f":"IFERROR(Table3[[#This Row],[Average $ Raised per 1% of Time]]*$P$6,\"\")","v":""},{"$f":"IFERROR(Table3[[#This Row],[Average $ Raised per 1% of Time]]*$Q$6,\"\")","v":""},{"$f":"IFERROR(Table3[[#This Row],[Average $ Raised per 1% of Time]]*$R$6,\"\")","v":""},{"$f":"IFERROR(Table3[[#This Row],[Average $ Raised per 1% of Time]]*$S$6,\"\")","v":""},{"$f":"IFERROR(Table3[[#This Row],[Average $ Raised per 1% of Time]]*$T$6,\"\")","v":""},{"$f":"IFERROR(Table3[[#This Row],[Average $ Raised per 1% of Time]]*$U$6,\"\")","v":""},{"$f":"IFERROR(Table3[[#This Row],[Average $ Raised per 1% of Time]]*$V$6,\"\")","v":""},{"$f":"IFERROR(Table3[[#This Row],[Average $ Raised per 1% of Time]]*$W$6,\"\")","v":""},{"$f":"IFERROR(Table3[[#This Row],[Average $ Raised per 1% of Time]]*$X$6,\"\")","v":""}]
[{"$f":"IF(Table5[Gift Officer Name]<>\"\",Table5[Gift Officer Name],\"\")","v":""},{"$f":"IFERROR(AVERAGE(Table5[[#This Row],[Total Dollars Raised in FY19]:[Total Dollars Raised in FY17]]),\"\")","v":""},{"$f":"IFERROR(AVERAGE(Table5[[#This Row],[Total Dollars Raised in FY19]:[Total Dollars Raised in FY17]])/Table5[[#This Row],[Estimated % of Time Spent on Fundraising]],\"\")","v":""},{"$f":"IFERROR(Table3[[#This Row],[Average $ Raised per 1% of Time]]*AVERAGEIF(Table5[Estimated % of Time Spent on Fundraising],\"<>\"\"\"),\"\")","v":""},{"$f":"IFERROR(Table3[[#This Row],[Average $ Raised per 1% of Time]]*$E$6,\"\")","v":""},{"$f":"IFERROR(Table3[[#This Row],[Average $ Raised per 1% of Time]]*$F$6,\"\")","v":""},{"$f":"IFERROR(Table3[[#This Row],[Average $ Raised per 1% of Time]]*$G$6,\"\")","v":""},{"$f":"IFERROR(Table3[[#This Row],[Average $ Raised per 1% of Time]]*$H$6,\"\")","v":""},{"$f":"IFERROR(Table3[[#This Row],[Average $ Raised per 1% of Time]]*$I$6,\"\")","v":""},{"$f":"IFERROR(Table3[[#This Row],[Average $ Raised per 1% of Time]]*$J$6,\"\")","v":""},{"$f":"IFERROR(Table3[[#This Row],[Average $ Raised per 1% of Time]]*$K$6,\"\")","v":""},{"$f":"IFERROR(Table3[[#This Row],[Average $ Raised per 1% of Time]]*$L$6,\"\")","v":""},{"$f":"IFERROR(Table3[[#This Row],[Average $ Raised per 1% of Time]]*$M$6,\"\")","v":""},{"$f":"IFERROR(Table3[[#This Row],[Average $ Raised per 1% of Time]]*$N$6,\"\")","v":""},{"$f":"IFERROR(Table3[[#This Row],[Average $ Raised per 1% of Time]]*$O$6,\"\")","v":""},{"$f":"IFERROR(Table3[[#This Row],[Average $ Raised per 1% of Time]]*$P$6,\"\")","v":""},{"$f":"IFERROR(Table3[[#This Row],[Average $ Raised per 1% of Time]]*$Q$6,\"\")","v":""},{"$f":"IFERROR(Table3[[#This Row],[Average $ Raised per 1% of Time]]*$R$6,\"\")","v":""},{"$f":"IFERROR(Table3[[#This Row],[Average $ Raised per 1% of Time]]*$S$6,\"\")","v":""},{"$f":"IFERROR(Table3[[#This Row],[Average $ Raised per 1% of Time]]*$T$6,\"\")","v":""},{"$f":"IFERROR(Table3[[#This Row],[Average $ Raised per 1% of Time]]*$U$6,\"\")","v":""},{"$f":"IFERROR(Table3[[#This Row],[Average $ Raised per 1% of Time]]*$V$6,\"\")","v":""},{"$f":"IFERROR(Table3[[#This Row],[Average $ Raised per 1% of Time]]*$W$6,\"\")","v":""},{"$f":"IFERROR(Table3[[#This Row],[Average $ Raised per 1% of Time]]*$X$6,\"\")","v":""}]
[{"$f":"IF(Table5[Gift Officer Name]<>\"\",Table5[Gift Officer Name],\"\")","v":""},{"$f":"IFERROR(AVERAGE(Table5[[#This Row],[Total Dollars Raised in FY19]:[Total Dollars Raised in FY17]]),\"\")","v":""},{"$f":"IFERROR(AVERAGE(Table5[[#This Row],[Total Dollars Raised in FY19]:[Total Dollars Raised in FY17]])/Table5[[#This Row],[Estimated % of Time Spent on Fundraising]],\"\")","v":""},{"$f":"IFERROR(Table3[[#This Row],[Average $ Raised per 1% of Time]]*AVERAGEIF(Table5[Estimated % of Time Spent on Fundraising],\"<>\"\"\"),\"\")","v":""},{"$f":"IFERROR(Table3[[#This Row],[Average $ Raised per 1% of Time]]*$E$6,\"\")","v":""},{"$f":"IFERROR(Table3[[#This Row],[Average $ Raised per 1% of Time]]*$F$6,\"\")","v":""},{"$f":"IFERROR(Table3[[#This Row],[Average $ Raised per 1% of Time]]*$G$6,\"\")","v":""},{"$f":"IFERROR(Table3[[#This Row],[Average $ Raised per 1% of Time]]*$H$6,\"\")","v":""},{"$f":"IFERROR(Table3[[#This Row],[Average $ Raised per 1% of Time]]*$I$6,\"\")","v":""},{"$f":"IFERROR(Table3[[#This Row],[Average $ Raised per 1% of Time]]*$J$6,\"\")","v":""},{"$f":"IFERROR(Table3[[#This Row],[Average $ Raised per 1% of Time]]*$K$6,\"\")","v":""},{"$f":"IFERROR(Table3[[#This Row],[Average $ Raised per 1% of Time]]*$L$6,\"\")","v":""},{"$f":"IFERROR(Table3[[#This Row],[Average $ Raised per 1% of Time]]*$M$6,\"\")","v":""},{"$f":"IFERROR(Table3[[#This Row],[Average $ Raised per 1% of Time]]*$N$6,\"\")","v":""},{"$f":"IFERROR(Table3[[#This Row],[Average $ Raised per 1% of Time]]*$O$6,\"\")","v":""},{"$f":"IFERROR(Table3[[#This Row],[Average $ Raised per 1% of Time]]*$P$6,\"\")","v":""},{"$f":"IFERROR(Table3[[#This Row],[Average $ Raised per 1% of Time]]*$Q$6,\"\")","v":""},{"$f":"IFERROR(Table3[[#This Row],[Average $ Raised per 1% of Time]]*$R$6,\"\")","v":""},{"$f":"IFERROR(Table3[[#This Row],[Average $ Raised per 1% of Time]]*$S$6,\"\")","v":""},{"$f":"IFERROR(Table3[[#This Row],[Average $ Raised per 1% of Time]]*$T$6,\"\")","v":""},{"$f":"IFERROR(Table3[[#This Row],[Average $ Raised per 1% of Time]]*$U$6,\"\")","v":""},{"$f":"IFERROR(Table3[[#This Row],[Average $ Raised per 1% of Time]]*$V$6,\"\")","v":""},{"$f":"IFERROR(Table3[[#This Row],[Average $ Raised per 1% of Time]]*$W$6,\"\")","v":""},{"$f":"IFERROR(Table3[[#This Row],[Average $ Raised per 1% of Time]]*$X$6,\"\")","v":""}]
[{"$f":"IF(Table5[Gift Officer Name]<>\"\",Table5[Gift Officer Name],\"\")","v":""},{"$f":"IFERROR(AVERAGE(Table5[[#This Row],[Total Dollars Raised in FY19]:[Total Dollars Raised in FY17]]),\"\")","v":""},{"$f":"IFERROR(AVERAGE(Table5[[#This Row],[Total Dollars Raised in FY19]:[Total Dollars Raised in FY17]])/Table5[[#This Row],[Estimated % of Time Spent on Fundraising]],\"\")","v":""},{"$f":"IFERROR(Table3[[#This Row],[Average $ Raised per 1% of Time]]*AVERAGEIF(Table5[Estimated % of Time Spent on Fundraising],\"<>\"\"\"),\"\")","v":""},{"$f":"IFERROR(Table3[[#This Row],[Average $ Raised per 1% of Time]]*$E$6,\"\")","v":""},{"$f":"IFERROR(Table3[[#This Row],[Average $ Raised per 1% of Time]]*$F$6,\"\")","v":""},{"$f":"IFERROR(Table3[[#This Row],[Average $ Raised per 1% of Time]]*$G$6,\"\")","v":""},{"$f":"IFERROR(Table3[[#This Row],[Average $ Raised per 1% of Time]]*$H$6,\"\")","v":""},{"$f":"IFERROR(Table3[[#This Row],[Average $ Raised per 1% of Time]]*$I$6,\"\")","v":""},{"$f":"IFERROR(Table3[[#This Row],[Average $ Raised per 1% of Time]]*$J$6,\"\")","v":""},{"$f":"IFERROR(Table3[[#This Row],[Average $ Raised per 1% of Time]]*$K$6,\"\")","v":""},{"$f":"IFERROR(Table3[[#This Row],[Average $ Raised per 1% of Time]]*$L$6,\"\")","v":""},{"$f":"IFERROR(Table3[[#This Row],[Average $ Raised per 1% of Time]]*$M$6,\"\")","v":""},{"$f":"IFERROR(Table3[[#This Row],[Average $ Raised per 1% of Time]]*$N$6,\"\")","v":""},{"$f":"IFERROR(Table3[[#This Row],[Average $ Raised per 1% of Time]]*$O$6,\"\")","v":""},{"$f":"IFERROR(Table3[[#This Row],[Average $ Raised per 1% of Time]]*$P$6,\"\")","v":""},{"$f":"IFERROR(Table3[[#This Row],[Average $ Raised per 1% of Time]]*$Q$6,\"\")","v":""},{"$f":"IFERROR(Table3[[#This Row],[Average $ Raised per 1% of Time]]*$R$6,\"\")","v":""},{"$f":"IFERROR(Table3[[#This Row],[Average $ Raised per 1% of Time]]*$S$6,\"\")","v":""},{"$f":"IFERROR(Table3[[#This Row],[Average $ Raised per 1% of Time]]*$T$6,\"\")","v":""},{"$f":"IFERROR(Table3[[#This Row],[Average $ Raised per 1% of Time]]*$U$6,\"\")","v":""},{"$f":"IFERROR(Table3[[#This Row],[Average $ Raised per 1% of Time]]*$V$6,\"\")","v":""},{"$f":"IFERROR(Table3[[#This Row],[Average $ Raised per 1% of Time]]*$W$6,\"\")","v":""},{"$f":"IFERROR(Table3[[#This Row],[Average $ Raised per 1% of Time]]*$X$6,\"\")","v":""}]
[{"$f":"IF(Table5[Gift Officer Name]<>\"\",Table5[Gift Officer Name],\"\")","v":""},{"$f":"IFERROR(AVERAGE(Table5[[#This Row],[Total Dollars Raised in FY19]:[Total Dollars Raised in FY17]]),\"\")","v":""},{"$f":"IFERROR(AVERAGE(Table5[[#This Row],[Total Dollars Raised in FY19]:[Total Dollars Raised in FY17]])/Table5[[#This Row],[Estimated % of Time Spent on Fundraising]],\"\")","v":""},{"$f":"IFERROR(Table3[[#This Row],[Average $ Raised per 1% of Time]]*AVERAGEIF(Table5[Estimated % of Time Spent on Fundraising],\"<>\"\"\"),\"\")","v":""},{"$f":"IFERROR(Table3[[#This Row],[Average $ Raised per 1% of Time]]*$E$6,\"\")","v":""},{"$f":"IFERROR(Table3[[#This Row],[Average $ Raised per 1% of Time]]*$F$6,\"\")","v":""},{"$f":"IFERROR(Table3[[#This Row],[Average $ Raised per 1% of Time]]*$G$6,\"\")","v":""},{"$f":"IFERROR(Table3[[#This Row],[Average $ Raised per 1% of Time]]*$H$6,\"\")","v":""},{"$f":"IFERROR(Table3[[#This Row],[Average $ Raised per 1% of Time]]*$I$6,\"\")","v":""},{"$f":"IFERROR(Table3[[#This Row],[Average $ Raised per 1% of Time]]*$J$6,\"\")","v":""},{"$f":"IFERROR(Table3[[#This Row],[Average $ Raised per 1% of Time]]*$K$6,\"\")","v":""},{"$f":"IFERROR(Table3[[#This Row],[Average $ Raised per 1% of Time]]*$L$6,\"\")","v":""},{"$f":"IFERROR(Table3[[#This Row],[Average $ Raised per 1% of Time]]*$M$6,\"\")","v":""},{"$f":"IFERROR(Table3[[#This Row],[Average $ Raised per 1% of Time]]*$N$6,\"\")","v":""},{"$f":"IFERROR(Table3[[#This Row],[Average $ Raised per 1% of Time]]*$O$6,\"\")","v":""},{"$f":"IFERROR(Table3[[#This Row],[Average $ Raised per 1% of Time]]*$P$6,\"\")","v":""},{"$f":"IFERROR(Table3[[#This Row],[Average $ Raised per 1% of Time]]*$Q$6,\"\")","v":""},{"$f":"IFERROR(Table3[[#This Row],[Average $ Raised per 1% of Time]]*$R$6,\"\")","v":""},{"$f":"IFERROR(Table3[[#This Row],[Average $ Raised per 1% of Time]]*$S$6,\"\")","v":""},{"$f":"IFERROR(Table3[[#This Row],[Average $ Raised per 1% of Time]]*$T$6,\"\")","v":""},{"$f":"IFERROR(Table3[[#This Row],[Average $ Raised per 1% of Time]]*$U$6,\"\")","v":""},{"$f":"IFERROR(Table3[[#This Row],[Average $ Raised per 1% of Time]]*$V$6,\"\")","v":""},{"$f":"IFERROR(Table3[[#This Row],[Average $ Raised per 1% of Time]]*$W$6,\"\")","v":""},{"$f":"IFERROR(Table3[[#This Row],[Average $ Raised per 1% of Time]]*$X$6,\"\")","v":""}]
[{"$f":"IF(Table5[Gift Officer Name]<>\"\",Table5[Gift Officer Name],\"\")","v":""},{"$f":"IFERROR(AVERAGE(Table5[[#This Row],[Total Dollars Raised in FY19]:[Total Dollars Raised in FY17]]),\"\")","v":""},{"$f":"IFERROR(AVERAGE(Table5[[#This Row],[Total Dollars Raised in FY19]:[Total Dollars Raised in FY17]])/Table5[[#This Row],[Estimated % of Time Spent on Fundraising]],\"\")","v":""},{"$f":"IFERROR(Table3[[#This Row],[Average $ Raised per 1% of Time]]*AVERAGEIF(Table5[Estimated % of Time Spent on Fundraising],\"<>\"\"\"),\"\")","v":""},{"$f":"IFERROR(Table3[[#This Row],[Average $ Raised per 1% of Time]]*$E$6,\"\")","v":""},{"$f":"IFERROR(Table3[[#This Row],[Average $ Raised per 1% of Time]]*$F$6,\"\")","v":""},{"$f":"IFERROR(Table3[[#This Row],[Average $ Raised per 1% of Time]]*$G$6,\"\")","v":""},{"$f":"IFERROR(Table3[[#This Row],[Average $ Raised per 1% of Time]]*$H$6,\"\")","v":""},{"$f":"IFERROR(Table3[[#This Row],[Average $ Raised per 1% of Time]]*$I$6,\"\")","v":""},{"$f":"IFERROR(Table3[[#This Row],[Average $ Raised per 1% of Time]]*$J$6,\"\")","v":""},{"$f":"IFERROR(Table3[[#This Row],[Average $ Raised per 1% of Time]]*$K$6,\"\")","v":""},{"$f":"IFERROR(Table3[[#This Row],[Average $ Raised per 1% of Time]]*$L$6,\"\")","v":""},{"$f":"IFERROR(Table3[[#This Row],[Average $ Raised per 1% of Time]]*$M$6,\"\")","v":""},{"$f":"IFERROR(Table3[[#This Row],[Average $ Raised per 1% of Time]]*$N$6,\"\")","v":""},{"$f":"IFERROR(Table3[[#This Row],[Average $ Raised per 1% of Time]]*$O$6,\"\")","v":""},{"$f":"IFERROR(Table3[[#This Row],[Average $ Raised per 1% of Time]]*$P$6,\"\")","v":""},{"$f":"IFERROR(Table3[[#This Row],[Average $ Raised per 1% of Time]]*$Q$6,\"\")","v":""},{"$f":"IFERROR(Table3[[#This Row],[Average $ Raised per 1% of Time]]*$R$6,\"\")","v":""},{"$f":"IFERROR(Table3[[#This Row],[Average $ Raised per 1% of Time]]*$S$6,\"\")","v":""},{"$f":"IFERROR(Table3[[#This Row],[Average $ Raised per 1% of Time]]*$T$6,\"\")","v":""},{"$f":"IFERROR(Table3[[#This Row],[Average $ Raised per 1% of Time]]*$U$6,\"\")","v":""},{"$f":"IFERROR(Table3[[#This Row],[Average $ Raised per 1% of Time]]*$V$6,\"\")","v":""},{"$f":"IFERROR(Table3[[#This Row],[Average $ Raised per 1% of Time]]*$W$6,\"\")","v":""},{"$f":"IFERROR(Table3[[#This Row],[Average $ Raised per 1% of Time]]*$X$6,\"\")","v":""}]
[{"$f":"IF(Table5[Gift Officer Name]<>\"\",Table5[Gift Officer Name],\"\")","v":""},{"$f":"IFERROR(AVERAGE(Table5[[#This Row],[Total Dollars Raised in FY19]:[Total Dollars Raised in FY17]]),\"\")","v":""},{"$f":"IFERROR(AVERAGE(Table5[[#This Row],[Total Dollars Raised in FY19]:[Total Dollars Raised in FY17]])/Table5[[#This Row],[Estimated % of Time Spent on Fundraising]],\"\")","v":""},{"$f":"IFERROR(Table3[[#This Row],[Average $ Raised per 1% of Time]]*AVERAGEIF(Table5[Estimated % of Time Spent on Fundraising],\"<>\"\"\"),\"\")","v":""},{"$f":"IFERROR(Table3[[#This Row],[Average $ Raised per 1% of Time]]*$E$6,\"\")","v":""},{"$f":"IFERROR(Table3[[#This Row],[Average $ Raised per 1% of Time]]*$F$6,\"\")","v":""},{"$f":"IFERROR(Table3[[#This Row],[Average $ Raised per 1% of Time]]*$G$6,\"\")","v":""},{"$f":"IFERROR(Table3[[#This Row],[Average $ Raised per 1% of Time]]*$H$6,\"\")","v":""},{"$f":"IFERROR(Table3[[#This Row],[Average $ Raised per 1% of Time]]*$I$6,\"\")","v":""},{"$f":"IFERROR(Table3[[#This Row],[Average $ Raised per 1% of Time]]*$J$6,\"\")","v":""},{"$f":"IFERROR(Table3[[#This Row],[Average $ Raised per 1% of Time]]*$K$6,\"\")","v":""},{"$f":"IFERROR(Table3[[#This Row],[Average $ Raised per 1% of Time]]*$L$6,\"\")","v":""},{"$f":"IFERROR(Table3[[#This Row],[Average $ Raised per 1% of Time]]*$M$6,\"\")","v":""},{"$f":"IFERROR(Table3[[#This Row],[Average $ Raised per 1% of Time]]*$N$6,\"\")","v":""},{"$f":"IFERROR(Table3[[#This Row],[Average $ Raised per 1% of Time]]*$O$6,\"\")","v":""},{"$f":"IFERROR(Table3[[#This Row],[Average $ Raised per 1% of Time]]*$P$6,\"\")","v":""},{"$f":"IFERROR(Table3[[#This Row],[Average $ Raised per 1% of Time]]*$Q$6,\"\")","v":""},{"$f":"IFERROR(Table3[[#This Row],[Average $ Raised per 1% of Time]]*$R$6,\"\")","v":""},{"$f":"IFERROR(Table3[[#This Row],[Average $ Raised per 1% of Time]]*$S$6,\"\")","v":""},{"$f":"IFERROR(Table3[[#This Row],[Average $ Raised per 1% of Time]]*$T$6,\"\")","v":""},{"$f":"IFERROR(Table3[[#This Row],[Average $ Raised per 1% of Time]]*$U$6,\"\")","v":""},{"$f":"IFERROR(Table3[[#This Row],[Average $ Raised per 1% of Time]]*$V$6,\"\")","v":""},{"$f":"IFERROR(Table3[[#This Row],[Average $ Raised per 1% of Time]]*$W$6,\"\")","v":""},{"$f":"IFERROR(Table3[[#This Row],[Average $ Raised per 1% of Time]]*$X$6,\"\")","v":""}]
[{"$f":"IF(Table5[Gift Officer Name]<>\"\",Table5[Gift Officer Name],\"\")","v":""},{"$f":"IFERROR(AVERAGE(Table5[[#This Row],[Total Dollars Raised in FY19]:[Total Dollars Raised in FY17]]),\"\")","v":""},{"$f":"IFERROR(AVERAGE(Table5[[#This Row],[Total Dollars Raised in FY19]:[Total Dollars Raised in FY17]])/Table5[[#This Row],[Estimated % of Time Spent on Fundraising]],\"\")","v":""},{"$f":"IFERROR(Table3[[#This Row],[Average $ Raised per 1% of Time]]*AVERAGEIF(Table5[Estimated % of Time Spent on Fundraising],\"<>\"\"\"),\"\")","v":""},{"$f":"IFERROR(Table3[[#This Row],[Average $ Raised per 1% of Time]]*$E$6,\"\")","v":""},{"$f":"IFERROR(Table3[[#This Row],[Average $ Raised per 1% of Time]]*$F$6,\"\")","v":""},{"$f":"IFERROR(Table3[[#This Row],[Average $ Raised per 1% of Time]]*$G$6,\"\")","v":""},{"$f":"IFERROR(Table3[[#This Row],[Average $ Raised per 1% of Time]]*$H$6,\"\")","v":""},{"$f":"IFERROR(Table3[[#This Row],[Average $ Raised per 1% of Time]]*$I$6,\"\")","v":""},{"$f":"IFERROR(Table3[[#This Row],[Average $ Raised per 1% of Time]]*$J$6,\"\")","v":""},{"$f":"IFERROR(Table3[[#This Row],[Average $ Raised per 1% of Time]]*$K$6,\"\")","v":""},{"$f":"IFERROR(Table3[[#This Row],[Average $ Raised per 1% of Time]]*$L$6,\"\")","v":""},{"$f":"IFERROR(Table3[[#This Row],[Average $ Raised per 1% of Time]]*$M$6,\"\")","v":""},{"$f":"IFERROR(Table3[[#This Row],[Average $ Raised per 1% of Time]]*$N$6,\"\")","v":""},{"$f":"IFERROR(Table3[[#This Row],[Average $ Raised per 1% of Time]]*$O$6,\"\")","v":""},{"$f":"IFERROR(Table3[[#This Row],[Average $ Raised per 1% of Time]]*$P$6,\"\")","v":""},{"$f":"IFERROR(Table3[[#This Row],[Average $ Raised per 1% of Time]]*$Q$6,\"\")","v":""},{"$f":"IFERROR(Table3[[#This Row],[Average $ Raised per 1% of Time]]*$R$6,\"\")","v":""},{"$f":"IFERROR(Table3[[#This Row],[Average $ Raised per 1% of Time]]*$S$6,\"\")","v":""},{"$f":"IFERROR(Table3[[#This Row],[Average $ Raised per 1% of Time]]*$T$6,\"\")","v":""},{"$f":"IFERROR(Table3[[#This Row],[Average $ Raised per 1% of Time]]*$U$6,\"\")","v":""},{"$f":"IFERROR(Table3[[#This Row],[Average $ Raised per 1% of Time]]*$V$6,\"\")","v":""},{"$f":"IFERROR(Table3[[#This Row],[Average $ Raised per 1% of Time]]*$W$6,\"\")","v":""},{"$f":"IFERROR(Table3[[#This Row],[Average $ Raised per 1% of Time]]*$X$6,\"\")","v":""}]
[{"$f":"IF(Table5[Gift Officer Name]<>\"\",Table5[Gift Officer Name],\"\")","v":""},{"$f":"IFERROR(AVERAGE(Table5[[#This Row],[Total Dollars Raised in FY19]:[Total Dollars Raised in FY17]]),\"\")","v":""},{"$f":"IFERROR(AVERAGE(Table5[[#This Row],[Total Dollars Raised in FY19]:[Total Dollars Raised in FY17]])/Table5[[#This Row],[Estimated % of Time Spent on Fundraising]],\"\")","v":""},{"$f":"IFERROR(Table3[[#This Row],[Average $ Raised per 1% of Time]]*AVERAGEIF(Table5[Estimated % of Time Spent on Fundraising],\"<>\"\"\"),\"\")","v":""},{"$f":"IFERROR(Table3[[#This Row],[Average $ Raised per 1% of Time]]*$E$6,\"\")","v":""},{"$f":"IFERROR(Table3[[#This Row],[Average $ Raised per 1% of Time]]*$F$6,\"\")","v":""},{"$f":"IFERROR(Table3[[#This Row],[Average $ Raised per 1% of Time]]*$G$6,\"\")","v":""},{"$f":"IFERROR(Table3[[#This Row],[Average $ Raised per 1% of Time]]*$H$6,\"\")","v":""},{"$f":"IFERROR(Table3[[#This Row],[Average $ Raised per 1% of Time]]*$I$6,\"\")","v":""},{"$f":"IFERROR(Table3[[#This Row],[Average $ Raised per 1% of Time]]*$J$6,\"\")","v":""},{"$f":"IFERROR(Table3[[#This Row],[Average $ Raised per 1% of Time]]*$K$6,\"\")","v":""},{"$f":"IFERROR(Table3[[#This Row],[Average $ Raised per 1% of Time]]*$L$6,\"\")","v":""},{"$f":"IFERROR(Table3[[#This Row],[Average $ Raised per 1% of Time]]*$M$6,\"\")","v":""},{"$f":"IFERROR(Table3[[#This Row],[Average $ Raised per 1% of Time]]*$N$6,\"\")","v":""},{"$f":"IFERROR(Table3[[#This Row],[Average $ Raised per 1% of Time]]*$O$6,\"\")","v":""},{"$f":"IFERROR(Table3[[#This Row],[Average $ Raised per 1% of Time]]*$P$6,\"\")","v":""},{"$f":"IFERROR(Table3[[#This Row],[Average $ Raised per 1% of Time]]*$Q$6,\"\")","v":""},{"$f":"IFERROR(Table3[[#This Row],[Average $ Raised per 1% of Time]]*$R$6,\"\")","v":""},{"$f":"IFERROR(Table3[[#This Row],[Average $ Raised per 1% of Time]]*$S$6,\"\")","v":""},{"$f":"IFERROR(Table3[[#This Row],[Average $ Raised per 1% of Time]]*$T$6,\"\")","v":""},{"$f":"IFERROR(Table3[[#This Row],[Average $ Raised per 1% of Time]]*$U$6,\"\")","v":""},{"$f":"IFERROR(Table3[[#This Row],[Average $ Raised per 1% of Time]]*$V$6,\"\")","v":""},{"$f":"IFERROR(Table3[[#This Row],[Average $ Raised per 1% of Time]]*$W$6,\"\")","v":""},{"$f":"IFERROR(Table3[[#This Row],[Average $ Raised per 1% of Time]]*$X$6,\"\")","v":""}]
[{"$f":"IF(Table5[Gift Officer Name]<>\"\",Table5[Gift Officer Name],\"\")","v":""},{"$f":"IFERROR(AVERAGE(Table5[[#This Row],[Total Dollars Raised in FY19]:[Total Dollars Raised in FY17]]),\"\")","v":""},{"$f":"IFERROR(AVERAGE(Table5[[#This Row],[Total Dollars Raised in FY19]:[Total Dollars Raised in FY17]])/Table5[[#This Row],[Estimated % of Time Spent on Fundraising]],\"\")","v":""},{"$f":"IFERROR(Table3[[#This Row],[Average $ Raised per 1% of Time]]*AVERAGEIF(Table5[Estimated % of Time Spent on Fundraising],\"<>\"\"\"),\"\")","v":""},{"$f":"IFERROR(Table3[[#This Row],[Average $ Raised per 1% of Time]]*$E$6,\"\")","v":""},{"$f":"IFERROR(Table3[[#This Row],[Average $ Raised per 1% of Time]]*$F$6,\"\")","v":""},{"$f":"IFERROR(Table3[[#This Row],[Average $ Raised per 1% of Time]]*$G$6,\"\")","v":""},{"$f":"IFERROR(Table3[[#This Row],[Average $ Raised per 1% of Time]]*$H$6,\"\")","v":""},{"$f":"IFERROR(Table3[[#This Row],[Average $ Raised per 1% of Time]]*$I$6,\"\")","v":""},{"$f":"IFERROR(Table3[[#This Row],[Average $ Raised per 1% of Time]]*$J$6,\"\")","v":""},{"$f":"IFERROR(Table3[[#This Row],[Average $ Raised per 1% of Time]]*$K$6,\"\")","v":""},{"$f":"IFERROR(Table3[[#This Row],[Average $ Raised per 1% of Time]]*$L$6,\"\")","v":""},{"$f":"IFERROR(Table3[[#This Row],[Average $ Raised per 1% of Time]]*$M$6,\"\")","v":""},{"$f":"IFERROR(Table3[[#This Row],[Average $ Raised per 1% of Time]]*$N$6,\"\")","v":""},{"$f":"IFERROR(Table3[[#This Row],[Average $ Raised per 1% of Time]]*$O$6,\"\")","v":""},{"$f":"IFERROR(Table3[[#This Row],[Average $ Raised per 1% of Time]]*$P$6,\"\")","v":""},{"$f":"IFERROR(Table3[[#This Row],[Average $ Raised per 1% of Time]]*$Q$6,\"\")","v":""},{"$f":"IFERROR(Table3[[#This Row],[Average $ Raised per 1% of Time]]*$R$6,\"\")","v":""},{"$f":"IFERROR(Table3[[#This Row],[Average $ Raised per 1% of Time]]*$S$6,\"\")","v":""},{"$f":"IFERROR(Table3[[#This Row],[Average $ Raised per 1% of Time]]*$T$6,\"\")","v":""},{"$f":"IFERROR(Table3[[#This Row],[Average $ Raised per 1% of Time]]*$U$6,\"\")","v":""},{"$f":"IFERROR(Table3[[#This Row],[Average $ Raised per 1% of Time]]*$V$6,\"\")","v":""},{"$f":"IFERROR(Table3[[#This Row],[Average $ Raised per 1% of Time]]*$W$6,\"\")","v":""},{"$f":"IFERROR(Table3[[#This Row],[Average $ Raised per 1% of Time]]*$X$6,\"\")","v":""}]
[{"$f":"IF(Table5[Gift Officer Name]<>\"\",Table5[Gift Officer Name],\"\")","v":""},{"$f":"IFERROR(AVERAGE(Table5[[#This Row],[Total Dollars Raised in FY19]:[Total Dollars Raised in FY17]]),\"\")","v":""},{"$f":"IFERROR(AVERAGE(Table5[[#This Row],[Total Dollars Raised in FY19]:[Total Dollars Raised in FY17]])/Table5[[#This Row],[Estimated % of Time Spent on Fundraising]],\"\")","v":""},{"$f":"IFERROR(Table3[[#This Row],[Average $ Raised per 1% of Time]]*AVERAGEIF(Table5[Estimated % of Time Spent on Fundraising],\"<>\"\"\"),\"\")","v":""},{"$f":"IFERROR(Table3[[#This Row],[Average $ Raised per 1% of Time]]*$E$6,\"\")","v":""},{"$f":"IFERROR(Table3[[#This Row],[Average $ Raised per 1% of Time]]*$F$6,\"\")","v":""},{"$f":"IFERROR(Table3[[#This Row],[Average $ Raised per 1% of Time]]*$G$6,\"\")","v":""},{"$f":"IFERROR(Table3[[#This Row],[Average $ Raised per 1% of Time]]*$H$6,\"\")","v":""},{"$f":"IFERROR(Table3[[#This Row],[Average $ Raised per 1% of Time]]*$I$6,\"\")","v":""},{"$f":"IFERROR(Table3[[#This Row],[Average $ Raised per 1% of Time]]*$J$6,\"\")","v":""},{"$f":"IFERROR(Table3[[#This Row],[Average $ Raised per 1% of Time]]*$K$6,\"\")","v":""},{"$f":"IFERROR(Table3[[#This Row],[Average $ Raised per 1% of Time]]*$L$6,\"\")","v":""},{"$f":"IFERROR(Table3[[#This Row],[Average $ Raised per 1% of Time]]*$M$6,\"\")","v":""},{"$f":"IFERROR(Table3[[#This Row],[Average $ Raised per 1% of Time]]*$N$6,\"\")","v":""},{"$f":"IFERROR(Table3[[#This Row],[Average $ Raised per 1% of Time]]*$O$6,\"\")","v":""},{"$f":"IFERROR(Table3[[#This Row],[Average $ Raised per 1% of Time]]*$P$6,\"\")","v":""},{"$f":"IFERROR(Table3[[#This Row],[Average $ Raised per 1% of Time]]*$Q$6,\"\")","v":""},{"$f":"IFERROR(Table3[[#This Row],[Average $ Raised per 1% of Time]]*$R$6,\"\")","v":""},{"$f":"IFERROR(Table3[[#This Row],[Average $ Raised per 1% of Time]]*$S$6,\"\")","v":""},{"$f":"IFERROR(Table3[[#This Row],[Average $ Raised per 1% of Time]]*$T$6,\"\")","v":""},{"$f":"IFERROR(Table3[[#This Row],[Average $ Raised per 1% of Time]]*$U$6,\"\")","v":""},{"$f":"IFERROR(Table3[[#This Row],[Average $ Raised per 1% of Time]]*$V$6,\"\")","v":""},{"$f":"IFERROR(Table3[[#This Row],[Average $ Raised per 1% of Time]]*$W$6,\"\")","v":""},{"$f":"IFERROR(Table3[[#This Row],[Average $ Raised per 1% of Time]]*$X$6,\"\")","v":""}]
[{"$f":"IF(Table5[Gift Officer Name]<>\"\",Table5[Gift Officer Name],\"\")","v":""},{"$f":"IFERROR(AVERAGE(Table5[[#This Row],[Total Dollars Raised in FY19]:[Total Dollars Raised in FY17]]),\"\")","v":""},{"$f":"IFERROR(AVERAGE(Table5[[#This Row],[Total Dollars Raised in FY19]:[Total Dollars Raised in FY17]])/Table5[[#This Row],[Estimated % of Time Spent on Fundraising]],\"\")","v":""},{"$f":"IFERROR(Table3[[#This Row],[Average $ Raised per 1% of Time]]*AVERAGEIF(Table5[Estimated % of Time Spent on Fundraising],\"<>\"\"\"),\"\")","v":""},{"$f":"IFERROR(Table3[[#This Row],[Average $ Raised per 1% of Time]]*$E$6,\"\")","v":""},{"$f":"IFERROR(Table3[[#This Row],[Average $ Raised per 1% of Time]]*$F$6,\"\")","v":""},{"$f":"IFERROR(Table3[[#This Row],[Average $ Raised per 1% of Time]]*$G$6,\"\")","v":""},{"$f":"IFERROR(Table3[[#This Row],[Average $ Raised per 1% of Time]]*$H$6,\"\")","v":""},{"$f":"IFERROR(Table3[[#This Row],[Average $ Raised per 1% of Time]]*$I$6,\"\")","v":""},{"$f":"IFERROR(Table3[[#This Row],[Average $ Raised per 1% of Time]]*$J$6,\"\")","v":""},{"$f":"IFERROR(Table3[[#This Row],[Average $ Raised per 1% of Time]]*$K$6,\"\")","v":""},{"$f":"IFERROR(Table3[[#This Row],[Average $ Raised per 1% of Time]]*$L$6,\"\")","v":""},{"$f":"IFERROR(Table3[[#This Row],[Average $ Raised per 1% of Time]]*$M$6,\"\")","v":""},{"$f":"IFERROR(Table3[[#This Row],[Average $ Raised per 1% of Time]]*$N$6,\"\")","v":""},{"$f":"IFERROR(Table3[[#This Row],[Average $ Raised per 1% of Time]]*$O$6,\"\")","v":""},{"$f":"IFERROR(Table3[[#This Row],[Average $ Raised per 1% of Time]]*$P$6,\"\")","v":""},{"$f":"IFERROR(Table3[[#This Row],[Average $ Raised per 1% of Time]]*$Q$6,\"\")","v":""},{"$f":"IFERROR(Table3[[#This Row],[Average $ Raised per 1% of Time]]*$R$6,\"\")","v":""},{"$f":"IFERROR(Table3[[#This Row],[Average $ Raised per 1% of Time]]*$S$6,\"\")","v":""},{"$f":"IFERROR(Table3[[#This Row],[Average $ Raised per 1% of Time]]*$T$6,\"\")","v":""},{"$f":"IFERROR(Table3[[#This Row],[Average $ Raised per 1% of Time]]*$U$6,\"\")","v":""},{"$f":"IFERROR(Table3[[#This Row],[Average $ Raised per 1% of Time]]*$V$6,\"\")","v":""},{"$f":"IFERROR(Table3[[#This Row],[Average $ Raised per 1% of Time]]*$W$6,\"\")","v":""},{"$f":"IFERROR(Table3[[#This Row],[Average $ Raised per 1% of Time]]*$X$6,\"\")","v":""}]
[{"$f":"IF(Table5[Gift Officer Name]<>\"\",Table5[Gift Officer Name],\"\")","v":""},{"$f":"IFERROR(AVERAGE(Table5[[#This Row],[Total Dollars Raised in FY19]:[Total Dollars Raised in FY17]]),\"\")","v":""},{"$f":"IFERROR(AVERAGE(Table5[[#This Row],[Total Dollars Raised in FY19]:[Total Dollars Raised in FY17]])/Table5[[#This Row],[Estimated % of Time Spent on Fundraising]],\"\")","v":""},{"$f":"IFERROR(Table3[[#This Row],[Average $ Raised per 1% of Time]]*AVERAGEIF(Table5[Estimated % of Time Spent on Fundraising],\"<>\"\"\"),\"\")","v":""},{"$f":"IFERROR(Table3[[#This Row],[Average $ Raised per 1% of Time]]*$E$6,\"\")","v":""},{"$f":"IFERROR(Table3[[#This Row],[Average $ Raised per 1% of Time]]*$F$6,\"\")","v":""},{"$f":"IFERROR(Table3[[#This Row],[Average $ Raised per 1% of Time]]*$G$6,\"\")","v":""},{"$f":"IFERROR(Table3[[#This Row],[Average $ Raised per 1% of Time]]*$H$6,\"\")","v":""},{"$f":"IFERROR(Table3[[#This Row],[Average $ Raised per 1% of Time]]*$I$6,\"\")","v":""},{"$f":"IFERROR(Table3[[#This Row],[Average $ Raised per 1% of Time]]*$J$6,\"\")","v":""},{"$f":"IFERROR(Table3[[#This Row],[Average $ Raised per 1% of Time]]*$K$6,\"\")","v":""},{"$f":"IFERROR(Table3[[#This Row],[Average $ Raised per 1% of Time]]*$L$6,\"\")","v":""},{"$f":"IFERROR(Table3[[#This Row],[Average $ Raised per 1% of Time]]*$M$6,\"\")","v":""},{"$f":"IFERROR(Table3[[#This Row],[Average $ Raised per 1% of Time]]*$N$6,\"\")","v":""},{"$f":"IFERROR(Table3[[#This Row],[Average $ Raised per 1% of Time]]*$O$6,\"\")","v":""},{"$f":"IFERROR(Table3[[#This Row],[Average $ Raised per 1% of Time]]*$P$6,\"\")","v":""},{"$f":"IFERROR(Table3[[#This Row],[Average $ Raised per 1% of Time]]*$Q$6,\"\")","v":""},{"$f":"IFERROR(Table3[[#This Row],[Average $ Raised per 1% of Time]]*$R$6,\"\")","v":""},{"$f":"IFERROR(Table3[[#This Row],[Average $ Raised per 1% of Time]]*$S$6,\"\")","v":""},{"$f":"IFERROR(Table3[[#This Row],[Average $ Raised per 1% of Time]]*$T$6,\"\")","v":""},{"$f":"IFERROR(Table3[[#This Row],[Average $ Raised per 1% of Time]]*$U$6,\"\")","v":""},{"$f":"IFERROR(Table3[[#This Row],[Average $ Raised per 1% of Time]]*$V$6,\"\")","v":""},{"$f":"IFERROR(Table3[[#This Row],[Average $ Raised per 1% of Time]]*$W$6,\"\")","v":""},{"$f":"IFERROR(Table3[[#This Row],[Average $ Raised per 1% of Time]]*$X$6,\"\")","v":""}]
[{"$f":"IF(Table5[Gift Officer Name]<>\"\",Table5[Gift Officer Name],\"\")","v":""},{"$f":"IFERROR(AVERAGE(Table5[[#This Row],[Total Dollars Raised in FY19]:[Total Dollars Raised in FY17]]),\"\")","v":""},{"$f":"IFERROR(AVERAGE(Table5[[#This Row],[Total Dollars Raised in FY19]:[Total Dollars Raised in FY17]])/Table5[[#This Row],[Estimated % of Time Spent on Fundraising]],\"\")","v":""},{"$f":"IFERROR(Table3[[#This Row],[Average $ Raised per 1% of Time]]*AVERAGEIF(Table5[Estimated % of Time Spent on Fundraising],\"<>\"\"\"),\"\")","v":""},{"$f":"IFERROR(Table3[[#This Row],[Average $ Raised per 1% of Time]]*$E$6,\"\")","v":""},{"$f":"IFERROR(Table3[[#This Row],[Average $ Raised per 1% of Time]]*$F$6,\"\")","v":""},{"$f":"IFERROR(Table3[[#This Row],[Average $ Raised per 1% of Time]]*$G$6,\"\")","v":""},{"$f":"IFERROR(Table3[[#This Row],[Average $ Raised per 1% of Time]]*$H$6,\"\")","v":""},{"$f":"IFERROR(Table3[[#This Row],[Average $ Raised per 1% of Time]]*$I$6,\"\")","v":""},{"$f":"IFERROR(Table3[[#This Row],[Average $ Raised per 1% of Time]]*$J$6,\"\")","v":""},{"$f":"IFERROR(Table3[[#This Row],[Average $ Raised per 1% of Time]]*$K$6,\"\")","v":""},{"$f":"IFERROR(Table3[[#This Row],[Average $ Raised per 1% of Time]]*$L$6,\"\")","v":""},{"$f":"IFERROR(Table3[[#This Row],[Average $ Raised per 1% of Time]]*$M$6,\"\")","v":""},{"$f":"IFERROR(Table3[[#This Row],[Average $ Raised per 1% of Time]]*$N$6,\"\")","v":""},{"$f":"IFERROR(Table3[[#This Row],[Average $ Raised per 1% of Time]]*$O$6,\"\")","v":""},{"$f":"IFERROR(Table3[[#This Row],[Average $ Raised per 1% of Time]]*$P$6,\"\")","v":""},{"$f":"IFERROR(Table3[[#This Row],[Average $ Raised per 1% of Time]]*$Q$6,\"\")","v":""},{"$f":"IFERROR(Table3[[#This Row],[Average $ Raised per 1% of Time]]*$R$6,\"\")","v":""},{"$f":"IFERROR(Table3[[#This Row],[Average $ Raised per 1% of Time]]*$S$6,\"\")","v":""},{"$f":"IFERROR(Table3[[#This Row],[Average $ Raised per 1% of Time]]*$T$6,\"\")","v":""},{"$f":"IFERROR(Table3[[#This Row],[Average $ Raised per 1% of Time]]*$U$6,\"\")","v":""},{"$f":"IFERROR(Table3[[#This Row],[Average $ Raised per 1% of Time]]*$V$6,\"\")","v":""},{"$f":"IFERROR(Table3[[#This Row],[Average $ Raised per 1% of Time]]*$W$6,\"\")","v":""},{"$f":"IFERROR(Table3[[#This Row],[Average $ Raised per 1% of Time]]*$X$6,\"\")","v":""}]
[{"$f":"IF(Table5[Gift Officer Name]<>\"\",Table5[Gift Officer Name],\"\")","v":""},{"$f":"IFERROR(AVERAGE(Table5[[#This Row],[Total Dollars Raised in FY19]:[Total Dollars Raised in FY17]]),\"\")","v":""},{"$f":"IFERROR(AVERAGE(Table5[[#This Row],[Total Dollars Raised in FY19]:[Total Dollars Raised in FY17]])/Table5[[#This Row],[Estimated % of Time Spent on Fundraising]],\"\")","v":""},{"$f":"IFERROR(Table3[[#This Row],[Average $ Raised per 1% of Time]]*AVERAGEIF(Table5[Estimated % of Time Spent on Fundraising],\"<>\"\"\"),\"\")","v":""},{"$f":"IFERROR(Table3[[#This Row],[Average $ Raised per 1% of Time]]*$E$6,\"\")","v":""},{"$f":"IFERROR(Table3[[#This Row],[Average $ Raised per 1% of Time]]*$F$6,\"\")","v":""},{"$f":"IFERROR(Table3[[#This Row],[Average $ Raised per 1% of Time]]*$G$6,\"\")","v":""},{"$f":"IFERROR(Table3[[#This Row],[Average $ Raised per 1% of Time]]*$H$6,\"\")","v":""},{"$f":"IFERROR(Table3[[#This Row],[Average $ Raised per 1% of Time]]*$I$6,\"\")","v":""},{"$f":"IFERROR(Table3[[#This Row],[Average $ Raised per 1% of Time]]*$J$6,\"\")","v":""},{"$f":"IFERROR(Table3[[#This Row],[Average $ Raised per 1% of Time]]*$K$6,\"\")","v":""},{"$f":"IFERROR(Table3[[#This Row],[Average $ Raised per 1% of Time]]*$L$6,\"\")","v":""},{"$f":"IFERROR(Table3[[#This Row],[Average $ Raised per 1% of Time]]*$M$6,\"\")","v":""},{"$f":"IFERROR(Table3[[#This Row],[Average $ Raised per 1% of Time]]*$N$6,\"\")","v":""},{"$f":"IFERROR(Table3[[#This Row],[Average $ Raised per 1% of Time]]*$O$6,\"\")","v":""},{"$f":"IFERROR(Table3[[#This Row],[Average $ Raised per 1% of Time]]*$P$6,\"\")","v":""},{"$f":"IFERROR(Table3[[#This Row],[Average $ Raised per 1% of Time]]*$Q$6,\"\")","v":""},{"$f":"IFERROR(Table3[[#This Row],[Average $ Raised per 1% of Time]]*$R$6,\"\")","v":""},{"$f":"IFERROR(Table3[[#This Row],[Average $ Raised per 1% of Time]]*$S$6,\"\")","v":""},{"$f":"IFERROR(Table3[[#This Row],[Average $ Raised per 1% of Time]]*$T$6,\"\")","v":""},{"$f":"IFERROR(Table3[[#This Row],[Average $ Raised per 1% of Time]]*$U$6,\"\")","v":""},{"$f":"IFERROR(Table3[[#This Row],[Average $ Raised per 1% of Time]]*$V$6,\"\")","v":""},{"$f":"IFERROR(Table3[[#This Row],[Average $ Raised per 1% of Time]]*$W$6,\"\")","v":""},{"$f":"IFERROR(Table3[[#This Row],[Average $ Raised per 1% of Time]]*$X$6,\"\")","v":""}]
[{"$f":"IF(Table5[Gift Officer Name]<>\"\",Table5[Gift Officer Name],\"\")","v":""},{"$f":"IFERROR(AVERAGE(Table5[[#This Row],[Total Dollars Raised in FY19]:[Total Dollars Raised in FY17]]),\"\")","v":""},{"$f":"IFERROR(AVERAGE(Table5[[#This Row],[Total Dollars Raised in FY19]:[Total Dollars Raised in FY17]])/Table5[[#This Row],[Estimated % of Time Spent on Fundraising]],\"\")","v":""},{"$f":"IFERROR(Table3[[#This Row],[Average $ Raised per 1% of Time]]*AVERAGEIF(Table5[Estimated % of Time Spent on Fundraising],\"<>\"\"\"),\"\")","v":""},{"$f":"IFERROR(Table3[[#This Row],[Average $ Raised per 1% of Time]]*$E$6,\"\")","v":""},{"$f":"IFERROR(Table3[[#This Row],[Average $ Raised per 1% of Time]]*$F$6,\"\")","v":""},{"$f":"IFERROR(Table3[[#This Row],[Average $ Raised per 1% of Time]]*$G$6,\"\")","v":""},{"$f":"IFERROR(Table3[[#This Row],[Average $ Raised per 1% of Time]]*$H$6,\"\")","v":""},{"$f":"IFERROR(Table3[[#This Row],[Average $ Raised per 1% of Time]]*$I$6,\"\")","v":""},{"$f":"IFERROR(Table3[[#This Row],[Average $ Raised per 1% of Time]]*$J$6,\"\")","v":""},{"$f":"IFERROR(Table3[[#This Row],[Average $ Raised per 1% of Time]]*$K$6,\"\")","v":""},{"$f":"IFERROR(Table3[[#This Row],[Average $ Raised per 1% of Time]]*$L$6,\"\")","v":""},{"$f":"IFERROR(Table3[[#This Row],[Average $ Raised per 1% of Time]]*$M$6,\"\")","v":""},{"$f":"IFERROR(Table3[[#This Row],[Average $ Raised per 1% of Time]]*$N$6,\"\")","v":""},{"$f":"IFERROR(Table3[[#This Row],[Average $ Raised per 1% of Time]]*$O$6,\"\")","v":""},{"$f":"IFERROR(Table3[[#This Row],[Average $ Raised per 1% of Time]]*$P$6,\"\")","v":""},{"$f":"IFERROR(Table3[[#This Row],[Average $ Raised per 1% of Time]]*$Q$6,\"\")","v":""},{"$f":"IFERROR(Table3[[#This Row],[Average $ Raised per 1% of Time]]*$R$6,\"\")","v":""},{"$f":"IFERROR(Table3[[#This Row],[Average $ Raised per 1% of Time]]*$S$6,\"\")","v":""},{"$f":"IFERROR(Table3[[#This Row],[Average $ Raised per 1% of Time]]*$T$6,\"\")","v":""},{"$f":"IFERROR(Table3[[#This Row],[Average $ Raised per 1% of Time]]*$U$6,\"\")","v":""},{"$f":"IFERROR(Table3[[#This Row],[Average $ Raised per 1% of Time]]*$V$6,\"\")","v":""},{"$f":"IFERROR(Table3[[#This Row],[Average $ Raised per 1% of Time]]*$W$6,\"\")","v":""},{"$f":"IFERROR(Table3[[#This Row],[Average $ Raised per 1% of Time]]*$X$6,\"\")","v":""}]
[{"$f":"IF(Table5[Gift Officer Name]<>\"\",Table5[Gift Officer Name],\"\")","v":""},{"$f":"IFERROR(AVERAGE(Table5[[#This Row],[Total Dollars Raised in FY19]:[Total Dollars Raised in FY17]]),\"\")","v":""},{"$f":"IFERROR(AVERAGE(Table5[[#This Row],[Total Dollars Raised in FY19]:[Total Dollars Raised in FY17]])/Table5[[#This Row],[Estimated % of Time Spent on Fundraising]],\"\")","v":""},{"$f":"IFERROR(Table3[[#This Row],[Average $ Raised per 1% of Time]]*AVERAGEIF(Table5[Estimated % of Time Spent on Fundraising],\"<>\"\"\"),\"\")","v":""},{"$f":"IFERROR(Table3[[#This Row],[Average $ Raised per 1% of Time]]*$E$6,\"\")","v":""},{"$f":"IFERROR(Table3[[#This Row],[Average $ Raised per 1% of Time]]*$F$6,\"\")","v":""},{"$f":"IFERROR(Table3[[#This Row],[Average $ Raised per 1% of Time]]*$G$6,\"\")","v":""},{"$f":"IFERROR(Table3[[#This Row],[Average $ Raised per 1% of Time]]*$H$6,\"\")","v":""},{"$f":"IFERROR(Table3[[#This Row],[Average $ Raised per 1% of Time]]*$I$6,\"\")","v":""},{"$f":"IFERROR(Table3[[#This Row],[Average $ Raised per 1% of Time]]*$J$6,\"\")","v":""},{"$f":"IFERROR(Table3[[#This Row],[Average $ Raised per 1% of Time]]*$K$6,\"\")","v":""},{"$f":"IFERROR(Table3[[#This Row],[Average $ Raised per 1% of Time]]*$L$6,\"\")","v":""},{"$f":"IFERROR(Table3[[#This Row],[Average $ Raised per 1% of Time]]*$M$6,\"\")","v":""},{"$f":"IFERROR(Table3[[#This Row],[Average $ Raised per 1% of Time]]*$N$6,\"\")","v":""},{"$f":"IFERROR(Table3[[#This Row],[Average $ Raised per 1% of Time]]*$O$6,\"\")","v":""},{"$f":"IFERROR(Table3[[#This Row],[Average $ Raised per 1% of Time]]*$P$6,\"\")","v":""},{"$f":"IFERROR(Table3[[#This Row],[Average $ Raised per 1% of Time]]*$Q$6,\"\")","v":""},{"$f":"IFERROR(Table3[[#This Row],[Average $ Raised per 1% of Time]]*$R$6,\"\")","v":""},{"$f":"IFERROR(Table3[[#This Row],[Average $ Raised per 1% of Time]]*$S$6,\"\")","v":""},{"$f":"IFERROR(Table3[[#This Row],[Average $ Raised per 1% of Time]]*$T$6,\"\")","v":""},{"$f":"IFERROR(Table3[[#This Row],[Average $ Raised per 1% of Time]]*$U$6,\"\")","v":""},{"$f":"IFERROR(Table3[[#This Row],[Average $ Raised per 1% of Time]]*$V$6,\"\")","v":""},{"$f":"IFERROR(Table3[[#This Row],[Average $ Raised per 1% of Time]]*$W$6,\"\")","v":""},{"$f":"IFERROR(Table3[[#This Row],[Average $ Raised per 1% of Time]]*$X$6,\"\")","v":""}]
[{"$f":"IF(Table5[Gift Officer Name]<>\"\",Table5[Gift Officer Name],\"\")","v":""},{"$f":"IFERROR(AVERAGE(Table5[[#This Row],[Total Dollars Raised in FY19]:[Total Dollars Raised in FY17]]),\"\")","v":""},{"$f":"IFERROR(AVERAGE(Table5[[#This Row],[Total Dollars Raised in FY19]:[Total Dollars Raised in FY17]])/Table5[[#This Row],[Estimated % of Time Spent on Fundraising]],\"\")","v":""},{"$f":"IFERROR(Table3[[#This Row],[Average $ Raised per 1% of Time]]*AVERAGEIF(Table5[Estimated % of Time Spent on Fundraising],\"<>\"\"\"),\"\")","v":""},{"$f":"IFERROR(Table3[[#This Row],[Average $ Raised per 1% of Time]]*$E$6,\"\")","v":""},{"$f":"IFERROR(Table3[[#This Row],[Average $ Raised per 1% of Time]]*$F$6,\"\")","v":""},{"$f":"IFERROR(Table3[[#This Row],[Average $ Raised per 1% of Time]]*$G$6,\"\")","v":""},{"$f":"IFERROR(Table3[[#This Row],[Average $ Raised per 1% of Time]]*$H$6,\"\")","v":""},{"$f":"IFERROR(Table3[[#This Row],[Average $ Raised per 1% of Time]]*$I$6,\"\")","v":""},{"$f":"IFERROR(Table3[[#This Row],[Average $ Raised per 1% of Time]]*$J$6,\"\")","v":""},{"$f":"IFERROR(Table3[[#This Row],[Average $ Raised per 1% of Time]]*$K$6,\"\")","v":""},{"$f":"IFERROR(Table3[[#This Row],[Average $ Raised per 1% of Time]]*$L$6,\"\")","v":""},{"$f":"IFERROR(Table3[[#This Row],[Average $ Raised per 1% of Time]]*$M$6,\"\")","v":""},{"$f":"IFERROR(Table3[[#This Row],[Average $ Raised per 1% of Time]]*$N$6,\"\")","v":""},{"$f":"IFERROR(Table3[[#This Row],[Average $ Raised per 1% of Time]]*$O$6,\"\")","v":""},{"$f":"IFERROR(Table3[[#This Row],[Average $ Raised per 1% of Time]]*$P$6,\"\")","v":""},{"$f":"IFERROR(Table3[[#This Row],[Average $ Raised per 1% of Time]]*$Q$6,\"\")","v":""},{"$f":"IFERROR(Table3[[#This Row],[Average $ Raised per 1% of Time]]*$R$6,\"\")","v":""},{"$f":"IFERROR(Table3[[#This Row],[Average $ Raised per 1% of Time]]*$S$6,\"\")","v":""},{"$f":"IFERROR(Table3[[#This Row],[Average $ Raised per 1% of Time]]*$T$6,\"\")","v":""},{"$f":"IFERROR(Table3[[#This Row],[Average $ Raised per 1% of Time]]*$U$6,\"\")","v":""},{"$f":"IFERROR(Table3[[#This Row],[Average $ Raised per 1% of Time]]*$V$6,\"\")","v":""},{"$f":"IFERROR(Table3[[#This Row],[Average $ Raised per 1% of Time]]*$W$6,\"\")","v":""},{"$f":"IFERROR(Table3[[#This Row],[Average $ Raised per 1% of Time]]*$X$6,\"\")","v":""}]
[{"$f":"IF(Table5[Gift Officer Name]<>\"\",Table5[Gift Officer Name],\"\")","v":""},{"$f":"IFERROR(AVERAGE(Table5[[#This Row],[Total Dollars Raised in FY19]:[Total Dollars Raised in FY17]]),\"\")","v":""},{"$f":"IFERROR(AVERAGE(Table5[[#This Row],[Total Dollars Raised in FY19]:[Total Dollars Raised in FY17]])/Table5[[#This Row],[Estimated % of Time Spent on Fundraising]],\"\")","v":""},{"$f":"IFERROR(Table3[[#This Row],[Average $ Raised per 1% of Time]]*AVERAGEIF(Table5[Estimated % of Time Spent on Fundraising],\"<>\"\"\"),\"\")","v":""},{"$f":"IFERROR(Table3[[#This Row],[Average $ Raised per 1% of Time]]*$E$6,\"\")","v":""},{"$f":"IFERROR(Table3[[#This Row],[Average $ Raised per 1% of Time]]*$F$6,\"\")","v":""},{"$f":"IFERROR(Table3[[#This Row],[Average $ Raised per 1% of Time]]*$G$6,\"\")","v":""},{"$f":"IFERROR(Table3[[#This Row],[Average $ Raised per 1% of Time]]*$H$6,\"\")","v":""},{"$f":"IFERROR(Table3[[#This Row],[Average $ Raised per 1% of Time]]*$I$6,\"\")","v":""},{"$f":"IFERROR(Table3[[#This Row],[Average $ Raised per 1% of Time]]*$J$6,\"\")","v":""},{"$f":"IFERROR(Table3[[#This Row],[Average $ Raised per 1% of Time]]*$K$6,\"\")","v":""},{"$f":"IFERROR(Table3[[#This Row],[Average $ Raised per 1% of Time]]*$L$6,\"\")","v":""},{"$f":"IFERROR(Table3[[#This Row],[Average $ Raised per 1% of Time]]*$M$6,\"\")","v":""},{"$f":"IFERROR(Table3[[#This Row],[Average $ Raised per 1% of Time]]*$N$6,\"\")","v":""},{"$f":"IFERROR(Table3[[#This Row],[Average $ Raised per 1% of Time]]*$O$6,\"\")","v":""},{"$f":"IFERROR(Table3[[#This Row],[Average $ Raised per 1% of Time]]*$P$6,\"\")","v":""},{"$f":"IFERROR(Table3[[#This Row],[Average $ Raised per 1% of Time]]*$Q$6,\"\")","v":""},{"$f":"IFERROR(Table3[[#This Row],[Average $ Raised per 1% of Time]]*$R$6,\"\")","v":""},{"$f":"IFERROR(Table3[[#This Row],[Average $ Raised per 1% of Time]]*$S$6,\"\")","v":""},{"$f":"IFERROR(Table3[[#This Row],[Average $ Raised per 1% of Time]]*$T$6,\"\")","v":""},{"$f":"IFERROR(Table3[[#This Row],[Average $ Raised per 1% of Time]]*$U$6,\"\")","v":""},{"$f":"IFERROR(Table3[[#This Row],[Average $ Raised per 1% of Time]]*$V$6,\"\")","v":""},{"$f":"IFERROR(Table3[[#This Row],[Average $ Raised per 1% of Time]]*$W$6,\"\")","v":""},{"$f":"IFERROR(Table3[[#This Row],[Average $ Raised per 1% of Time]]*$X$6,\"\")","v":""}]
[{"$f":"IF(Table5[Gift Officer Name]<>\"\",Table5[Gift Officer Name],\"\")","v":""},{"$f":"IFERROR(AVERAGE(Table5[[#This Row],[Total Dollars Raised in FY19]:[Total Dollars Raised in FY17]]),\"\")","v":""},{"$f":"IFERROR(AVERAGE(Table5[[#This Row],[Total Dollars Raised in FY19]:[Total Dollars Raised in FY17]])/Table5[[#This Row],[Estimated % of Time Spent on Fundraising]],\"\")","v":""},{"$f":"IFERROR(Table3[[#This Row],[Average $ Raised per 1% of Time]]*AVERAGEIF(Table5[Estimated % of Time Spent on Fundraising],\"<>\"\"\"),\"\")","v":""},{"$f":"IFERROR(Table3[[#This Row],[Average $ Raised per 1% of Time]]*$E$6,\"\")","v":""},{"$f":"IFERROR(Table3[[#This Row],[Average $ Raised per 1% of Time]]*$F$6,\"\")","v":""},{"$f":"IFERROR(Table3[[#This Row],[Average $ Raised per 1% of Time]]*$G$6,\"\")","v":""},{"$f":"IFERROR(Table3[[#This Row],[Average $ Raised per 1% of Time]]*$H$6,\"\")","v":""},{"$f":"IFERROR(Table3[[#This Row],[Average $ Raised per 1% of Time]]*$I$6,\"\")","v":""},{"$f":"IFERROR(Table3[[#This Row],[Average $ Raised per 1% of Time]]*$J$6,\"\")","v":""},{"$f":"IFERROR(Table3[[#This Row],[Average $ Raised per 1% of Time]]*$K$6,\"\")","v":""},{"$f":"IFERROR(Table3[[#This Row],[Average $ Raised per 1% of Time]]*$L$6,\"\")","v":""},{"$f":"IFERROR(Table3[[#This Row],[Average $ Raised per 1% of Time]]*$M$6,\"\")","v":""},{"$f":"IFERROR(Table3[[#This Row],[Average $ Raised per 1% of Time]]*$N$6,\"\")","v":""},{"$f":"IFERROR(Table3[[#This Row],[Average $ Raised per 1% of Time]]*$O$6,\"\")","v":""},{"$f":"IFERROR(Table3[[#This Row],[Average $ Raised per 1% of Time]]*$P$6,\"\")","v":""},{"$f":"IFERROR(Table3[[#This Row],[Average $ Raised per 1% of Time]]*$Q$6,\"\")","v":""},{"$f":"IFERROR(Table3[[#This Row],[Average $ Raised per 1% of Time]]*$R$6,\"\")","v":""},{"$f":"IFERROR(Table3[[#This Row],[Average $ Raised per 1% of Time]]*$S$6,\"\")","v":""},{"$f":"IFERROR(Table3[[#This Row],[Average $ Raised per 1% of Time]]*$T$6,\"\")","v":""},{"$f":"IFERROR(Table3[[#This Row],[Average $ Raised per 1% of Time]]*$U$6,\"\")","v":""},{"$f":"IFERROR(Table3[[#This Row],[Average $ Raised per 1% of Time]]*$V$6,\"\")","v":""},{"$f":"IFERROR(Table3[[#This Row],[Average $ Raised per 1% of Time]]*$W$6,\"\")","v":""},{"$f":"IFERROR(Table3[[#This Row],[Average $ Raised per 1% of Time]]*$X$6,\"\")","v":""}]
[{"$f":"IF(Table5[Gift Officer Name]<>\"\",Table5[Gift Officer Name],\"\")","v":""},{"$f":"IFERROR(AVERAGE(Table5[[#This Row],[Total Dollars Raised in FY19]:[Total Dollars Raised in FY17]]),\"\")","v":""},{"$f":"IFERROR(AVERAGE(Table5[[#This Row],[Total Dollars Raised in FY19]:[Total Dollars Raised in FY17]])/Table5[[#This Row],[Estimated % of Time Spent on Fundraising]],\"\")","v":""},{"$f":"IFERROR(Table3[[#This Row],[Average $ Raised per 1% of Time]]*AVERAGEIF(Table5[Estimated % of Time Spent on Fundraising],\"<>\"\"\"),\"\")","v":""},{"$f":"IFERROR(Table3[[#This Row],[Average $ Raised per 1% of Time]]*$E$6,\"\")","v":""},{"$f":"IFERROR(Table3[[#This Row],[Average $ Raised per 1% of Time]]*$F$6,\"\")","v":""},{"$f":"IFERROR(Table3[[#This Row],[Average $ Raised per 1% of Time]]*$G$6,\"\")","v":""},{"$f":"IFERROR(Table3[[#This Row],[Average $ Raised per 1% of Time]]*$H$6,\"\")","v":""},{"$f":"IFERROR(Table3[[#This Row],[Average $ Raised per 1% of Time]]*$I$6,\"\")","v":""},{"$f":"IFERROR(Table3[[#This Row],[Average $ Raised per 1% of Time]]*$J$6,\"\")","v":""},{"$f":"IFERROR(Table3[[#This Row],[Average $ Raised per 1% of Time]]*$K$6,\"\")","v":""},{"$f":"IFERROR(Table3[[#This Row],[Average $ Raised per 1% of Time]]*$L$6,\"\")","v":""},{"$f":"IFERROR(Table3[[#This Row],[Average $ Raised per 1% of Time]]*$M$6,\"\")","v":""},{"$f":"IFERROR(Table3[[#This Row],[Average $ Raised per 1% of Time]]*$N$6,\"\")","v":""},{"$f":"IFERROR(Table3[[#This Row],[Average $ Raised per 1% of Time]]*$O$6,\"\")","v":""},{"$f":"IFERROR(Table3[[#This Row],[Average $ Raised per 1% of Time]]*$P$6,\"\")","v":""},{"$f":"IFERROR(Table3[[#This Row],[Average $ Raised per 1% of Time]]*$Q$6,\"\")","v":""},{"$f":"IFERROR(Table3[[#This Row],[Average $ Raised per 1% of Time]]*$R$6,\"\")","v":""},{"$f":"IFERROR(Table3[[#This Row],[Average $ Raised per 1% of Time]]*$S$6,\"\")","v":""},{"$f":"IFERROR(Table3[[#This Row],[Average $ Raised per 1% of Time]]*$T$6,\"\")","v":""},{"$f":"IFERROR(Table3[[#This Row],[Average $ Raised per 1% of Time]]*$U$6,\"\")","v":""},{"$f":"IFERROR(Table3[[#This Row],[Average $ Raised per 1% of Time]]*$V$6,\"\")","v":""},{"$f":"IFERROR(Table3[[#This Row],[Average $ Raised per 1% of Time]]*$W$6,\"\")","v":""},{"$f":"IFERROR(Table3[[#This Row],[Average $ Raised per 1% of Time]]*$X$6,\"\")","v":""}]
[{"$f":"IF(Table5[Gift Officer Name]<>\"\",Table5[Gift Officer Name],\"\")","v":""},{"$f":"IFERROR(AVERAGE(Table5[[#This Row],[Total Dollars Raised in FY19]:[Total Dollars Raised in FY17]]),\"\")","v":""},{"$f":"IFERROR(AVERAGE(Table5[[#This Row],[Total Dollars Raised in FY19]:[Total Dollars Raised in FY17]])/Table5[[#This Row],[Estimated % of Time Spent on Fundraising]],\"\")","v":""},{"$f":"IFERROR(Table3[[#This Row],[Average $ Raised per 1% of Time]]*AVERAGEIF(Table5[Estimated % of Time Spent on Fundraising],\"<>\"\"\"),\"\")","v":""},{"$f":"IFERROR(Table3[[#This Row],[Average $ Raised per 1% of Time]]*$E$6,\"\")","v":""},{"$f":"IFERROR(Table3[[#This Row],[Average $ Raised per 1% of Time]]*$F$6,\"\")","v":""},{"$f":"IFERROR(Table3[[#This Row],[Average $ Raised per 1% of Time]]*$G$6,\"\")","v":""},{"$f":"IFERROR(Table3[[#This Row],[Average $ Raised per 1% of Time]]*$H$6,\"\")","v":""},{"$f":"IFERROR(Table3[[#This Row],[Average $ Raised per 1% of Time]]*$I$6,\"\")","v":""},{"$f":"IFERROR(Table3[[#This Row],[Average $ Raised per 1% of Time]]*$J$6,\"\")","v":""},{"$f":"IFERROR(Table3[[#This Row],[Average $ Raised per 1% of Time]]*$K$6,\"\")","v":""},{"$f":"IFERROR(Table3[[#This Row],[Average $ Raised per 1% of Time]]*$L$6,\"\")","v":""},{"$f":"IFERROR(Table3[[#This Row],[Average $ Raised per 1% of Time]]*$M$6,\"\")","v":""},{"$f":"IFERROR(Table3[[#This Row],[Average $ Raised per 1% of Time]]*$N$6,\"\")","v":""},{"$f":"IFERROR(Table3[[#This Row],[Average $ Raised per 1% of Time]]*$O$6,\"\")","v":""},{"$f":"IFERROR(Table3[[#This Row],[Average $ Raised per 1% of Time]]*$P$6,\"\")","v":""},{"$f":"IFERROR(Table3[[#This Row],[Average $ Raised per 1% of Time]]*$Q$6,\"\")","v":""},{"$f":"IFERROR(Table3[[#This Row],[Average $ Raised per 1% of Time]]*$R$6,\"\")","v":""},{"$f":"IFERROR(Table3[[#This Row],[Average $ Raised per 1% of Time]]*$S$6,\"\")","v":""},{"$f":"IFERROR(Table3[[#This Row],[Average $ Raised per 1% of Time]]*$T$6,\"\")","v":""},{"$f":"IFERROR(Table3[[#This Row],[Average $ Raised per 1% of Time]]*$U$6,\"\")","v":""},{"$f":"IFERROR(Table3[[#This Row],[Average $ Raised per 1% of Time]]*$V$6,\"\")","v":""},{"$f":"IFERROR(Table3[[#This Row],[Average $ Raised per 1% of Time]]*$W$6,\"\")","v":""},{"$f":"IFERROR(Table3[[#This Row],[Average $ Raised per 1% of Time]]*$X$6,\"\")","v":""}]
[{"$f":"IF(Table5[Gift Officer Name]<>\"\",Table5[Gift Officer Name],\"\")","v":""},{"$f":"IFERROR(AVERAGE(Table5[[#This Row],[Total Dollars Raised in FY19]:[Total Dollars Raised in FY17]]),\"\")","v":""},{"$f":"IFERROR(AVERAGE(Table5[[#This Row],[Total Dollars Raised in FY19]:[Total Dollars Raised in FY17]])/Table5[[#This Row],[Estimated % of Time Spent on Fundraising]],\"\")","v":""},{"$f":"IFERROR(Table3[[#This Row],[Average $ Raised per 1% of Time]]*AVERAGEIF(Table5[Estimated % of Time Spent on Fundraising],\"<>\"\"\"),\"\")","v":""},{"$f":"IFERROR(Table3[[#This Row],[Average $ Raised per 1% of Time]]*$E$6,\"\")","v":""},{"$f":"IFERROR(Table3[[#This Row],[Average $ Raised per 1% of Time]]*$F$6,\"\")","v":""},{"$f":"IFERROR(Table3[[#This Row],[Average $ Raised per 1% of Time]]*$G$6,\"\")","v":""},{"$f":"IFERROR(Table3[[#This Row],[Average $ Raised per 1% of Time]]*$H$6,\"\")","v":""},{"$f":"IFERROR(Table3[[#This Row],[Average $ Raised per 1% of Time]]*$I$6,\"\")","v":""},{"$f":"IFERROR(Table3[[#This Row],[Average $ Raised per 1% of Time]]*$J$6,\"\")","v":""},{"$f":"IFERROR(Table3[[#This Row],[Average $ Raised per 1% of Time]]*$K$6,\"\")","v":""},{"$f":"IFERROR(Table3[[#This Row],[Average $ Raised per 1% of Time]]*$L$6,\"\")","v":""},{"$f":"IFERROR(Table3[[#This Row],[Average $ Raised per 1% of Time]]*$M$6,\"\")","v":""},{"$f":"IFERROR(Table3[[#This Row],[Average $ Raised per 1% of Time]]*$N$6,\"\")","v":""},{"$f":"IFERROR(Table3[[#This Row],[Average $ Raised per 1% of Time]]*$O$6,\"\")","v":""},{"$f":"IFERROR(Table3[[#This Row],[Average $ Raised per 1% of Time]]*$P$6,\"\")","v":""},{"$f":"IFERROR(Table3[[#This Row],[Average $ Raised per 1% of Time]]*$Q$6,\"\")","v":""},{"$f":"IFERROR(Table3[[#This Row],[Average $ Raised per 1% of Time]]*$R$6,\"\")","v":""},{"$f":"IFERROR(Table3[[#This Row],[Average $ Raised per 1% of Time]]*$S$6,\"\")","v":""},{"$f":"IFERROR(Table3[[#This Row],[Average $ Raised per 1% of Time]]*$T$6,\"\")","v":""},{"$f":"IFERROR(Table3[[#This Row],[Average $ Raised per 1% of Time]]*$U$6,\"\")","v":""},{"$f":"IFERROR(Table3[[#This Row],[Average $ Raised per 1% of Time]]*$V$6,\"\")","v":""},{"$f":"IFERROR(Table3[[#This Row],[Average $ Raised per 1% of Time]]*$W$6,\"\")","v":""},{"$f":"IFERROR(Table3[[#This Row],[Average $ Raised per 1% of Time]]*$X$6,\"\")","v":""}]
[{"$f":"IF(Table5[Gift Officer Name]<>\"\",Table5[Gift Officer Name],\"\")","v":""},{"$f":"IFERROR(AVERAGE(Table5[[#This Row],[Total Dollars Raised in FY19]:[Total Dollars Raised in FY17]]),\"\")","v":""},{"$f":"IFERROR(AVERAGE(Table5[[#This Row],[Total Dollars Raised in FY19]:[Total Dollars Raised in FY17]])/Table5[[#This Row],[Estimated % of Time Spent on Fundraising]],\"\")","v":""},{"$f":"IFERROR(Table3[[#This Row],[Average $ Raised per 1% of Time]]*AVERAGEIF(Table5[Estimated % of Time Spent on Fundraising],\"<>\"\"\"),\"\")","v":""},{"$f":"IFERROR(Table3[[#This Row],[Average $ Raised per 1% of Time]]*$E$6,\"\")","v":""},{"$f":"IFERROR(Table3[[#This Row],[Average $ Raised per 1% of Time]]*$F$6,\"\")","v":""},{"$f":"IFERROR(Table3[[#This Row],[Average $ Raised per 1% of Time]]*$G$6,\"\")","v":""},{"$f":"IFERROR(Table3[[#This Row],[Average $ Raised per 1% of Time]]*$H$6,\"\")","v":""},{"$f":"IFERROR(Table3[[#This Row],[Average $ Raised per 1% of Time]]*$I$6,\"\")","v":""},{"$f":"IFERROR(Table3[[#This Row],[Average $ Raised per 1% of Time]]*$J$6,\"\")","v":""},{"$f":"IFERROR(Table3[[#This Row],[Average $ Raised per 1% of Time]]*$K$6,\"\")","v":""},{"$f":"IFERROR(Table3[[#This Row],[Average $ Raised per 1% of Time]]*$L$6,\"\")","v":""},{"$f":"IFERROR(Table3[[#This Row],[Average $ Raised per 1% of Time]]*$M$6,\"\")","v":""},{"$f":"IFERROR(Table3[[#This Row],[Average $ Raised per 1% of Time]]*$N$6,\"\")","v":""},{"$f":"IFERROR(Table3[[#This Row],[Average $ Raised per 1% of Time]]*$O$6,\"\")","v":""},{"$f":"IFERROR(Table3[[#This Row],[Average $ Raised per 1% of Time]]*$P$6,\"\")","v":""},{"$f":"IFERROR(Table3[[#This Row],[Average $ Raised per 1% of Time]]*$Q$6,\"\")","v":""},{"$f":"IFERROR(Table3[[#This Row],[Average $ Raised per 1% of Time]]*$R$6,\"\")","v":""},{"$f":"IFERROR(Table3[[#This Row],[Average $ Raised per 1% of Time]]*$S$6,\"\")","v":""},{"$f":"IFERROR(Table3[[#This Row],[Average $ Raised per 1% of Time]]*$T$6,\"\")","v":""},{"$f":"IFERROR(Table3[[#This Row],[Average $ Raised per 1% of Time]]*$U$6,\"\")","v":""},{"$f":"IFERROR(Table3[[#This Row],[Average $ Raised per 1% of Time]]*$V$6,\"\")","v":""},{"$f":"IFERROR(Table3[[#This Row],[Average $ Raised per 1% of Time]]*$W$6,\"\")","v":""},{"$f":"IFERROR(Table3[[#This Row],[Average $ Raised per 1% of Time]]*$X$6,\"\")","v":""}]
[{"$f":"IF(Table5[Gift Officer Name]<>\"\",Table5[Gift Officer Name],\"\")","v":""},{"$f":"IFERROR(AVERAGE(Table5[[#This Row],[Total Dollars Raised in FY19]:[Total Dollars Raised in FY17]]),\"\")","v":""},{"$f":"IFERROR(AVERAGE(Table5[[#This Row],[Total Dollars Raised in FY19]:[Total Dollars Raised in FY17]])/Table5[[#This Row],[Estimated % of Time Spent on Fundraising]],\"\")","v":""},{"$f":"IFERROR(Table3[[#This Row],[Average $ Raised per 1% of Time]]*AVERAGEIF(Table5[Estimated % of Time Spent on Fundraising],\"<>\"\"\"),\"\")","v":""},{"$f":"IFERROR(Table3[[#This Row],[Average $ Raised per 1% of Time]]*$E$6,\"\")","v":""},{"$f":"IFERROR(Table3[[#This Row],[Average $ Raised per 1% of Time]]*$F$6,\"\")","v":""},{"$f":"IFERROR(Table3[[#This Row],[Average $ Raised per 1% of Time]]*$G$6,\"\")","v":""},{"$f":"IFERROR(Table3[[#This Row],[Average $ Raised per 1% of Time]]*$H$6,\"\")","v":""},{"$f":"IFERROR(Table3[[#This Row],[Average $ Raised per 1% of Time]]*$I$6,\"\")","v":""},{"$f":"IFERROR(Table3[[#This Row],[Average $ Raised per 1% of Time]]*$J$6,\"\")","v":""},{"$f":"IFERROR(Table3[[#This Row],[Average $ Raised per 1% of Time]]*$K$6,\"\")","v":""},{"$f":"IFERROR(Table3[[#This Row],[Average $ Raised per 1% of Time]]*$L$6,\"\")","v":""},{"$f":"IFERROR(Table3[[#This Row],[Average $ Raised per 1% of Time]]*$M$6,\"\")","v":""},{"$f":"IFERROR(Table3[[#This Row],[Average $ Raised per 1% of Time]]*$N$6,\"\")","v":""},{"$f":"IFERROR(Table3[[#This Row],[Average $ Raised per 1% of Time]]*$O$6,\"\")","v":""},{"$f":"IFERROR(Table3[[#This Row],[Average $ Raised per 1% of Time]]*$P$6,\"\")","v":""},{"$f":"IFERROR(Table3[[#This Row],[Average $ Raised per 1% of Time]]*$Q$6,\"\")","v":""},{"$f":"IFERROR(Table3[[#This Row],[Average $ Raised per 1% of Time]]*$R$6,\"\")","v":""},{"$f":"IFERROR(Table3[[#This Row],[Average $ Raised per 1% of Time]]*$S$6,\"\")","v":""},{"$f":"IFERROR(Table3[[#This Row],[Average $ Raised per 1% of Time]]*$T$6,\"\")","v":""},{"$f":"IFERROR(Table3[[#This Row],[Average $ Raised per 1% of Time]]*$U$6,\"\")","v":""},{"$f":"IFERROR(Table3[[#This Row],[Average $ Raised per 1% of Time]]*$V$6,\"\")","v":""},{"$f":"IFERROR(Table3[[#This Row],[Average $ Raised per 1% of Time]]*$W$6,\"\")","v":""},{"$f":"IFERROR(Table3[[#This Row],[Average $ Raised per 1% of Time]]*$X$6,\"\")","v":""}]
[{"$f":"IF(Table5[Gift Officer Name]<>\"\",Table5[Gift Officer Name],\"\")","v":""},{"$f":"IFERROR(AVERAGE(Table5[[#This Row],[Total Dollars Raised in FY19]:[Total Dollars Raised in FY17]]),\"\")","v":""},{"$f":"IFERROR(AVERAGE(Table5[[#This Row],[Total Dollars Raised in FY19]:[Total Dollars Raised in FY17]])/Table5[[#This Row],[Estimated % of Time Spent on Fundraising]],\"\")","v":""},{"$f":"IFERROR(Table3[[#This Row],[Average $ Raised per 1% of Time]]*AVERAGEIF(Table5[Estimated % of Time Spent on Fundraising],\"<>\"\"\"),\"\")","v":""},{"$f":"IFERROR(Table3[[#This Row],[Average $ Raised per 1% of Time]]*$E$6,\"\")","v":""},{"$f":"IFERROR(Table3[[#This Row],[Average $ Raised per 1% of Time]]*$F$6,\"\")","v":""},{"$f":"IFERROR(Table3[[#This Row],[Average $ Raised per 1% of Time]]*$G$6,\"\")","v":""},{"$f":"IFERROR(Table3[[#This Row],[Average $ Raised per 1% of Time]]*$H$6,\"\")","v":""},{"$f":"IFERROR(Table3[[#This Row],[Average $ Raised per 1% of Time]]*$I$6,\"\")","v":""},{"$f":"IFERROR(Table3[[#This Row],[Average $ Raised per 1% of Time]]*$J$6,\"\")","v":""},{"$f":"IFERROR(Table3[[#This Row],[Average $ Raised per 1% of Time]]*$K$6,\"\")","v":""},{"$f":"IFERROR(Table3[[#This Row],[Average $ Raised per 1% of Time]]*$L$6,\"\")","v":""},{"$f":"IFERROR(Table3[[#This Row],[Average $ Raised per 1% of Time]]*$M$6,\"\")","v":""},{"$f":"IFERROR(Table3[[#This Row],[Average $ Raised per 1% of Time]]*$N$6,\"\")","v":""},{"$f":"IFERROR(Table3[[#This Row],[Average $ Raised per 1% of Time]]*$O$6,\"\")","v":""},{"$f":"IFERROR(Table3[[#This Row],[Average $ Raised per 1% of Time]]*$P$6,\"\")","v":""},{"$f":"IFERROR(Table3[[#This Row],[Average $ Raised per 1% of Time]]*$Q$6,\"\")","v":""},{"$f":"IFERROR(Table3[[#This Row],[Average $ Raised per 1% of Time]]*$R$6,\"\")","v":""},{"$f":"IFERROR(Table3[[#This Row],[Average $ Raised per 1% of Time]]*$S$6,\"\")","v":""},{"$f":"IFERROR(Table3[[#This Row],[Average $ Raised per 1% of Time]]*$T$6,\"\")","v":""},{"$f":"IFERROR(Table3[[#This Row],[Average $ Raised per 1% of Time]]*$U$6,\"\")","v":""},{"$f":"IFERROR(Table3[[#This Row],[Average $ Raised per 1% of Time]]*$V$6,\"\")","v":""},{"$f":"IFERROR(Table3[[#This Row],[Average $ Raised per 1% of Time]]*$W$6,\"\")","v":""},{"$f":"IFERROR(Table3[[#This Row],[Average $ Raised per 1% of Time]]*$X$6,\"\")","v":""}]
[{"$f":"IF(Table5[Gift Officer Name]<>\"\",Table5[Gift Officer Name],\"\")","v":""},{"$f":"IFERROR(AVERAGE(Table5[[#This Row],[Total Dollars Raised in FY19]:[Total Dollars Raised in FY17]]),\"\")","v":""},{"$f":"IFERROR(AVERAGE(Table5[[#This Row],[Total Dollars Raised in FY19]:[Total Dollars Raised in FY17]])/Table5[[#This Row],[Estimated % of Time Spent on Fundraising]],\"\")","v":""},{"$f":"IFERROR(Table3[[#This Row],[Average $ Raised per 1% of Time]]*AVERAGEIF(Table5[Estimated % of Time Spent on Fundraising],\"<>\"\"\"),\"\")","v":""},{"$f":"IFERROR(Table3[[#This Row],[Average $ Raised per 1% of Time]]*$E$6,\"\")","v":""},{"$f":"IFERROR(Table3[[#This Row],[Average $ Raised per 1% of Time]]*$F$6,\"\")","v":""},{"$f":"IFERROR(Table3[[#This Row],[Average $ Raised per 1% of Time]]*$G$6,\"\")","v":""},{"$f":"IFERROR(Table3[[#This Row],[Average $ Raised per 1% of Time]]*$H$6,\"\")","v":""},{"$f":"IFERROR(Table3[[#This Row],[Average $ Raised per 1% of Time]]*$I$6,\"\")","v":""},{"$f":"IFERROR(Table3[[#This Row],[Average $ Raised per 1% of Time]]*$J$6,\"\")","v":""},{"$f":"IFERROR(Table3[[#This Row],[Average $ Raised per 1% of Time]]*$K$6,\"\")","v":""},{"$f":"IFERROR(Table3[[#This Row],[Average $ Raised per 1% of Time]]*$L$6,\"\")","v":""},{"$f":"IFERROR(Table3[[#This Row],[Average $ Raised per 1% of Time]]*$M$6,\"\")","v":""},{"$f":"IFERROR(Table3[[#This Row],[Average $ Raised per 1% of Time]]*$N$6,\"\")","v":""},{"$f":"IFERROR(Table3[[#This Row],[Average $ Raised per 1% of Time]]*$O$6,\"\")","v":""},{"$f":"IFERROR(Table3[[#This Row],[Average $ Raised per 1% of Time]]*$P$6,\"\")","v":""},{"$f":"IFERROR(Table3[[#This Row],[Average $ Raised per 1% of Time]]*$Q$6,\"\")","v":""},{"$f":"IFERROR(Table3[[#This Row],[Average $ Raised per 1% of Time]]*$R$6,\"\")","v":""},{"$f":"IFERROR(Table3[[#This Row],[Average $ Raised per 1% of Time]]*$S$6,\"\")","v":""},{"$f":"IFERROR(Table3[[#This Row],[Average $ Raised per 1% of Time]]*$T$6,\"\")","v":""},{"$f":"IFERROR(Table3[[#This Row],[Average $ Raised per 1% of Time]]*$U$6,\"\")","v":""},{"$f":"IFERROR(Table3[[#This Row],[Average $ Raised per 1% of Time]]*$V$6,\"\")","v":""},{"$f":"IFERROR(Table3[[#This Row],[Average $ Raised per 1% of Time]]*$W$6,\"\")","v":""},{"$f":"IFERROR(Table3[[#This Row],[Average $ Raised per 1% of Time]]*$X$6,\"\")","v":""}]
[{"$f":"IF(Table5[Gift Officer Name]<>\"\",Table5[Gift Officer Name],\"\")","v":""},{"$f":"IFERROR(AVERAGE(Table5[[#This Row],[Total Dollars Raised in FY19]:[Total Dollars Raised in FY17]]),\"\")","v":""},{"$f":"IFERROR(AVERAGE(Table5[[#This Row],[Total Dollars Raised in FY19]:[Total Dollars Raised in FY17]])/Table5[[#This Row],[Estimated % of Time Spent on Fundraising]],\"\")","v":""},{"$f":"IFERROR(Table3[[#This Row],[Average $ Raised per 1% of Time]]*AVERAGEIF(Table5[Estimated % of Time Spent on Fundraising],\"<>\"\"\"),\"\")","v":""},{"$f":"IFERROR(Table3[[#This Row],[Average $ Raised per 1% of Time]]*$E$6,\"\")","v":""},{"$f":"IFERROR(Table3[[#This Row],[Average $ Raised per 1% of Time]]*$F$6,\"\")","v":""},{"$f":"IFERROR(Table3[[#This Row],[Average $ Raised per 1% of Time]]*$G$6,\"\")","v":""},{"$f":"IFERROR(Table3[[#This Row],[Average $ Raised per 1% of Time]]*$H$6,\"\")","v":""},{"$f":"IFERROR(Table3[[#This Row],[Average $ Raised per 1% of Time]]*$I$6,\"\")","v":""},{"$f":"IFERROR(Table3[[#This Row],[Average $ Raised per 1% of Time]]*$J$6,\"\")","v":""},{"$f":"IFERROR(Table3[[#This Row],[Average $ Raised per 1% of Time]]*$K$6,\"\")","v":""},{"$f":"IFERROR(Table3[[#This Row],[Average $ Raised per 1% of Time]]*$L$6,\"\")","v":""},{"$f":"IFERROR(Table3[[#This Row],[Average $ Raised per 1% of Time]]*$M$6,\"\")","v":""},{"$f":"IFERROR(Table3[[#This Row],[Average $ Raised per 1% of Time]]*$N$6,\"\")","v":""},{"$f":"IFERROR(Table3[[#This Row],[Average $ Raised per 1% of Time]]*$O$6,\"\")","v":""},{"$f":"IFERROR(Table3[[#This Row],[Average $ Raised per 1% of Time]]*$P$6,\"\")","v":""},{"$f":"IFERROR(Table3[[#This Row],[Average $ Raised per 1% of Time]]*$Q$6,\"\")","v":""},{"$f":"IFERROR(Table3[[#This Row],[Average $ Raised per 1% of Time]]*$R$6,\"\")","v":""},{"$f":"IFERROR(Table3[[#This Row],[Average $ Raised per 1% of Time]]*$S$6,\"\")","v":""},{"$f":"IFERROR(Table3[[#This Row],[Average $ Raised per 1% of Time]]*$T$6,\"\")","v":""},{"$f":"IFERROR(Table3[[#This Row],[Average $ Raised per 1% of Time]]*$U$6,\"\")","v":""},{"$f":"IFERROR(Table3[[#This Row],[Average $ Raised per 1% of Time]]*$V$6,\"\")","v":""},{"$f":"IFERROR(Table3[[#This Row],[Average $ Raised per 1% of Time]]*$W$6,\"\")","v":""},{"$f":"IFERROR(Table3[[#This Row],[Average $ Raised per 1% of Time]]*$X$6,\"\")","v":""}]
[{"$f":"IF(Table5[Gift Officer Name]<>\"\",Table5[Gift Officer Name],\"\")","v":""},{"$f":"IFERROR(AVERAGE(Table5[[#This Row],[Total Dollars Raised in FY19]:[Total Dollars Raised in FY17]]),\"\")","v":""},{"$f":"IFERROR(AVERAGE(Table5[[#This Row],[Total Dollars Raised in FY19]:[Total Dollars Raised in FY17]])/Table5[[#This Row],[Estimated % of Time Spent on Fundraising]],\"\")","v":""},{"$f":"IFERROR(Table3[[#This Row],[Average $ Raised per 1% of Time]]*AVERAGEIF(Table5[Estimated % of Time Spent on Fundraising],\"<>\"\"\"),\"\")","v":""},{"$f":"IFERROR(Table3[[#This Row],[Average $ Raised per 1% of Time]]*$E$6,\"\")","v":""},{"$f":"IFERROR(Table3[[#This Row],[Average $ Raised per 1% of Time]]*$F$6,\"\")","v":""},{"$f":"IFERROR(Table3[[#This Row],[Average $ Raised per 1% of Time]]*$G$6,\"\")","v":""},{"$f":"IFERROR(Table3[[#This Row],[Average $ Raised per 1% of Time]]*$H$6,\"\")","v":""},{"$f":"IFERROR(Table3[[#This Row],[Average $ Raised per 1% of Time]]*$I$6,\"\")","v":""},{"$f":"IFERROR(Table3[[#This Row],[Average $ Raised per 1% of Time]]*$J$6,\"\")","v":""},{"$f":"IFERROR(Table3[[#This Row],[Average $ Raised per 1% of Time]]*$K$6,\"\")","v":""},{"$f":"IFERROR(Table3[[#This Row],[Average $ Raised per 1% of Time]]*$L$6,\"\")","v":""},{"$f":"IFERROR(Table3[[#This Row],[Average $ Raised per 1% of Time]]*$M$6,\"\")","v":""},{"$f":"IFERROR(Table3[[#This Row],[Average $ Raised per 1% of Time]]*$N$6,\"\")","v":""},{"$f":"IFERROR(Table3[[#This Row],[Average $ Raised per 1% of Time]]*$O$6,\"\")","v":""},{"$f":"IFERROR(Table3[[#This Row],[Average $ Raised per 1% of Time]]*$P$6,\"\")","v":""},{"$f":"IFERROR(Table3[[#This Row],[Average $ Raised per 1% of Time]]*$Q$6,\"\")","v":""},{"$f":"IFERROR(Table3[[#This Row],[Average $ Raised per 1% of Time]]*$R$6,\"\")","v":""},{"$f":"IFERROR(Table3[[#This Row],[Average $ Raised per 1% of Time]]*$S$6,\"\")","v":""},{"$f":"IFERROR(Table3[[#This Row],[Average $ Raised per 1% of Time]]*$T$6,\"\")","v":""},{"$f":"IFERROR(Table3[[#This Row],[Average $ Raised per 1% of Time]]*$U$6,\"\")","v":""},{"$f":"IFERROR(Table3[[#This Row],[Average $ Raised per 1% of Time]]*$V$6,\"\")","v":""},{"$f":"IFERROR(Table3[[#This Row],[Average $ Raised per 1% of Time]]*$W$6,\"\")","v":""},{"$f":"IFERROR(Table3[[#This Row],[Average $ Raised per 1% of Time]]*$X$6,\"\")","v":""}]
[{"$f":"IF(Table5[Gift Officer Name]<>\"\",Table5[Gift Officer Name],\"\")","v":""},{"$f":"IFERROR(AVERAGE(Table5[[#This Row],[Total Dollars Raised in FY19]:[Total Dollars Raised in FY17]]),\"\")","v":""},{"$f":"IFERROR(AVERAGE(Table5[[#This Row],[Total Dollars Raised in FY19]:[Total Dollars Raised in FY17]])/Table5[[#This Row],[Estimated % of Time Spent on Fundraising]],\"\")","v":""},{"$f":"IFERROR(Table3[[#This Row],[Average $ Raised per 1% of Time]]*AVERAGEIF(Table5[Estimated % of Time Spent on Fundraising],\"<>\"\"\"),\"\")","v":""},{"$f":"IFERROR(Table3[[#This Row],[Average $ Raised per 1% of Time]]*$E$6,\"\")","v":""},{"$f":"IFERROR(Table3[[#This Row],[Average $ Raised per 1% of Time]]*$F$6,\"\")","v":""},{"$f":"IFERROR(Table3[[#This Row],[Average $ Raised per 1% of Time]]*$G$6,\"\")","v":""},{"$f":"IFERROR(Table3[[#This Row],[Average $ Raised per 1% of Time]]*$H$6,\"\")","v":""},{"$f":"IFERROR(Table3[[#This Row],[Average $ Raised per 1% of Time]]*$I$6,\"\")","v":""},{"$f":"IFERROR(Table3[[#This Row],[Average $ Raised per 1% of Time]]*$J$6,\"\")","v":""},{"$f":"IFERROR(Table3[[#This Row],[Average $ Raised per 1% of Time]]*$K$6,\"\")","v":""},{"$f":"IFERROR(Table3[[#This Row],[Average $ Raised per 1% of Time]]*$L$6,\"\")","v":""},{"$f":"IFERROR(Table3[[#This Row],[Average $ Raised per 1% of Time]]*$M$6,\"\")","v":""},{"$f":"IFERROR(Table3[[#This Row],[Average $ Raised per 1% of Time]]*$N$6,\"\")","v":""},{"$f":"IFERROR(Table3[[#This Row],[Average $ Raised per 1% of Time]]*$O$6,\"\")","v":""},{"$f":"IFERROR(Table3[[#This Row],[Average $ Raised per 1% of Time]]*$P$6,\"\")","v":""},{"$f":"IFERROR(Table3[[#This Row],[Average $ Raised per 1% of Time]]*$Q$6,\"\")","v":""},{"$f":"IFERROR(Table3[[#This Row],[Average $ Raised per 1% of Time]]*$R$6,\"\")","v":""},{"$f":"IFERROR(Table3[[#This Row],[Average $ Raised per 1% of Time]]*$S$6,\"\")","v":""},{"$f":"IFERROR(Table3[[#This Row],[Average $ Raised per 1% of Time]]*$T$6,\"\")","v":""},{"$f":"IFERROR(Table3[[#This Row],[Average $ Raised per 1% of Time]]*$U$6,\"\")","v":""},{"$f":"IFERROR(Table3[[#This Row],[Average $ Raised per 1% of Time]]*$V$6,\"\")","v":""},{"$f":"IFERROR(Table3[[#This Row],[Average $ Raised per 1% of Time]]*$W$6,\"\")","v":""},{"$f":"IFERROR(Table3[[#This Row],[Average $ Raised per 1% of Time]]*$X$6,\"\")","v":""}]
[{"$f":"IF(Table5[Gift Officer Name]<>\"\",Table5[Gift Officer Name],\"\")","v":""},{"$f":"IFERROR(AVERAGE(Table5[[#This Row],[Total Dollars Raised in FY19]:[Total Dollars Raised in FY17]]),\"\")","v":""},{"$f":"IFERROR(AVERAGE(Table5[[#This Row],[Total Dollars Raised in FY19]:[Total Dollars Raised in FY17]])/Table5[[#This Row],[Estimated % of Time Spent on Fundraising]],\"\")","v":""},{"$f":"IFERROR(Table3[[#This Row],[Average $ Raised per 1% of Time]]*AVERAGEIF(Table5[Estimated % of Time Spent on Fundraising],\"<>\"\"\"),\"\")","v":""},{"$f":"IFERROR(Table3[[#This Row],[Average $ Raised per 1% of Time]]*$E$6,\"\")","v":""},{"$f":"IFERROR(Table3[[#This Row],[Average $ Raised per 1% of Time]]*$F$6,\"\")","v":""},{"$f":"IFERROR(Table3[[#This Row],[Average $ Raised per 1% of Time]]*$G$6,\"\")","v":""},{"$f":"IFERROR(Table3[[#This Row],[Average $ Raised per 1% of Time]]*$H$6,\"\")","v":""},{"$f":"IFERROR(Table3[[#This Row],[Average $ Raised per 1% of Time]]*$I$6,\"\")","v":""},{"$f":"IFERROR(Table3[[#This Row],[Average $ Raised per 1% of Time]]*$J$6,\"\")","v":""},{"$f":"IFERROR(Table3[[#This Row],[Average $ Raised per 1% of Time]]*$K$6,\"\")","v":""},{"$f":"IFERROR(Table3[[#This Row],[Average $ Raised per 1% of Time]]*$L$6,\"\")","v":""},{"$f":"IFERROR(Table3[[#This Row],[Average $ Raised per 1% of Time]]*$M$6,\"\")","v":""},{"$f":"IFERROR(Table3[[#This Row],[Average $ Raised per 1% of Time]]*$N$6,\"\")","v":""},{"$f":"IFERROR(Table3[[#This Row],[Average $ Raised per 1% of Time]]*$O$6,\"\")","v":""},{"$f":"IFERROR(Table3[[#This Row],[Average $ Raised per 1% of Time]]*$P$6,\"\")","v":""},{"$f":"IFERROR(Table3[[#This Row],[Average $ Raised per 1% of Time]]*$Q$6,\"\")","v":""},{"$f":"IFERROR(Table3[[#This Row],[Average $ Raised per 1% of Time]]*$R$6,\"\")","v":""},{"$f":"IFERROR(Table3[[#This Row],[Average $ Raised per 1% of Time]]*$S$6,\"\")","v":""},{"$f":"IFERROR(Table3[[#This Row],[Average $ Raised per 1% of Time]]*$T$6,\"\")","v":""},{"$f":"IFERROR(Table3[[#This Row],[Average $ Raised per 1% of Time]]*$U$6,\"\")","v":""},{"$f":"IFERROR(Table3[[#This Row],[Average $ Raised per 1% of Time]]*$V$6,\"\")","v":""},{"$f":"IFERROR(Table3[[#This Row],[Average $ Raised per 1% of Time]]*$W$6,\"\")","v":""},{"$f":"IFERROR(Table3[[#This Row],[Average $ Raised per 1% of Time]]*$X$6,\"\")","v":""}]
[{"$f":"IF(Table5[Gift Officer Name]<>\"\",Table5[Gift Officer Name],\"\")","v":""},{"$f":"IFERROR(AVERAGE(Table5[[#This Row],[Total Dollars Raised in FY19]:[Total Dollars Raised in FY17]]),\"\")","v":""},{"$f":"IFERROR(AVERAGE(Table5[[#This Row],[Total Dollars Raised in FY19]:[Total Dollars Raised in FY17]])/Table5[[#This Row],[Estimated % of Time Spent on Fundraising]],\"\")","v":""},{"$f":"IFERROR(Table3[[#This Row],[Average $ Raised per 1% of Time]]*AVERAGEIF(Table5[Estimated % of Time Spent on Fundraising],\"<>\"\"\"),\"\")","v":""},{"$f":"IFERROR(Table3[[#This Row],[Average $ Raised per 1% of Time]]*$E$6,\"\")","v":""},{"$f":"IFERROR(Table3[[#This Row],[Average $ Raised per 1% of Time]]*$F$6,\"\")","v":""},{"$f":"IFERROR(Table3[[#This Row],[Average $ Raised per 1% of Time]]*$G$6,\"\")","v":""},{"$f":"IFERROR(Table3[[#This Row],[Average $ Raised per 1% of Time]]*$H$6,\"\")","v":""},{"$f":"IFERROR(Table3[[#This Row],[Average $ Raised per 1% of Time]]*$I$6,\"\")","v":""},{"$f":"IFERROR(Table3[[#This Row],[Average $ Raised per 1% of Time]]*$J$6,\"\")","v":""},{"$f":"IFERROR(Table3[[#This Row],[Average $ Raised per 1% of Time]]*$K$6,\"\")","v":""},{"$f":"IFERROR(Table3[[#This Row],[Average $ Raised per 1% of Time]]*$L$6,\"\")","v":""},{"$f":"IFERROR(Table3[[#This Row],[Average $ Raised per 1% of Time]]*$M$6,\"\")","v":""},{"$f":"IFERROR(Table3[[#This Row],[Average $ Raised per 1% of Time]]*$N$6,\"\")","v":""},{"$f":"IFERROR(Table3[[#This Row],[Average $ Raised per 1% of Time]]*$O$6,\"\")","v":""},{"$f":"IFERROR(Table3[[#This Row],[Average $ Raised per 1% of Time]]*$P$6,\"\")","v":""},{"$f":"IFERROR(Table3[[#This Row],[Average $ Raised per 1% of Time]]*$Q$6,\"\")","v":""},{"$f":"IFERROR(Table3[[#This Row],[Average $ Raised per 1% of Time]]*$R$6,\"\")","v":""},{"$f":"IFERROR(Table3[[#This Row],[Average $ Raised per 1% of Time]]*$S$6,\"\")","v":""},{"$f":"IFERROR(Table3[[#This Row],[Average $ Raised per 1% of Time]]*$T$6,\"\")","v":""},{"$f":"IFERROR(Table3[[#This Row],[Average $ Raised per 1% of Time]]*$U$6,\"\")","v":""},{"$f":"IFERROR(Table3[[#This Row],[Average $ Raised per 1% of Time]]*$V$6,\"\")","v":""},{"$f":"IFERROR(Table3[[#This Row],[Average $ Raised per 1% of Time]]*$W$6,\"\")","v":""},{"$f":"IFERROR(Table3[[#This Row],[Average $ Raised per 1% of Time]]*$X$6,\"\")","v":""}]
[{"$f":"IF(Table5[Gift Officer Name]<>\"\",Table5[Gift Officer Name],\"\")","v":""},{"$f":"IFERROR(AVERAGE(Table5[[#This Row],[Total Dollars Raised in FY19]:[Total Dollars Raised in FY17]]),\"\")","v":""},{"$f":"IFERROR(AVERAGE(Table5[[#This Row],[Total Dollars Raised in FY19]:[Total Dollars Raised in FY17]])/Table5[[#This Row],[Estimated % of Time Spent on Fundraising]],\"\")","v":""},{"$f":"IFERROR(Table3[[#This Row],[Average $ Raised per 1% of Time]]*AVERAGEIF(Table5[Estimated % of Time Spent on Fundraising],\"<>\"\"\"),\"\")","v":""},{"$f":"IFERROR(Table3[[#This Row],[Average $ Raised per 1% of Time]]*$E$6,\"\")","v":""},{"$f":"IFERROR(Table3[[#This Row],[Average $ Raised per 1% of Time]]*$F$6,\"\")","v":""},{"$f":"IFERROR(Table3[[#This Row],[Average $ Raised per 1% of Time]]*$G$6,\"\")","v":""},{"$f":"IFERROR(Table3[[#This Row],[Average $ Raised per 1% of Time]]*$H$6,\"\")","v":""},{"$f":"IFERROR(Table3[[#This Row],[Average $ Raised per 1% of Time]]*$I$6,\"\")","v":""},{"$f":"IFERROR(Table3[[#This Row],[Average $ Raised per 1% of Time]]*$J$6,\"\")","v":""},{"$f":"IFERROR(Table3[[#This Row],[Average $ Raised per 1% of Time]]*$K$6,\"\")","v":""},{"$f":"IFERROR(Table3[[#This Row],[Average $ Raised per 1% of Time]]*$L$6,\"\")","v":""},{"$f":"IFERROR(Table3[[#This Row],[Average $ Raised per 1% of Time]]*$M$6,\"\")","v":""},{"$f":"IFERROR(Table3[[#This Row],[Average $ Raised per 1% of Time]]*$N$6,\"\")","v":""},{"$f":"IFERROR(Table3[[#This Row],[Average $ Raised per 1% of Time]]*$O$6,\"\")","v":""},{"$f":"IFERROR(Table3[[#This Row],[Average $ Raised per 1% of Time]]*$P$6,\"\")","v":""},{"$f":"IFERROR(Table3[[#This Row],[Average $ Raised per 1% of Time]]*$Q$6,\"\")","v":""},{"$f":"IFERROR(Table3[[#This Row],[Average $ Raised per 1% of Time]]*$R$6,\"\")","v":""},{"$f":"IFERROR(Table3[[#This Row],[Average $ Raised per 1% of Time]]*$S$6,\"\")","v":""},{"$f":"IFERROR(Table3[[#This Row],[Average $ Raised per 1% of Time]]*$T$6,\"\")","v":""},{"$f":"IFERROR(Table3[[#This Row],[Average $ Raised per 1% of Time]]*$U$6,\"\")","v":""},{"$f":"IFERROR(Table3[[#This Row],[Average $ Raised per 1% of Time]]*$V$6,\"\")","v":""},{"$f":"IFERROR(Table3[[#This Row],[Average $ Raised per 1% of Time]]*$W$6,\"\")","v":""},{"$f":"IFERROR(Table3[[#This Row],[Average $ Raised per 1% of Time]]*$X$6,\"\")","v":""}]
[{"$f":"IF(Table5[Gift Officer Name]<>\"\",Table5[Gift Officer Name],\"\")","v":""},{"$f":"IFERROR(AVERAGE(Table5[[#This Row],[Total Dollars Raised in FY19]:[Total Dollars Raised in FY17]]),\"\")","v":""},{"$f":"IFERROR(AVERAGE(Table5[[#This Row],[Total Dollars Raised in FY19]:[Total Dollars Raised in FY17]])/Table5[[#This Row],[Estimated % of Time Spent on Fundraising]],\"\")","v":""},{"$f":"IFERROR(Table3[[#This Row],[Average $ Raised per 1% of Time]]*AVERAGEIF(Table5[Estimated % of Time Spent on Fundraising],\"<>\"\"\"),\"\")","v":""},{"$f":"IFERROR(Table3[[#This Row],[Average $ Raised per 1% of Time]]*$E$6,\"\")","v":""},{"$f":"IFERROR(Table3[[#This Row],[Average $ Raised per 1% of Time]]*$F$6,\"\")","v":""},{"$f":"IFERROR(Table3[[#This Row],[Average $ Raised per 1% of Time]]*$G$6,\"\")","v":""},{"$f":"IFERROR(Table3[[#This Row],[Average $ Raised per 1% of Time]]*$H$6,\"\")","v":""},{"$f":"IFERROR(Table3[[#This Row],[Average $ Raised per 1% of Time]]*$I$6,\"\")","v":""},{"$f":"IFERROR(Table3[[#This Row],[Average $ Raised per 1% of Time]]*$J$6,\"\")","v":""},{"$f":"IFERROR(Table3[[#This Row],[Average $ Raised per 1% of Time]]*$K$6,\"\")","v":""},{"$f":"IFERROR(Table3[[#This Row],[Average $ Raised per 1% of Time]]*$L$6,\"\")","v":""},{"$f":"IFERROR(Table3[[#This Row],[Average $ Raised per 1% of Time]]*$M$6,\"\")","v":""},{"$f":"IFERROR(Table3[[#This Row],[Average $ Raised per 1% of Time]]*$N$6,\"\")","v":""},{"$f":"IFERROR(Table3[[#This Row],[Average $ Raised per 1% of Time]]*$O$6,\"\")","v":""},{"$f":"IFERROR(Table3[[#This Row],[Average $ Raised per 1% of Time]]*$P$6,\"\")","v":""},{"$f":"IFERROR(Table3[[#This Row],[Average $ Raised per 1% of Time]]*$Q$6,\"\")","v":""},{"$f":"IFERROR(Table3[[#This Row],[Average $ Raised per 1% of Time]]*$R$6,\"\")","v":""},{"$f":"IFERROR(Table3[[#This Row],[Average $ Raised per 1% of Time]]*$S$6,\"\")","v":""},{"$f":"IFERROR(Table3[[#This Row],[Average $ Raised per 1% of Time]]*$T$6,\"\")","v":""},{"$f":"IFERROR(Table3[[#This Row],[Average $ Raised per 1% of Time]]*$U$6,\"\")","v":""},{"$f":"IFERROR(Table3[[#This Row],[Average $ Raised per 1% of Time]]*$V$6,\"\")","v":""},{"$f":"IFERROR(Table3[[#This Row],[Average $ Raised per 1% of Time]]*$W$6,\"\")","v":""},{"$f":"IFERROR(Table3[[#This Row],[Average $ Raised per 1% of Time]]*$X$6,\"\")","v":""}]
[{"$f":"IF(Table5[Gift Officer Name]<>\"\",Table5[Gift Officer Name],\"\")","v":""},{"$f":"IFERROR(AVERAGE(Table5[[#This Row],[Total Dollars Raised in FY19]:[Total Dollars Raised in FY17]]),\"\")","v":""},{"$f":"IFERROR(AVERAGE(Table5[[#This Row],[Total Dollars Raised in FY19]:[Total Dollars Raised in FY17]])/Table5[[#This Row],[Estimated % of Time Spent on Fundraising]],\"\")","v":""},{"$f":"IFERROR(Table3[[#This Row],[Average $ Raised per 1% of Time]]*AVERAGEIF(Table5[Estimated % of Time Spent on Fundraising],\"<>\"\"\"),\"\")","v":""},{"$f":"IFERROR(Table3[[#This Row],[Average $ Raised per 1% of Time]]*$E$6,\"\")","v":""},{"$f":"IFERROR(Table3[[#This Row],[Average $ Raised per 1% of Time]]*$F$6,\"\")","v":""},{"$f":"IFERROR(Table3[[#This Row],[Average $ Raised per 1% of Time]]*$G$6,\"\")","v":""},{"$f":"IFERROR(Table3[[#This Row],[Average $ Raised per 1% of Time]]*$H$6,\"\")","v":""},{"$f":"IFERROR(Table3[[#This Row],[Average $ Raised per 1% of Time]]*$I$6,\"\")","v":""},{"$f":"IFERROR(Table3[[#This Row],[Average $ Raised per 1% of Time]]*$J$6,\"\")","v":""},{"$f":"IFERROR(Table3[[#This Row],[Average $ Raised per 1% of Time]]*$K$6,\"\")","v":""},{"$f":"IFERROR(Table3[[#This Row],[Average $ Raised per 1% of Time]]*$L$6,\"\")","v":""},{"$f":"IFERROR(Table3[[#This Row],[Average $ Raised per 1% of Time]]*$M$6,\"\")","v":""},{"$f":"IFERROR(Table3[[#This Row],[Average $ Raised per 1% of Time]]*$N$6,\"\")","v":""},{"$f":"IFERROR(Table3[[#This Row],[Average $ Raised per 1% of Time]]*$O$6,\"\")","v":""},{"$f":"IFERROR(Table3[[#This Row],[Average $ Raised per 1% of Time]]*$P$6,\"\")","v":""},{"$f":"IFERROR(Table3[[#This Row],[Average $ Raised per 1% of Time]]*$Q$6,\"\")","v":""},{"$f":"IFERROR(Table3[[#This Row],[Average $ Raised per 1% of Time]]*$R$6,\"\")","v":""},{"$f":"IFERROR(Table3[[#This Row],[Average $ Raised per 1% of Time]]*$S$6,\"\")","v":""},{"$f":"IFERROR(Table3[[#This Row],[Average $ Raised per 1% of Time]]*$T$6,\"\")","v":""},{"$f":"IFERROR(Table3[[#This Row],[Average $ Raised per 1% of Time]]*$U$6,\"\")","v":""},{"$f":"IFERROR(Table3[[#This Row],[Average $ Raised per 1% of Time]]*$V$6,\"\")","v":""},{"$f":"IFERROR(Table3[[#This Row],[Average $ Raised per 1% of Time]]*$W$6,\"\")","v":""},{"$f":"IFERROR(Table3[[#This Row],[Average $ Raised per 1% of Time]]*$X$6,\"\")","v":""}]
[{"$f":"IF(Table5[Gift Officer Name]<>\"\",Table5[Gift Officer Name],\"\")","v":""},{"$f":"IFERROR(AVERAGE(Table5[[#This Row],[Total Dollars Raised in FY19]:[Total Dollars Raised in FY17]]),\"\")","v":""},{"$f":"IFERROR(AVERAGE(Table5[[#This Row],[Total Dollars Raised in FY19]:[Total Dollars Raised in FY17]])/Table5[[#This Row],[Estimated % of Time Spent on Fundraising]],\"\")","v":""},{"$f":"IFERROR(Table3[[#This Row],[Average $ Raised per 1% of Time]]*AVERAGEIF(Table5[Estimated % of Time Spent on Fundraising],\"<>\"\"\"),\"\")","v":""},{"$f":"IFERROR(Table3[[#This Row],[Average $ Raised per 1% of Time]]*$E$6,\"\")","v":""},{"$f":"IFERROR(Table3[[#This Row],[Average $ Raised per 1% of Time]]*$F$6,\"\")","v":""},{"$f":"IFERROR(Table3[[#This Row],[Average $ Raised per 1% of Time]]*$G$6,\"\")","v":""},{"$f":"IFERROR(Table3[[#This Row],[Average $ Raised per 1% of Time]]*$H$6,\"\")","v":""},{"$f":"IFERROR(Table3[[#This Row],[Average $ Raised per 1% of Time]]*$I$6,\"\")","v":""},{"$f":"IFERROR(Table3[[#This Row],[Average $ Raised per 1% of Time]]*$J$6,\"\")","v":""},{"$f":"IFERROR(Table3[[#This Row],[Average $ Raised per 1% of Time]]*$K$6,\"\")","v":""},{"$f":"IFERROR(Table3[[#This Row],[Average $ Raised per 1% of Time]]*$L$6,\"\")","v":""},{"$f":"IFERROR(Table3[[#This Row],[Average $ Raised per 1% of Time]]*$M$6,\"\")","v":""},{"$f":"IFERROR(Table3[[#This Row],[Average $ Raised per 1% of Time]]*$N$6,\"\")","v":""},{"$f":"IFERROR(Table3[[#This Row],[Average $ Raised per 1% of Time]]*$O$6,\"\")","v":""},{"$f":"IFERROR(Table3[[#This Row],[Average $ Raised per 1% of Time]]*$P$6,\"\")","v":""},{"$f":"IFERROR(Table3[[#This Row],[Average $ Raised per 1% of Time]]*$Q$6,\"\")","v":""},{"$f":"IFERROR(Table3[[#This Row],[Average $ Raised per 1% of Time]]*$R$6,\"\")","v":""},{"$f":"IFERROR(Table3[[#This Row],[Average $ Raised per 1% of Time]]*$S$6,\"\")","v":""},{"$f":"IFERROR(Table3[[#This Row],[Average $ Raised per 1% of Time]]*$T$6,\"\")","v":""},{"$f":"IFERROR(Table3[[#This Row],[Average $ Raised per 1% of Time]]*$U$6,\"\")","v":""},{"$f":"IFERROR(Table3[[#This Row],[Average $ Raised per 1% of Time]]*$V$6,\"\")","v":""},{"$f":"IFERROR(Table3[[#This Row],[Average $ Raised per 1% of Time]]*$W$6,\"\")","v":""},{"$f":"IFERROR(Table3[[#This Row],[Average $ Raised per 1% of Time]]*$X$6,\"\")","v":""}]
[{"$f":"IF(Table5[Gift Officer Name]<>\"\",Table5[Gift Officer Name],\"\")","v":""},{"$f":"IFERROR(AVERAGE(Table5[[#This Row],[Total Dollars Raised in FY19]:[Total Dollars Raised in FY17]]),\"\")","v":""},{"$f":"IFERROR(AVERAGE(Table5[[#This Row],[Total Dollars Raised in FY19]:[Total Dollars Raised in FY17]])/Table5[[#This Row],[Estimated % of Time Spent on Fundraising]],\"\")","v":""},{"$f":"IFERROR(Table3[[#This Row],[Average $ Raised per 1% of Time]]*AVERAGEIF(Table5[Estimated % of Time Spent on Fundraising],\"<>\"\"\"),\"\")","v":""},{"$f":"IFERROR(Table3[[#This Row],[Average $ Raised per 1% of Time]]*$E$6,\"\")","v":""},{"$f":"IFERROR(Table3[[#This Row],[Average $ Raised per 1% of Time]]*$F$6,\"\")","v":""},{"$f":"IFERROR(Table3[[#This Row],[Average $ Raised per 1% of Time]]*$G$6,\"\")","v":""},{"$f":"IFERROR(Table3[[#This Row],[Average $ Raised per 1% of Time]]*$H$6,\"\")","v":""},{"$f":"IFERROR(Table3[[#This Row],[Average $ Raised per 1% of Time]]*$I$6,\"\")","v":""},{"$f":"IFERROR(Table3[[#This Row],[Average $ Raised per 1% of Time]]*$J$6,\"\")","v":""},{"$f":"IFERROR(Table3[[#This Row],[Average $ Raised per 1% of Time]]*$K$6,\"\")","v":""},{"$f":"IFERROR(Table3[[#This Row],[Average $ Raised per 1% of Time]]*$L$6,\"\")","v":""},{"$f":"IFERROR(Table3[[#This Row],[Average $ Raised per 1% of Time]]*$M$6,\"\")","v":""},{"$f":"IFERROR(Table3[[#This Row],[Average $ Raised per 1% of Time]]*$N$6,\"\")","v":""},{"$f":"IFERROR(Table3[[#This Row],[Average $ Raised per 1% of Time]]*$O$6,\"\")","v":""},{"$f":"IFERROR(Table3[[#This Row],[Average $ Raised per 1% of Time]]*$P$6,\"\")","v":""},{"$f":"IFERROR(Table3[[#This Row],[Average $ Raised per 1% of Time]]*$Q$6,\"\")","v":""},{"$f":"IFERROR(Table3[[#This Row],[Average $ Raised per 1% of Time]]*$R$6,\"\")","v":""},{"$f":"IFERROR(Table3[[#This Row],[Average $ Raised per 1% of Time]]*$S$6,\"\")","v":""},{"$f":"IFERROR(Table3[[#This Row],[Average $ Raised per 1% of Time]]*$T$6,\"\")","v":""},{"$f":"IFERROR(Table3[[#This Row],[Average $ Raised per 1% of Time]]*$U$6,\"\")","v":""},{"$f":"IFERROR(Table3[[#This Row],[Average $ Raised per 1% of Time]]*$V$6,\"\")","v":""},{"$f":"IFERROR(Table3[[#This Row],[Average $ Raised per 1% of Time]]*$W$6,\"\")","v":""},{"$f":"IFERROR(Table3[[#This Row],[Average $ Raised per 1% of Time]]*$X$6,\"\")","v":""}]
[{"$f":"IF(Table5[Gift Officer Name]<>\"\",Table5[Gift Officer Name],\"\")","v":""},{"$f":"IFERROR(AVERAGE(Table5[[#This Row],[Total Dollars Raised in FY19]:[Total Dollars Raised in FY17]]),\"\")","v":""},{"$f":"IFERROR(AVERAGE(Table5[[#This Row],[Total Dollars Raised in FY19]:[Total Dollars Raised in FY17]])/Table5[[#This Row],[Estimated % of Time Spent on Fundraising]],\"\")","v":""},{"$f":"IFERROR(Table3[[#This Row],[Average $ Raised per 1% of Time]]*AVERAGEIF(Table5[Estimated % of Time Spent on Fundraising],\"<>\"\"\"),\"\")","v":""},{"$f":"IFERROR(Table3[[#This Row],[Average $ Raised per 1% of Time]]*$E$6,\"\")","v":""},{"$f":"IFERROR(Table3[[#This Row],[Average $ Raised per 1% of Time]]*$F$6,\"\")","v":""},{"$f":"IFERROR(Table3[[#This Row],[Average $ Raised per 1% of Time]]*$G$6,\"\")","v":""},{"$f":"IFERROR(Table3[[#This Row],[Average $ Raised per 1% of Time]]*$H$6,\"\")","v":""},{"$f":"IFERROR(Table3[[#This Row],[Average $ Raised per 1% of Time]]*$I$6,\"\")","v":""},{"$f":"IFERROR(Table3[[#This Row],[Average $ Raised per 1% of Time]]*$J$6,\"\")","v":""},{"$f":"IFERROR(Table3[[#This Row],[Average $ Raised per 1% of Time]]*$K$6,\"\")","v":""},{"$f":"IFERROR(Table3[[#This Row],[Average $ Raised per 1% of Time]]*$L$6,\"\")","v":""},{"$f":"IFERROR(Table3[[#This Row],[Average $ Raised per 1% of Time]]*$M$6,\"\")","v":""},{"$f":"IFERROR(Table3[[#This Row],[Average $ Raised per 1% of Time]]*$N$6,\"\")","v":""},{"$f":"IFERROR(Table3[[#This Row],[Average $ Raised per 1% of Time]]*$O$6,\"\")","v":""},{"$f":"IFERROR(Table3[[#This Row],[Average $ Raised per 1% of Time]]*$P$6,\"\")","v":""},{"$f":"IFERROR(Table3[[#This Row],[Average $ Raised per 1% of Time]]*$Q$6,\"\")","v":""},{"$f":"IFERROR(Table3[[#This Row],[Average $ Raised per 1% of Time]]*$R$6,\"\")","v":""},{"$f":"IFERROR(Table3[[#This Row],[Average $ Raised per 1% of Time]]*$S$6,\"\")","v":""},{"$f":"IFERROR(Table3[[#This Row],[Average $ Raised per 1% of Time]]*$T$6,\"\")","v":""},{"$f":"IFERROR(Table3[[#This Row],[Average $ Raised per 1% of Time]]*$U$6,\"\")","v":""},{"$f":"IFERROR(Table3[[#This Row],[Average $ Raised per 1% of Time]]*$V$6,\"\")","v":""},{"$f":"IFERROR(Table3[[#This Row],[Average $ Raised per 1% of Time]]*$W$6,\"\")","v":""},{"$f":"IFERROR(Table3[[#This Row],[Average $ Raised per 1% of Time]]*$X$6,\"\")","v":""}]
[{"$f":"IF(Table5[Gift Officer Name]<>\"\",Table5[Gift Officer Name],\"\")","v":""},{"$f":"IFERROR(AVERAGE(Table5[[#This Row],[Total Dollars Raised in FY19]:[Total Dollars Raised in FY17]]),\"\")","v":""},{"$f":"IFERROR(AVERAGE(Table5[[#This Row],[Total Dollars Raised in FY19]:[Total Dollars Raised in FY17]])/Table5[[#This Row],[Estimated % of Time Spent on Fundraising]],\"\")","v":""},{"$f":"IFERROR(Table3[[#This Row],[Average $ Raised per 1% of Time]]*AVERAGEIF(Table5[Estimated % of Time Spent on Fundraising],\"<>\"\"\"),\"\")","v":""},{"$f":"IFERROR(Table3[[#This Row],[Average $ Raised per 1% of Time]]*$E$6,\"\")","v":""},{"$f":"IFERROR(Table3[[#This Row],[Average $ Raised per 1% of Time]]*$F$6,\"\")","v":""},{"$f":"IFERROR(Table3[[#This Row],[Average $ Raised per 1% of Time]]*$G$6,\"\")","v":""},{"$f":"IFERROR(Table3[[#This Row],[Average $ Raised per 1% of Time]]*$H$6,\"\")","v":""},{"$f":"IFERROR(Table3[[#This Row],[Average $ Raised per 1% of Time]]*$I$6,\"\")","v":""},{"$f":"IFERROR(Table3[[#This Row],[Average $ Raised per 1% of Time]]*$J$6,\"\")","v":""},{"$f":"IFERROR(Table3[[#This Row],[Average $ Raised per 1% of Time]]*$K$6,\"\")","v":""},{"$f":"IFERROR(Table3[[#This Row],[Average $ Raised per 1% of Time]]*$L$6,\"\")","v":""},{"$f":"IFERROR(Table3[[#This Row],[Average $ Raised per 1% of Time]]*$M$6,\"\")","v":""},{"$f":"IFERROR(Table3[[#This Row],[Average $ Raised per 1% of Time]]*$N$6,\"\")","v":""},{"$f":"IFERROR(Table3[[#This Row],[Average $ Raised per 1% of Time]]*$O$6,\"\")","v":""},{"$f":"IFERROR(Table3[[#This Row],[Average $ Raised per 1% of Time]]*$P$6,\"\")","v":""},{"$f":"IFERROR(Table3[[#This Row],[Average $ Raised per 1% of Time]]*$Q$6,\"\")","v":""},{"$f":"IFERROR(Table3[[#This Row],[Average $ Raised per 1% of Time]]*$R$6,\"\")","v":""},{"$f":"IFERROR(Table3[[#This Row],[Average $ Raised per 1% of Time]]*$S$6,\"\")","v":""},{"$f":"IFERROR(Table3[[#This Row],[Average $ Raised per 1% of Time]]*$T$6,\"\")","v":""},{"$f":"IFERROR(Table3[[#This Row],[Average $ Raised per 1% of Time]]*$U$6,\"\")","v":""},{"$f":"IFERROR(Table3[[#This Row],[Average $ Raised per 1% of Time]]*$V$6,\"\")","v":""},{"$f":"IFERROR(Table3[[#This Row],[Average $ Raised per 1% of Time]]*$W$6,\"\")","v":""},{"$f":"IFERROR(Table3[[#This Row],[Average $ Raised per 1% of Time]]*$X$6,\"\")","v":""}]
[{"$f":"IF(Table5[Gift Officer Name]<>\"\",Table5[Gift Officer Name],\"\")","v":""},{"$f":"IFERROR(AVERAGE(Table5[[#This Row],[Total Dollars Raised in FY19]:[Total Dollars Raised in FY17]]),\"\")","v":""},{"$f":"IFERROR(AVERAGE(Table5[[#This Row],[Total Dollars Raised in FY19]:[Total Dollars Raised in FY17]])/Table5[[#This Row],[Estimated % of Time Spent on Fundraising]],\"\")","v":""},{"$f":"IFERROR(Table3[[#This Row],[Average $ Raised per 1% of Time]]*AVERAGEIF(Table5[Estimated % of Time Spent on Fundraising],\"<>\"\"\"),\"\")","v":""},{"$f":"IFERROR(Table3[[#This Row],[Average $ Raised per 1% of Time]]*$E$6,\"\")","v":""},{"$f":"IFERROR(Table3[[#This Row],[Average $ Raised per 1% of Time]]*$F$6,\"\")","v":""},{"$f":"IFERROR(Table3[[#This Row],[Average $ Raised per 1% of Time]]*$G$6,\"\")","v":""},{"$f":"IFERROR(Table3[[#This Row],[Average $ Raised per 1% of Time]]*$H$6,\"\")","v":""},{"$f":"IFERROR(Table3[[#This Row],[Average $ Raised per 1% of Time]]*$I$6,\"\")","v":""},{"$f":"IFERROR(Table3[[#This Row],[Average $ Raised per 1% of Time]]*$J$6,\"\")","v":""},{"$f":"IFERROR(Table3[[#This Row],[Average $ Raised per 1% of Time]]*$K$6,\"\")","v":""},{"$f":"IFERROR(Table3[[#This Row],[Average $ Raised per 1% of Time]]*$L$6,\"\")","v":""},{"$f":"IFERROR(Table3[[#This Row],[Average $ Raised per 1% of Time]]*$M$6,\"\")","v":""},{"$f":"IFERROR(Table3[[#This Row],[Average $ Raised per 1% of Time]]*$N$6,\"\")","v":""},{"$f":"IFERROR(Table3[[#This Row],[Average $ Raised per 1% of Time]]*$O$6,\"\")","v":""},{"$f":"IFERROR(Table3[[#This Row],[Average $ Raised per 1% of Time]]*$P$6,\"\")","v":""},{"$f":"IFERROR(Table3[[#This Row],[Average $ Raised per 1% of Time]]*$Q$6,\"\")","v":""},{"$f":"IFERROR(Table3[[#This Row],[Average $ Raised per 1% of Time]]*$R$6,\"\")","v":""},{"$f":"IFERROR(Table3[[#This Row],[Average $ Raised per 1% of Time]]*$S$6,\"\")","v":""},{"$f":"IFERROR(Table3[[#This Row],[Average $ Raised per 1% of Time]]*$T$6,\"\")","v":""},{"$f":"IFERROR(Table3[[#This Row],[Average $ Raised per 1% of Time]]*$U$6,\"\")","v":""},{"$f":"IFERROR(Table3[[#This Row],[Average $ Raised per 1% of Time]]*$V$6,\"\")","v":""},{"$f":"IFERROR(Table3[[#This Row],[Average $ Raised per 1% of Time]]*$W$6,\"\")","v":""},{"$f":"IFERROR(Table3[[#This Row],[Average $ Raised per 1% of Time]]*$X$6,\"\")","v":""}]
[{"$f":"IF(Table5[Gift Officer Name]<>\"\",Table5[Gift Officer Name],\"\")","v":""},{"$f":"IFERROR(AVERAGE(Table5[[#This Row],[Total Dollars Raised in FY19]:[Total Dollars Raised in FY17]]),\"\")","v":""},{"$f":"IFERROR(AVERAGE(Table5[[#This Row],[Total Dollars Raised in FY19]:[Total Dollars Raised in FY17]])/Table5[[#This Row],[Estimated % of Time Spent on Fundraising]],\"\")","v":""},{"$f":"IFERROR(Table3[[#This Row],[Average $ Raised per 1% of Time]]*AVERAGEIF(Table5[Estimated % of Time Spent on Fundraising],\"<>\"\"\"),\"\")","v":""},{"$f":"IFERROR(Table3[[#This Row],[Average $ Raised per 1% of Time]]*$E$6,\"\")","v":""},{"$f":"IFERROR(Table3[[#This Row],[Average $ Raised per 1% of Time]]*$F$6,\"\")","v":""},{"$f":"IFERROR(Table3[[#This Row],[Average $ Raised per 1% of Time]]*$G$6,\"\")","v":""},{"$f":"IFERROR(Table3[[#This Row],[Average $ Raised per 1% of Time]]*$H$6,\"\")","v":""},{"$f":"IFERROR(Table3[[#This Row],[Average $ Raised per 1% of Time]]*$I$6,\"\")","v":""},{"$f":"IFERROR(Table3[[#This Row],[Average $ Raised per 1% of Time]]*$J$6,\"\")","v":""},{"$f":"IFERROR(Table3[[#This Row],[Average $ Raised per 1% of Time]]*$K$6,\"\")","v":""},{"$f":"IFERROR(Table3[[#This Row],[Average $ Raised per 1% of Time]]*$L$6,\"\")","v":""},{"$f":"IFERROR(Table3[[#This Row],[Average $ Raised per 1% of Time]]*$M$6,\"\")","v":""},{"$f":"IFERROR(Table3[[#This Row],[Average $ Raised per 1% of Time]]*$N$6,\"\")","v":""},{"$f":"IFERROR(Table3[[#This Row],[Average $ Raised per 1% of Time]]*$O$6,\"\")","v":""},{"$f":"IFERROR(Table3[[#This Row],[Average $ Raised per 1% of Time]]*$P$6,\"\")","v":""},{"$f":"IFERROR(Table3[[#This Row],[Average $ Raised per 1% of Time]]*$Q$6,\"\")","v":""},{"$f":"IFERROR(Table3[[#This Row],[Average $ Raised per 1% of Time]]*$R$6,\"\")","v":""},{"$f":"IFERROR(Table3[[#This Row],[Average $ Raised per 1% of Time]]*$S$6,\"\")","v":""},{"$f":"IFERROR(Table3[[#This Row],[Average $ Raised per 1% of Time]]*$T$6,\"\")","v":""},{"$f":"IFERROR(Table3[[#This Row],[Average $ Raised per 1% of Time]]*$U$6,\"\")","v":""},{"$f":"IFERROR(Table3[[#This Row],[Average $ Raised per 1% of Time]]*$V$6,\"\")","v":""},{"$f":"IFERROR(Table3[[#This Row],[Average $ Raised per 1% of Time]]*$W$6,\"\")","v":""},{"$f":"IFERROR(Table3[[#This Row],[Average $ Raised per 1% of Time]]*$X$6,\"\")","v":""}]
[{"$f":"IF(Table5[Gift Officer Name]<>\"\",Table5[Gift Officer Name],\"\")","v":""},{"$f":"IFERROR(AVERAGE(Table5[[#This Row],[Total Dollars Raised in FY19]:[Total Dollars Raised in FY17]]),\"\")","v":""},{"$f":"IFERROR(AVERAGE(Table5[[#This Row],[Total Dollars Raised in FY19]:[Total Dollars Raised in FY17]])/Table5[[#This Row],[Estimated % of Time Spent on Fundraising]],\"\")","v":""},{"$f":"IFERROR(Table3[[#This Row],[Average $ Raised per 1% of Time]]*AVERAGEIF(Table5[Estimated % of Time Spent on Fundraising],\"<>\"\"\"),\"\")","v":""},{"$f":"IFERROR(Table3[[#This Row],[Average $ Raised per 1% of Time]]*$E$6,\"\")","v":""},{"$f":"IFERROR(Table3[[#This Row],[Average $ Raised per 1% of Time]]*$F$6,\"\")","v":""},{"$f":"IFERROR(Table3[[#This Row],[Average $ Raised per 1% of Time]]*$G$6,\"\")","v":""},{"$f":"IFERROR(Table3[[#This Row],[Average $ Raised per 1% of Time]]*$H$6,\"\")","v":""},{"$f":"IFERROR(Table3[[#This Row],[Average $ Raised per 1% of Time]]*$I$6,\"\")","v":""},{"$f":"IFERROR(Table3[[#This Row],[Average $ Raised per 1% of Time]]*$J$6,\"\")","v":""},{"$f":"IFERROR(Table3[[#This Row],[Average $ Raised per 1% of Time]]*$K$6,\"\")","v":""},{"$f":"IFERROR(Table3[[#This Row],[Average $ Raised per 1% of Time]]*$L$6,\"\")","v":""},{"$f":"IFERROR(Table3[[#This Row],[Average $ Raised per 1% of Time]]*$M$6,\"\")","v":""},{"$f":"IFERROR(Table3[[#This Row],[Average $ Raised per 1% of Time]]*$N$6,\"\")","v":""},{"$f":"IFERROR(Table3[[#This Row],[Average $ Raised per 1% of Time]]*$O$6,\"\")","v":""},{"$f":"IFERROR(Table3[[#This Row],[Average $ Raised per 1% of Time]]*$P$6,\"\")","v":""},{"$f":"IFERROR(Table3[[#This Row],[Average $ Raised per 1% of Time]]*$Q$6,\"\")","v":""},{"$f":"IFERROR(Table3[[#This Row],[Average $ Raised per 1% of Time]]*$R$6,\"\")","v":""},{"$f":"IFERROR(Table3[[#This Row],[Average $ Raised per 1% of Time]]*$S$6,\"\")","v":""},{"$f":"IFERROR(Table3[[#This Row],[Average $ Raised per 1% of Time]]*$T$6,\"\")","v":""},{"$f":"IFERROR(Table3[[#This Row],[Average $ Raised per 1% of Time]]*$U$6,\"\")","v":""},{"$f":"IFERROR(Table3[[#This Row],[Average $ Raised per 1% of Time]]*$V$6,\"\")","v":""},{"$f":"IFERROR(Table3[[#This Row],[Average $ Raised per 1% of Time]]*$W$6,\"\")","v":""},{"$f":"IFERROR(Table3[[#This Row],[Average $ Raised per 1% of Time]]*$X$6,\"\")","v":""}]
[{"$f":"IF(Table5[Gift Officer Name]<>\"\",Table5[Gift Officer Name],\"\")","v":""},{"$f":"IFERROR(AVERAGE(Table5[[#This Row],[Total Dollars Raised in FY19]:[Total Dollars Raised in FY17]]),\"\")","v":""},{"$f":"IFERROR(AVERAGE(Table5[[#This Row],[Total Dollars Raised in FY19]:[Total Dollars Raised in FY17]])/Table5[[#This Row],[Estimated % of Time Spent on Fundraising]],\"\")","v":""},{"$f":"IFERROR(Table3[[#This Row],[Average $ Raised per 1% of Time]]*AVERAGEIF(Table5[Estimated % of Time Spent on Fundraising],\"<>\"\"\"),\"\")","v":""},{"$f":"IFERROR(Table3[[#This Row],[Average $ Raised per 1% of Time]]*$E$6,\"\")","v":""},{"$f":"IFERROR(Table3[[#This Row],[Average $ Raised per 1% of Time]]*$F$6,\"\")","v":""},{"$f":"IFERROR(Table3[[#This Row],[Average $ Raised per 1% of Time]]*$G$6,\"\")","v":""},{"$f":"IFERROR(Table3[[#This Row],[Average $ Raised per 1% of Time]]*$H$6,\"\")","v":""},{"$f":"IFERROR(Table3[[#This Row],[Average $ Raised per 1% of Time]]*$I$6,\"\")","v":""},{"$f":"IFERROR(Table3[[#This Row],[Average $ Raised per 1% of Time]]*$J$6,\"\")","v":""},{"$f":"IFERROR(Table3[[#This Row],[Average $ Raised per 1% of Time]]*$K$6,\"\")","v":""},{"$f":"IFERROR(Table3[[#This Row],[Average $ Raised per 1% of Time]]*$L$6,\"\")","v":""},{"$f":"IFERROR(Table3[[#This Row],[Average $ Raised per 1% of Time]]*$M$6,\"\")","v":""},{"$f":"IFERROR(Table3[[#This Row],[Average $ Raised per 1% of Time]]*$N$6,\"\")","v":""},{"$f":"IFERROR(Table3[[#This Row],[Average $ Raised per 1% of Time]]*$O$6,\"\")","v":""},{"$f":"IFERROR(Table3[[#This Row],[Average $ Raised per 1% of Time]]*$P$6,\"\")","v":""},{"$f":"IFERROR(Table3[[#This Row],[Average $ Raised per 1% of Time]]*$Q$6,\"\")","v":""},{"$f":"IFERROR(Table3[[#This Row],[Average $ Raised per 1% of Time]]*$R$6,\"\")","v":""},{"$f":"IFERROR(Table3[[#This Row],[Average $ Raised per 1% of Time]]*$S$6,\"\")","v":""},{"$f":"IFERROR(Table3[[#This Row],[Average $ Raised per 1% of Time]]*$T$6,\"\")","v":""},{"$f":"IFERROR(Table3[[#This Row],[Average $ Raised per 1% of Time]]*$U$6,\"\")","v":""},{"$f":"IFERROR(Table3[[#This Row],[Average $ Raised per 1% of Time]]*$V$6,\"\")","v":""},{"$f":"IFERROR(Table3[[#This Row],[Average $ Raised per 1% of Time]]*$W$6,\"\")","v":""},{"$f":"IFERROR(Table3[[#This Row],[Average $ Raised per 1% of Time]]*$X$6,\"\")","v":""}]
[{"$f":"IF(Table5[Gift Officer Name]<>\"\",Table5[Gift Officer Name],\"\")","v":""},{"$f":"IFERROR(AVERAGE(Table5[[#This Row],[Total Dollars Raised in FY19]:[Total Dollars Raised in FY17]]),\"\")","v":""},{"$f":"IFERROR(AVERAGE(Table5[[#This Row],[Total Dollars Raised in FY19]:[Total Dollars Raised in FY17]])/Table5[[#This Row],[Estimated % of Time Spent on Fundraising]],\"\")","v":""},{"$f":"IFERROR(Table3[[#This Row],[Average $ Raised per 1% of Time]]*AVERAGEIF(Table5[Estimated % of Time Spent on Fundraising],\"<>\"\"\"),\"\")","v":""},{"$f":"IFERROR(Table3[[#This Row],[Average $ Raised per 1% of Time]]*$E$6,\"\")","v":""},{"$f":"IFERROR(Table3[[#This Row],[Average $ Raised per 1% of Time]]*$F$6,\"\")","v":""},{"$f":"IFERROR(Table3[[#This Row],[Average $ Raised per 1% of Time]]*$G$6,\"\")","v":""},{"$f":"IFERROR(Table3[[#This Row],[Average $ Raised per 1% of Time]]*$H$6,\"\")","v":""},{"$f":"IFERROR(Table3[[#This Row],[Average $ Raised per 1% of Time]]*$I$6,\"\")","v":""},{"$f":"IFERROR(Table3[[#This Row],[Average $ Raised per 1% of Time]]*$J$6,\"\")","v":""},{"$f":"IFERROR(Table3[[#This Row],[Average $ Raised per 1% of Time]]*$K$6,\"\")","v":""},{"$f":"IFERROR(Table3[[#This Row],[Average $ Raised per 1% of Time]]*$L$6,\"\")","v":""},{"$f":"IFERROR(Table3[[#This Row],[Average $ Raised per 1% of Time]]*$M$6,\"\")","v":""},{"$f":"IFERROR(Table3[[#This Row],[Average $ Raised per 1% of Time]]*$N$6,\"\")","v":""},{"$f":"IFERROR(Table3[[#This Row],[Average $ Raised per 1% of Time]]*$O$6,\"\")","v":""},{"$f":"IFERROR(Table3[[#This Row],[Average $ Raised per 1% of Time]]*$P$6,\"\")","v":""},{"$f":"IFERROR(Table3[[#This Row],[Average $ Raised per 1% of Time]]*$Q$6,\"\")","v":""},{"$f":"IFERROR(Table3[[#This Row],[Average $ Raised per 1% of Time]]*$R$6,\"\")","v":""},{"$f":"IFERROR(Table3[[#This Row],[Average $ Raised per 1% of Time]]*$S$6,\"\")","v":""},{"$f":"IFERROR(Table3[[#This Row],[Average $ Raised per 1% of Time]]*$T$6,\"\")","v":""},{"$f":"IFERROR(Table3[[#This Row],[Average $ Raised per 1% of Time]]*$U$6,\"\")","v":""},{"$f":"IFERROR(Table3[[#This Row],[Average $ Raised per 1% of Time]]*$V$6,\"\")","v":""},{"$f":"IFERROR(Table3[[#This Row],[Average $ Raised per 1% of Time]]*$W$6,\"\")","v":""},{"$f":"IFERROR(Table3[[#This Row],[Average $ Raised per 1% of Time]]*$X$6,\"\")","v":""}]
[{"$f":"IF(Table5[Gift Officer Name]<>\"\",Table5[Gift Officer Name],\"\")","v":""},{"$f":"IFERROR(AVERAGE(Table5[[#This Row],[Total Dollars Raised in FY19]:[Total Dollars Raised in FY17]]),\"\")","v":""},{"$f":"IFERROR(AVERAGE(Table5[[#This Row],[Total Dollars Raised in FY19]:[Total Dollars Raised in FY17]])/Table5[[#This Row],[Estimated % of Time Spent on Fundraising]],\"\")","v":""},{"$f":"IFERROR(Table3[[#This Row],[Average $ Raised per 1% of Time]]*AVERAGEIF(Table5[Estimated % of Time Spent on Fundraising],\"<>\"\"\"),\"\")","v":""},{"$f":"IFERROR(Table3[[#This Row],[Average $ Raised per 1% of Time]]*$E$6,\"\")","v":""},{"$f":"IFERROR(Table3[[#This Row],[Average $ Raised per 1% of Time]]*$F$6,\"\")","v":""},{"$f":"IFERROR(Table3[[#This Row],[Average $ Raised per 1% of Time]]*$G$6,\"\")","v":""},{"$f":"IFERROR(Table3[[#This Row],[Average $ Raised per 1% of Time]]*$H$6,\"\")","v":""},{"$f":"IFERROR(Table3[[#This Row],[Average $ Raised per 1% of Time]]*$I$6,\"\")","v":""},{"$f":"IFERROR(Table3[[#This Row],[Average $ Raised per 1% of Time]]*$J$6,\"\")","v":""},{"$f":"IFERROR(Table3[[#This Row],[Average $ Raised per 1% of Time]]*$K$6,\"\")","v":""},{"$f":"IFERROR(Table3[[#This Row],[Average $ Raised per 1% of Time]]*$L$6,\"\")","v":""},{"$f":"IFERROR(Table3[[#This Row],[Average $ Raised per 1% of Time]]*$M$6,\"\")","v":""},{"$f":"IFERROR(Table3[[#This Row],[Average $ Raised per 1% of Time]]*$N$6,\"\")","v":""},{"$f":"IFERROR(Table3[[#This Row],[Average $ Raised per 1% of Time]]*$O$6,\"\")","v":""},{"$f":"IFERROR(Table3[[#This Row],[Average $ Raised per 1% of Time]]*$P$6,\"\")","v":""},{"$f":"IFERROR(Table3[[#This Row],[Average $ Raised per 1% of Time]]*$Q$6,\"\")","v":""},{"$f":"IFERROR(Table3[[#This Row],[Average $ Raised per 1% of Time]]*$R$6,\"\")","v":""},{"$f":"IFERROR(Table3[[#This Row],[Average $ Raised per 1% of Time]]*$S$6,\"\")","v":""},{"$f":"IFERROR(Table3[[#This Row],[Average $ Raised per 1% of Time]]*$T$6,\"\")","v":""},{"$f":"IFERROR(Table3[[#This Row],[Average $ Raised per 1% of Time]]*$U$6,\"\")","v":""},{"$f":"IFERROR(Table3[[#This Row],[Average $ Raised per 1% of Time]]*$V$6,\"\")","v":""},{"$f":"IFERROR(Table3[[#This Row],[Average $ Raised per 1% of Time]]*$W$6,\"\")","v":""},{"$f":"IFERROR(Table3[[#This Row],[Average $ Raised per 1% of Time]]*$X$6,\"\")","v":""}]
[{"$f":"IF(Table5[Gift Officer Name]<>\"\",Table5[Gift Officer Name],\"\")","v":""},{"$f":"IFERROR(AVERAGE(Table5[[#This Row],[Total Dollars Raised in FY19]:[Total Dollars Raised in FY17]]),\"\")","v":""},{"$f":"IFERROR(AVERAGE(Table5[[#This Row],[Total Dollars Raised in FY19]:[Total Dollars Raised in FY17]])/Table5[[#This Row],[Estimated % of Time Spent on Fundraising]],\"\")","v":""},{"$f":"IFERROR(Table3[[#This Row],[Average $ Raised per 1% of Time]]*AVERAGEIF(Table5[Estimated % of Time Spent on Fundraising],\"<>\"\"\"),\"\")","v":""},{"$f":"IFERROR(Table3[[#This Row],[Average $ Raised per 1% of Time]]*$E$6,\"\")","v":""},{"$f":"IFERROR(Table3[[#This Row],[Average $ Raised per 1% of Time]]*$F$6,\"\")","v":""},{"$f":"IFERROR(Table3[[#This Row],[Average $ Raised per 1% of Time]]*$G$6,\"\")","v":""},{"$f":"IFERROR(Table3[[#This Row],[Average $ Raised per 1% of Time]]*$H$6,\"\")","v":""},{"$f":"IFERROR(Table3[[#This Row],[Average $ Raised per 1% of Time]]*$I$6,\"\")","v":""},{"$f":"IFERROR(Table3[[#This Row],[Average $ Raised per 1% of Time]]*$J$6,\"\")","v":""},{"$f":"IFERROR(Table3[[#This Row],[Average $ Raised per 1% of Time]]*$K$6,\"\")","v":""},{"$f":"IFERROR(Table3[[#This Row],[Average $ Raised per 1% of Time]]*$L$6,\"\")","v":""},{"$f":"IFERROR(Table3[[#This Row],[Average $ Raised per 1% of Time]]*$M$6,\"\")","v":""},{"$f":"IFERROR(Table3[[#This Row],[Average $ Raised per 1% of Time]]*$N$6,\"\")","v":""},{"$f":"IFERROR(Table3[[#This Row],[Average $ Raised per 1% of Time]]*$O$6,\"\")","v":""},{"$f":"IFERROR(Table3[[#This Row],[Average $ Raised per 1% of Time]]*$P$6,\"\")","v":""},{"$f":"IFERROR(Table3[[#This Row],[Average $ Raised per 1% of Time]]*$Q$6,\"\")","v":""},{"$f":"IFERROR(Table3[[#This Row],[Average $ Raised per 1% of Time]]*$R$6,\"\")","v":""},{"$f":"IFERROR(Table3[[#This Row],[Average $ Raised per 1% of Time]]*$S$6,\"\")","v":""},{"$f":"IFERROR(Table3[[#This Row],[Average $ Raised per 1% of Time]]*$T$6,\"\")","v":""},{"$f":"IFERROR(Table3[[#This Row],[Average $ Raised per 1% of Time]]*$U$6,\"\")","v":""},{"$f":"IFERROR(Table3[[#This Row],[Average $ Raised per 1% of Time]]*$V$6,\"\")","v":""},{"$f":"IFERROR(Table3[[#This Row],[Average $ Raised per 1% of Time]]*$W$6,\"\")","v":""},{"$f":"IFERROR(Table3[[#This Row],[Average $ Raised per 1% of Time]]*$X$6,\"\")","v":""}]
[{"$f":"IF(Table5[Gift Officer Name]<>\"\",Table5[Gift Officer Name],\"\")","v":""},{"$f":"IFERROR(AVERAGE(Table5[[#This Row],[Total Dollars Raised in FY19]:[Total Dollars Raised in FY17]]),\"\")","v":""},{"$f":"IFERROR(AVERAGE(Table5[[#This Row],[Total Dollars Raised in FY19]:[Total Dollars Raised in FY17]])/Table5[[#This Row],[Estimated % of Time Spent on Fundraising]],\"\")","v":""},{"$f":"IFERROR(Table3[[#This Row],[Average $ Raised per 1% of Time]]*AVERAGEIF(Table5[Estimated % of Time Spent on Fundraising],\"<>\"\"\"),\"\")","v":""},{"$f":"IFERROR(Table3[[#This Row],[Average $ Raised per 1% of Time]]*$E$6,\"\")","v":""},{"$f":"IFERROR(Table3[[#This Row],[Average $ Raised per 1% of Time]]*$F$6,\"\")","v":""},{"$f":"IFERROR(Table3[[#This Row],[Average $ Raised per 1% of Time]]*$G$6,\"\")","v":""},{"$f":"IFERROR(Table3[[#This Row],[Average $ Raised per 1% of Time]]*$H$6,\"\")","v":""},{"$f":"IFERROR(Table3[[#This Row],[Average $ Raised per 1% of Time]]*$I$6,\"\")","v":""},{"$f":"IFERROR(Table3[[#This Row],[Average $ Raised per 1% of Time]]*$J$6,\"\")","v":""},{"$f":"IFERROR(Table3[[#This Row],[Average $ Raised per 1% of Time]]*$K$6,\"\")","v":""},{"$f":"IFERROR(Table3[[#This Row],[Average $ Raised per 1% of Time]]*$L$6,\"\")","v":""},{"$f":"IFERROR(Table3[[#This Row],[Average $ Raised per 1% of Time]]*$M$6,\"\")","v":""},{"$f":"IFERROR(Table3[[#This Row],[Average $ Raised per 1% of Time]]*$N$6,\"\")","v":""},{"$f":"IFERROR(Table3[[#This Row],[Average $ Raised per 1% of Time]]*$O$6,\"\")","v":""},{"$f":"IFERROR(Table3[[#This Row],[Average $ Raised per 1% of Time]]*$P$6,\"\")","v":""},{"$f":"IFERROR(Table3[[#This Row],[Average $ Raised per 1% of Time]]*$Q$6,\"\")","v":""},{"$f":"IFERROR(Table3[[#This Row],[Average $ Raised per 1% of Time]]*$R$6,\"\")","v":""},{"$f":"IFERROR(Table3[[#This Row],[Average $ Raised per 1% of Time]]*$S$6,\"\")","v":""},{"$f":"IFERROR(Table3[[#This Row],[Average $ Raised per 1% of Time]]*$T$6,\"\")","v":""},{"$f":"IFERROR(Table3[[#This Row],[Average $ Raised per 1% of Time]]*$U$6,\"\")","v":""},{"$f":"IFERROR(Table3[[#This Row],[Average $ Raised per 1% of Time]]*$V$6,\"\")","v":""},{"$f":"IFERROR(Table3[[#This Row],[Average $ Raised per 1% of Time]]*$W$6,\"\")","v":""},{"$f":"IFERROR(Table3[[#This Row],[Average $ Raised per 1% of Time]]*$X$6,\"\")","v":""}]
[{"$f":"IF(Table5[Gift Officer Name]<>\"\",Table5[Gift Officer Name],\"\")","v":""},{"$f":"IFERROR(AVERAGE(Table5[[#This Row],[Total Dollars Raised in FY19]:[Total Dollars Raised in FY17]]),\"\")","v":""},{"$f":"IFERROR(AVERAGE(Table5[[#This Row],[Total Dollars Raised in FY19]:[Total Dollars Raised in FY17]])/Table5[[#This Row],[Estimated % of Time Spent on Fundraising]],\"\")","v":""},{"$f":"IFERROR(Table3[[#This Row],[Average $ Raised per 1% of Time]]*AVERAGEIF(Table5[Estimated % of Time Spent on Fundraising],\"<>\"\"\"),\"\")","v":""},{"$f":"IFERROR(Table3[[#This Row],[Average $ Raised per 1% of Time]]*$E$6,\"\")","v":""},{"$f":"IFERROR(Table3[[#This Row],[Average $ Raised per 1% of Time]]*$F$6,\"\")","v":""},{"$f":"IFERROR(Table3[[#This Row],[Average $ Raised per 1% of Time]]*$G$6,\"\")","v":""},{"$f":"IFERROR(Table3[[#This Row],[Average $ Raised per 1% of Time]]*$H$6,\"\")","v":""},{"$f":"IFERROR(Table3[[#This Row],[Average $ Raised per 1% of Time]]*$I$6,\"\")","v":""},{"$f":"IFERROR(Table3[[#This Row],[Average $ Raised per 1% of Time]]*$J$6,\"\")","v":""},{"$f":"IFERROR(Table3[[#This Row],[Average $ Raised per 1% of Time]]*$K$6,\"\")","v":""},{"$f":"IFERROR(Table3[[#This Row],[Average $ Raised per 1% of Time]]*$L$6,\"\")","v":""},{"$f":"IFERROR(Table3[[#This Row],[Average $ Raised per 1% of Time]]*$M$6,\"\")","v":""},{"$f":"IFERROR(Table3[[#This Row],[Average $ Raised per 1% of Time]]*$N$6,\"\")","v":""},{"$f":"IFERROR(Table3[[#This Row],[Average $ Raised per 1% of Time]]*$O$6,\"\")","v":""},{"$f":"IFERROR(Table3[[#This Row],[Average $ Raised per 1% of Time]]*$P$6,\"\")","v":""},{"$f":"IFERROR(Table3[[#This Row],[Average $ Raised per 1% of Time]]*$Q$6,\"\")","v":""},{"$f":"IFERROR(Table3[[#This Row],[Average $ Raised per 1% of Time]]*$R$6,\"\")","v":""},{"$f":"IFERROR(Table3[[#This Row],[Average $ Raised per 1% of Time]]*$S$6,\"\")","v":""},{"$f":"IFERROR(Table3[[#This Row],[Average $ Raised per 1% of Time]]*$T$6,\"\")","v":""},{"$f":"IFERROR(Table3[[#This Row],[Average $ Raised per 1% of Time]]*$U$6,\"\")","v":""},{"$f":"IFERROR(Table3[[#This Row],[Average $ Raised per 1% of Time]]*$V$6,\"\")","v":""},{"$f":"IFERROR(Table3[[#This Row],[Average $ Raised per 1% of Time]]*$W$6,\"\")","v":""},{"$f":"IFERROR(Table3[[#This Row],[Average $ Raised per 1% of Time]]*$X$6,\"\")","v":""}]
[{"$f":"IF(Table5[Gift Officer Name]<>\"\",Table5[Gift Officer Name],\"\")","v":""},{"$f":"IFERROR(AVERAGE(Table5[[#This Row],[Total Dollars Raised in FY19]:[Total Dollars Raised in FY17]]),\"\")","v":""},{"$f":"IFERROR(AVERAGE(Table5[[#This Row],[Total Dollars Raised in FY19]:[Total Dollars Raised in FY17]])/Table5[[#This Row],[Estimated % of Time Spent on Fundraising]],\"\")","v":""},{"$f":"IFERROR(Table3[[#This Row],[Average $ Raised per 1% of Time]]*AVERAGEIF(Table5[Estimated % of Time Spent on Fundraising],\"<>\"\"\"),\"\")","v":""},{"$f":"IFERROR(Table3[[#This Row],[Average $ Raised per 1% of Time]]*$E$6,\"\")","v":""},{"$f":"IFERROR(Table3[[#This Row],[Average $ Raised per 1% of Time]]*$F$6,\"\")","v":""},{"$f":"IFERROR(Table3[[#This Row],[Average $ Raised per 1% of Time]]*$G$6,\"\")","v":""},{"$f":"IFERROR(Table3[[#This Row],[Average $ Raised per 1% of Time]]*$H$6,\"\")","v":""},{"$f":"IFERROR(Table3[[#This Row],[Average $ Raised per 1% of Time]]*$I$6,\"\")","v":""},{"$f":"IFERROR(Table3[[#This Row],[Average $ Raised per 1% of Time]]*$J$6,\"\")","v":""},{"$f":"IFERROR(Table3[[#This Row],[Average $ Raised per 1% of Time]]*$K$6,\"\")","v":""},{"$f":"IFERROR(Table3[[#This Row],[Average $ Raised per 1% of Time]]*$L$6,\"\")","v":""},{"$f":"IFERROR(Table3[[#This Row],[Average $ Raised per 1% of Time]]*$M$6,\"\")","v":""},{"$f":"IFERROR(Table3[[#This Row],[Average $ Raised per 1% of Time]]*$N$6,\"\")","v":""},{"$f":"IFERROR(Table3[[#This Row],[Average $ Raised per 1% of Time]]*$O$6,\"\")","v":""},{"$f":"IFERROR(Table3[[#This Row],[Average $ Raised per 1% of Time]]*$P$6,\"\")","v":""},{"$f":"IFERROR(Table3[[#This Row],[Average $ Raised per 1% of Time]]*$Q$6,\"\")","v":""},{"$f":"IFERROR(Table3[[#This Row],[Average $ Raised per 1% of Time]]*$R$6,\"\")","v":""},{"$f":"IFERROR(Table3[[#This Row],[Average $ Raised per 1% of Time]]*$S$6,\"\")","v":""},{"$f":"IFERROR(Table3[[#This Row],[Average $ Raised per 1% of Time]]*$T$6,\"\")","v":""},{"$f":"IFERROR(Table3[[#This Row],[Average $ Raised per 1% of Time]]*$U$6,\"\")","v":""},{"$f":"IFERROR(Table3[[#This Row],[Average $ Raised per 1% of Time]]*$V$6,\"\")","v":""},{"$f":"IFERROR(Table3[[#This Row],[Average $ Raised per 1% of Time]]*$W$6,\"\")","v":""},{"$f":"IFERROR(Table3[[#This Row],[Average $ Raised per 1% of Time]]*$X$6,\"\")","v":""}]
[{"$f":"IF(Table5[Gift Officer Name]<>\"\",Table5[Gift Officer Name],\"\")","v":""},{"$f":"IFERROR(AVERAGE(Table5[[#This Row],[Total Dollars Raised in FY19]:[Total Dollars Raised in FY17]]),\"\")","v":""},{"$f":"IFERROR(AVERAGE(Table5[[#This Row],[Total Dollars Raised in FY19]:[Total Dollars Raised in FY17]])/Table5[[#This Row],[Estimated % of Time Spent on Fundraising]],\"\")","v":""},{"$f":"IFERROR(Table3[[#This Row],[Average $ Raised per 1% of Time]]*AVERAGEIF(Table5[Estimated % of Time Spent on Fundraising],\"<>\"\"\"),\"\")","v":""},{"$f":"IFERROR(Table3[[#This Row],[Average $ Raised per 1% of Time]]*$E$6,\"\")","v":""},{"$f":"IFERROR(Table3[[#This Row],[Average $ Raised per 1% of Time]]*$F$6,\"\")","v":""},{"$f":"IFERROR(Table3[[#This Row],[Average $ Raised per 1% of Time]]*$G$6,\"\")","v":""},{"$f":"IFERROR(Table3[[#This Row],[Average $ Raised per 1% of Time]]*$H$6,\"\")","v":""},{"$f":"IFERROR(Table3[[#This Row],[Average $ Raised per 1% of Time]]*$I$6,\"\")","v":""},{"$f":"IFERROR(Table3[[#This Row],[Average $ Raised per 1% of Time]]*$J$6,\"\")","v":""},{"$f":"IFERROR(Table3[[#This Row],[Average $ Raised per 1% of Time]]*$K$6,\"\")","v":""},{"$f":"IFERROR(Table3[[#This Row],[Average $ Raised per 1% of Time]]*$L$6,\"\")","v":""},{"$f":"IFERROR(Table3[[#This Row],[Average $ Raised per 1% of Time]]*$M$6,\"\")","v":""},{"$f":"IFERROR(Table3[[#This Row],[Average $ Raised per 1% of Time]]*$N$6,\"\")","v":""},{"$f":"IFERROR(Table3[[#This Row],[Average $ Raised per 1% of Time]]*$O$6,\"\")","v":""},{"$f":"IFERROR(Table3[[#This Row],[Average $ Raised per 1% of Time]]*$P$6,\"\")","v":""},{"$f":"IFERROR(Table3[[#This Row],[Average $ Raised per 1% of Time]]*$Q$6,\"\")","v":""},{"$f":"IFERROR(Table3[[#This Row],[Average $ Raised per 1% of Time]]*$R$6,\"\")","v":""},{"$f":"IFERROR(Table3[[#This Row],[Average $ Raised per 1% of Time]]*$S$6,\"\")","v":""},{"$f":"IFERROR(Table3[[#This Row],[Average $ Raised per 1% of Time]]*$T$6,\"\")","v":""},{"$f":"IFERROR(Table3[[#This Row],[Average $ Raised per 1% of Time]]*$U$6,\"\")","v":""},{"$f":"IFERROR(Table3[[#This Row],[Average $ Raised per 1% of Time]]*$V$6,\"\")","v":""},{"$f":"IFERROR(Table3[[#This Row],[Average $ Raised per 1% of Time]]*$W$6,\"\")","v":""},{"$f":"IFERROR(Table3[[#This Row],[Average $ Raised per 1% of Time]]*$X$6,\"\")","v":""}]
[{"$f":"IF(Table5[Gift Officer Name]<>\"\",Table5[Gift Officer Name],\"\")","v":""},{"$f":"IFERROR(AVERAGE(Table5[[#This Row],[Total Dollars Raised in FY19]:[Total Dollars Raised in FY17]]),\"\")","v":""},{"$f":"IFERROR(AVERAGE(Table5[[#This Row],[Total Dollars Raised in FY19]:[Total Dollars Raised in FY17]])/Table5[[#This Row],[Estimated % of Time Spent on Fundraising]],\"\")","v":""},{"$f":"IFERROR(Table3[[#This Row],[Average $ Raised per 1% of Time]]*AVERAGEIF(Table5[Estimated % of Time Spent on Fundraising],\"<>\"\"\"),\"\")","v":""},{"$f":"IFERROR(Table3[[#This Row],[Average $ Raised per 1% of Time]]*$E$6,\"\")","v":""},{"$f":"IFERROR(Table3[[#This Row],[Average $ Raised per 1% of Time]]*$F$6,\"\")","v":""},{"$f":"IFERROR(Table3[[#This Row],[Average $ Raised per 1% of Time]]*$G$6,\"\")","v":""},{"$f":"IFERROR(Table3[[#This Row],[Average $ Raised per 1% of Time]]*$H$6,\"\")","v":""},{"$f":"IFERROR(Table3[[#This Row],[Average $ Raised per 1% of Time]]*$I$6,\"\")","v":""},{"$f":"IFERROR(Table3[[#This Row],[Average $ Raised per 1% of Time]]*$J$6,\"\")","v":""},{"$f":"IFERROR(Table3[[#This Row],[Average $ Raised per 1% of Time]]*$K$6,\"\")","v":""},{"$f":"IFERROR(Table3[[#This Row],[Average $ Raised per 1% of Time]]*$L$6,\"\")","v":""},{"$f":"IFERROR(Table3[[#This Row],[Average $ Raised per 1% of Time]]*$M$6,\"\")","v":""},{"$f":"IFERROR(Table3[[#This Row],[Average $ Raised per 1% of Time]]*$N$6,\"\")","v":""},{"$f":"IFERROR(Table3[[#This Row],[Average $ Raised per 1% of Time]]*$O$6,\"\")","v":""},{"$f":"IFERROR(Table3[[#This Row],[Average $ Raised per 1% of Time]]*$P$6,\"\")","v":""},{"$f":"IFERROR(Table3[[#This Row],[Average $ Raised per 1% of Time]]*$Q$6,\"\")","v":""},{"$f":"IFERROR(Table3[[#This Row],[Average $ Raised per 1% of Time]]*$R$6,\"\")","v":""},{"$f":"IFERROR(Table3[[#This Row],[Average $ Raised per 1% of Time]]*$S$6,\"\")","v":""},{"$f":"IFERROR(Table3[[#This Row],[Average $ Raised per 1% of Time]]*$T$6,\"\")","v":""},{"$f":"IFERROR(Table3[[#This Row],[Average $ Raised per 1% of Time]]*$U$6,\"\")","v":""},{"$f":"IFERROR(Table3[[#This Row],[Average $ Raised per 1% of Time]]*$V$6,\"\")","v":""},{"$f":"IFERROR(Table3[[#This Row],[Average $ Raised per 1% of Time]]*$W$6,\"\")","v":""},{"$f":"IFERROR(Table3[[#This Row],[Average $ Raised per 1% of Time]]*$X$6,\"\")","v":""}]
[{"$f":"IF(Table5[Gift Officer Name]<>\"\",Table5[Gift Officer Name],\"\")","v":""},{"$f":"IFERROR(AVERAGE(Table5[[#This Row],[Total Dollars Raised in FY19]:[Total Dollars Raised in FY17]]),\"\")","v":""},{"$f":"IFERROR(AVERAGE(Table5[[#This Row],[Total Dollars Raised in FY19]:[Total Dollars Raised in FY17]])/Table5[[#This Row],[Estimated % of Time Spent on Fundraising]],\"\")","v":""},{"$f":"IFERROR(Table3[[#This Row],[Average $ Raised per 1% of Time]]*AVERAGEIF(Table5[Estimated % of Time Spent on Fundraising],\"<>\"\"\"),\"\")","v":""},{"$f":"IFERROR(Table3[[#This Row],[Average $ Raised per 1% of Time]]*$E$6,\"\")","v":""},{"$f":"IFERROR(Table3[[#This Row],[Average $ Raised per 1% of Time]]*$F$6,\"\")","v":""},{"$f":"IFERROR(Table3[[#This Row],[Average $ Raised per 1% of Time]]*$G$6,\"\")","v":""},{"$f":"IFERROR(Table3[[#This Row],[Average $ Raised per 1% of Time]]*$H$6,\"\")","v":""},{"$f":"IFERROR(Table3[[#This Row],[Average $ Raised per 1% of Time]]*$I$6,\"\")","v":""},{"$f":"IFERROR(Table3[[#This Row],[Average $ Raised per 1% of Time]]*$J$6,\"\")","v":""},{"$f":"IFERROR(Table3[[#This Row],[Average $ Raised per 1% of Time]]*$K$6,\"\")","v":""},{"$f":"IFERROR(Table3[[#This Row],[Average $ Raised per 1% of Time]]*$L$6,\"\")","v":""},{"$f":"IFERROR(Table3[[#This Row],[Average $ Raised per 1% of Time]]*$M$6,\"\")","v":""},{"$f":"IFERROR(Table3[[#This Row],[Average $ Raised per 1% of Time]]*$N$6,\"\")","v":""},{"$f":"IFERROR(Table3[[#This Row],[Average $ Raised per 1% of Time]]*$O$6,\"\")","v":""},{"$f":"IFERROR(Table3[[#This Row],[Average $ Raised per 1% of Time]]*$P$6,\"\")","v":""},{"$f":"IFERROR(Table3[[#This Row],[Average $ Raised per 1% of Time]]*$Q$6,\"\")","v":""},{"$f":"IFERROR(Table3[[#This Row],[Average $ Raised per 1% of Time]]*$R$6,\"\")","v":""},{"$f":"IFERROR(Table3[[#This Row],[Average $ Raised per 1% of Time]]*$S$6,\"\")","v":""},{"$f":"IFERROR(Table3[[#This Row],[Average $ Raised per 1% of Time]]*$T$6,\"\")","v":""},{"$f":"IFERROR(Table3[[#This Row],[Average $ Raised per 1% of Time]]*$U$6,\"\")","v":""},{"$f":"IFERROR(Table3[[#This Row],[Average $ Raised per 1% of Time]]*$V$6,\"\")","v":""},{"$f":"IFERROR(Table3[[#This Row],[Average $ Raised per 1% of Time]]*$W$6,\"\")","v":""},{"$f":"IFERROR(Table3[[#This Row],[Average $ Raised per 1% of Time]]*$X$6,\"\")","v":""}]
[{"$f":"IF(Table5[Gift Officer Name]<>\"\",Table5[Gift Officer Name],\"\")","v":""},{"$f":"IFERROR(AVERAGE(Table5[[#This Row],[Total Dollars Raised in FY19]:[Total Dollars Raised in FY17]]),\"\")","v":""},{"$f":"IFERROR(AVERAGE(Table5[[#This Row],[Total Dollars Raised in FY19]:[Total Dollars Raised in FY17]])/Table5[[#This Row],[Estimated % of Time Spent on Fundraising]],\"\")","v":""},{"$f":"IFERROR(Table3[[#This Row],[Average $ Raised per 1% of Time]]*AVERAGEIF(Table5[Estimated % of Time Spent on Fundraising],\"<>\"\"\"),\"\")","v":""},{"$f":"IFERROR(Table3[[#This Row],[Average $ Raised per 1% of Time]]*$E$6,\"\")","v":""},{"$f":"IFERROR(Table3[[#This Row],[Average $ Raised per 1% of Time]]*$F$6,\"\")","v":""},{"$f":"IFERROR(Table3[[#This Row],[Average $ Raised per 1% of Time]]*$G$6,\"\")","v":""},{"$f":"IFERROR(Table3[[#This Row],[Average $ Raised per 1% of Time]]*$H$6,\"\")","v":""},{"$f":"IFERROR(Table3[[#This Row],[Average $ Raised per 1% of Time]]*$I$6,\"\")","v":""},{"$f":"IFERROR(Table3[[#This Row],[Average $ Raised per 1% of Time]]*$J$6,\"\")","v":""},{"$f":"IFERROR(Table3[[#This Row],[Average $ Raised per 1% of Time]]*$K$6,\"\")","v":""},{"$f":"IFERROR(Table3[[#This Row],[Average $ Raised per 1% of Time]]*$L$6,\"\")","v":""},{"$f":"IFERROR(Table3[[#This Row],[Average $ Raised per 1% of Time]]*$M$6,\"\")","v":""},{"$f":"IFERROR(Table3[[#This Row],[Average $ Raised per 1% of Time]]*$N$6,\"\")","v":""},{"$f":"IFERROR(Table3[[#This Row],[Average $ Raised per 1% of Time]]*$O$6,\"\")","v":""},{"$f":"IFERROR(Table3[[#This Row],[Average $ Raised per 1% of Time]]*$P$6,\"\")","v":""},{"$f":"IFERROR(Table3[[#This Row],[Average $ Raised per 1% of Time]]*$Q$6,\"\")","v":""},{"$f":"IFERROR(Table3[[#This Row],[Average $ Raised per 1% of Time]]*$R$6,\"\")","v":""},{"$f":"IFERROR(Table3[[#This Row],[Average $ Raised per 1% of Time]]*$S$6,\"\")","v":""},{"$f":"IFERROR(Table3[[#This Row],[Average $ Raised per 1% of Time]]*$T$6,\"\")","v":""},{"$f":"IFERROR(Table3[[#This Row],[Average $ Raised per 1% of Time]]*$U$6,\"\")","v":""},{"$f":"IFERROR(Table3[[#This Row],[Average $ Raised per 1% of Time]]*$V$6,\"\")","v":""},{"$f":"IFERROR(Table3[[#This Row],[Average $ Raised per 1% of Time]]*$W$6,\"\")","v":""},{"$f":"IFERROR(Table3[[#This Row],[Average $ Raised per 1% of Time]]*$X$6,\"\")","v":""}]
[{"$f":"IF(Table5[Gift Officer Name]<>\"\",Table5[Gift Officer Name],\"\")","v":""},{"$f":"IFERROR(AVERAGE(Table5[[#This Row],[Total Dollars Raised in FY19]:[Total Dollars Raised in FY17]]),\"\")","v":""},{"$f":"IFERROR(AVERAGE(Table5[[#This Row],[Total Dollars Raised in FY19]:[Total Dollars Raised in FY17]])/Table5[[#This Row],[Estimated % of Time Spent on Fundraising]],\"\")","v":""},{"$f":"IFERROR(Table3[[#This Row],[Average $ Raised per 1% of Time]]*AVERAGEIF(Table5[Estimated % of Time Spent on Fundraising],\"<>\"\"\"),\"\")","v":""},{"$f":"IFERROR(Table3[[#This Row],[Average $ Raised per 1% of Time]]*$E$6,\"\")","v":""},{"$f":"IFERROR(Table3[[#This Row],[Average $ Raised per 1% of Time]]*$F$6,\"\")","v":""},{"$f":"IFERROR(Table3[[#This Row],[Average $ Raised per 1% of Time]]*$G$6,\"\")","v":""},{"$f":"IFERROR(Table3[[#This Row],[Average $ Raised per 1% of Time]]*$H$6,\"\")","v":""},{"$f":"IFERROR(Table3[[#This Row],[Average $ Raised per 1% of Time]]*$I$6,\"\")","v":""},{"$f":"IFERROR(Table3[[#This Row],[Average $ Raised per 1% of Time]]*$J$6,\"\")","v":""},{"$f":"IFERROR(Table3[[#This Row],[Average $ Raised per 1% of Time]]*$K$6,\"\")","v":""},{"$f":"IFERROR(Table3[[#This Row],[Average $ Raised per 1% of Time]]*$L$6,\"\")","v":""},{"$f":"IFERROR(Table3[[#This Row],[Average $ Raised per 1% of Time]]*$M$6,\"\")","v":""},{"$f":"IFERROR(Table3[[#This Row],[Average $ Raised per 1% of Time]]*$N$6,\"\")","v":""},{"$f":"IFERROR(Table3[[#This Row],[Average $ Raised per 1% of Time]]*$O$6,\"\")","v":""},{"$f":"IFERROR(Table3[[#This Row],[Average $ Raised per 1% of Time]]*$P$6,\"\")","v":""},{"$f":"IFERROR(Table3[[#This Row],[Average $ Raised per 1% of Time]]*$Q$6,\"\")","v":""},{"$f":"IFERROR(Table3[[#This Row],[Average $ Raised per 1% of Time]]*$R$6,\"\")","v":""},{"$f":"IFERROR(Table3[[#This Row],[Average $ Raised per 1% of Time]]*$S$6,\"\")","v":""},{"$f":"IFERROR(Table3[[#This Row],[Average $ Raised per 1% of Time]]*$T$6,\"\")","v":""},{"$f":"IFERROR(Table3[[#This Row],[Average $ Raised per 1% of Time]]*$U$6,\"\")","v":""},{"$f":"IFERROR(Table3[[#This Row],[Average $ Raised per 1% of Time]]*$V$6,\"\")","v":""},{"$f":"IFERROR(Table3[[#This Row],[Average $ Raised per 1% of Time]]*$W$6,\"\")","v":""},{"$f":"IFERROR(Table3[[#This Row],[Average $ Raised per 1% of Time]]*$X$6,\"\")","v":""}]
[{"$f":"IF(Table5[Gift Officer Name]<>\"\",Table5[Gift Officer Name],\"\")","v":""},{"$f":"IFERROR(AVERAGE(Table5[[#This Row],[Total Dollars Raised in FY19]:[Total Dollars Raised in FY17]]),\"\")","v":""},{"$f":"IFERROR(AVERAGE(Table5[[#This Row],[Total Dollars Raised in FY19]:[Total Dollars Raised in FY17]])/Table5[[#This Row],[Estimated % of Time Spent on Fundraising]],\"\")","v":""},{"$f":"IFERROR(Table3[[#This Row],[Average $ Raised per 1% of Time]]*AVERAGEIF(Table5[Estimated % of Time Spent on Fundraising],\"<>\"\"\"),\"\")","v":""},{"$f":"IFERROR(Table3[[#This Row],[Average $ Raised per 1% of Time]]*$E$6,\"\")","v":""},{"$f":"IFERROR(Table3[[#This Row],[Average $ Raised per 1% of Time]]*$F$6,\"\")","v":""},{"$f":"IFERROR(Table3[[#This Row],[Average $ Raised per 1% of Time]]*$G$6,\"\")","v":""},{"$f":"IFERROR(Table3[[#This Row],[Average $ Raised per 1% of Time]]*$H$6,\"\")","v":""},{"$f":"IFERROR(Table3[[#This Row],[Average $ Raised per 1% of Time]]*$I$6,\"\")","v":""},{"$f":"IFERROR(Table3[[#This Row],[Average $ Raised per 1% of Time]]*$J$6,\"\")","v":""},{"$f":"IFERROR(Table3[[#This Row],[Average $ Raised per 1% of Time]]*$K$6,\"\")","v":""},{"$f":"IFERROR(Table3[[#This Row],[Average $ Raised per 1% of Time]]*$L$6,\"\")","v":""},{"$f":"IFERROR(Table3[[#This Row],[Average $ Raised per 1% of Time]]*$M$6,\"\")","v":""},{"$f":"IFERROR(Table3[[#This Row],[Average $ Raised per 1% of Time]]*$N$6,\"\")","v":""},{"$f":"IFERROR(Table3[[#This Row],[Average $ Raised per 1% of Time]]*$O$6,\"\")","v":""},{"$f":"IFERROR(Table3[[#This Row],[Average $ Raised per 1% of Time]]*$P$6,\"\")","v":""},{"$f":"IFERROR(Table3[[#This Row],[Average $ Raised per 1% of Time]]*$Q$6,\"\")","v":""},{"$f":"IFERROR(Table3[[#This Row],[Average $ Raised per 1% of Time]]*$R$6,\"\")","v":""},{"$f":"IFERROR(Table3[[#This Row],[Average $ Raised per 1% of Time]]*$S$6,\"\")","v":""},{"$f":"IFERROR(Table3[[#This Row],[Average $ Raised per 1% of Time]]*$T$6,\"\")","v":""},{"$f":"IFERROR(Table3[[#This Row],[Average $ Raised per 1% of Time]]*$U$6,\"\")","v":""},{"$f":"IFERROR(Table3[[#This Row],[Average $ Raised per 1% of Time]]*$V$6,\"\")","v":""},{"$f":"IFERROR(Table3[[#This Row],[Average $ Raised per 1% of Time]]*$W$6,\"\")","v":""},{"$f":"IFERROR(Table3[[#This Row],[Average $ Raised per 1% of Time]]*$X$6,\"\")","v":""}]
[{"$f":"IF(Table5[Gift Officer Name]<>\"\",Table5[Gift Officer Name],\"\")","v":""},{"$f":"IFERROR(AVERAGE(Table5[[#This Row],[Total Dollars Raised in FY19]:[Total Dollars Raised in FY17]]),\"\")","v":""},{"$f":"IFERROR(AVERAGE(Table5[[#This Row],[Total Dollars Raised in FY19]:[Total Dollars Raised in FY17]])/Table5[[#This Row],[Estimated % of Time Spent on Fundraising]],\"\")","v":""},{"$f":"IFERROR(Table3[[#This Row],[Average $ Raised per 1% of Time]]*AVERAGEIF(Table5[Estimated % of Time Spent on Fundraising],\"<>\"\"\"),\"\")","v":""},{"$f":"IFERROR(Table3[[#This Row],[Average $ Raised per 1% of Time]]*$E$6,\"\")","v":""},{"$f":"IFERROR(Table3[[#This Row],[Average $ Raised per 1% of Time]]*$F$6,\"\")","v":""},{"$f":"IFERROR(Table3[[#This Row],[Average $ Raised per 1% of Time]]*$G$6,\"\")","v":""},{"$f":"IFERROR(Table3[[#This Row],[Average $ Raised per 1% of Time]]*$H$6,\"\")","v":""},{"$f":"IFERROR(Table3[[#This Row],[Average $ Raised per 1% of Time]]*$I$6,\"\")","v":""},{"$f":"IFERROR(Table3[[#This Row],[Average $ Raised per 1% of Time]]*$J$6,\"\")","v":""},{"$f":"IFERROR(Table3[[#This Row],[Average $ Raised per 1% of Time]]*$K$6,\"\")","v":""},{"$f":"IFERROR(Table3[[#This Row],[Average $ Raised per 1% of Time]]*$L$6,\"\")","v":""},{"$f":"IFERROR(Table3[[#This Row],[Average $ Raised per 1% of Time]]*$M$6,\"\")","v":""},{"$f":"IFERROR(Table3[[#This Row],[Average $ Raised per 1% of Time]]*$N$6,\"\")","v":""},{"$f":"IFERROR(Table3[[#This Row],[Average $ Raised per 1% of Time]]*$O$6,\"\")","v":""},{"$f":"IFERROR(Table3[[#This Row],[Average $ Raised per 1% of Time]]*$P$6,\"\")","v":""},{"$f":"IFERROR(Table3[[#This Row],[Average $ Raised per 1% of Time]]*$Q$6,\"\")","v":""},{"$f":"IFERROR(Table3[[#This Row],[Average $ Raised per 1% of Time]]*$R$6,\"\")","v":""},{"$f":"IFERROR(Table3[[#This Row],[Average $ Raised per 1% of Time]]*$S$6,\"\")","v":""},{"$f":"IFERROR(Table3[[#This Row],[Average $ Raised per 1% of Time]]*$T$6,\"\")","v":""},{"$f":"IFERROR(Table3[[#This Row],[Average $ Raised per 1% of Time]]*$U$6,\"\")","v":""},{"$f":"IFERROR(Table3[[#This Row],[Average $ Raised per 1% of Time]]*$V$6,\"\")","v":""},{"$f":"IFERROR(Table3[[#This Row],[Average $ Raised per 1% of Time]]*$W$6,\"\")","v":""},{"$f":"IFERROR(Table3[[#This Row],[Average $ Raised per 1% of Time]]*$X$6,\"\")","v":""}]
[{"$f":"IF(Table5[Gift Officer Name]<>\"\",Table5[Gift Officer Name],\"\")","v":""},{"$f":"IFERROR(AVERAGE(Table5[[#This Row],[Total Dollars Raised in FY19]:[Total Dollars Raised in FY17]]),\"\")","v":""},{"$f":"IFERROR(AVERAGE(Table5[[#This Row],[Total Dollars Raised in FY19]:[Total Dollars Raised in FY17]])/Table5[[#This Row],[Estimated % of Time Spent on Fundraising]],\"\")","v":""},{"$f":"IFERROR(Table3[[#This Row],[Average $ Raised per 1% of Time]]*AVERAGEIF(Table5[Estimated % of Time Spent on Fundraising],\"<>\"\"\"),\"\")","v":""},{"$f":"IFERROR(Table3[[#This Row],[Average $ Raised per 1% of Time]]*$E$6,\"\")","v":""},{"$f":"IFERROR(Table3[[#This Row],[Average $ Raised per 1% of Time]]*$F$6,\"\")","v":""},{"$f":"IFERROR(Table3[[#This Row],[Average $ Raised per 1% of Time]]*$G$6,\"\")","v":""},{"$f":"IFERROR(Table3[[#This Row],[Average $ Raised per 1% of Time]]*$H$6,\"\")","v":""},{"$f":"IFERROR(Table3[[#This Row],[Average $ Raised per 1% of Time]]*$I$6,\"\")","v":""},{"$f":"IFERROR(Table3[[#This Row],[Average $ Raised per 1% of Time]]*$J$6,\"\")","v":""},{"$f":"IFERROR(Table3[[#This Row],[Average $ Raised per 1% of Time]]*$K$6,\"\")","v":""},{"$f":"IFERROR(Table3[[#This Row],[Average $ Raised per 1% of Time]]*$L$6,\"\")","v":""},{"$f":"IFERROR(Table3[[#This Row],[Average $ Raised per 1% of Time]]*$M$6,\"\")","v":""},{"$f":"IFERROR(Table3[[#This Row],[Average $ Raised per 1% of Time]]*$N$6,\"\")","v":""},{"$f":"IFERROR(Table3[[#This Row],[Average $ Raised per 1% of Time]]*$O$6,\"\")","v":""},{"$f":"IFERROR(Table3[[#This Row],[Average $ Raised per 1% of Time]]*$P$6,\"\")","v":""},{"$f":"IFERROR(Table3[[#This Row],[Average $ Raised per 1% of Time]]*$Q$6,\"\")","v":""},{"$f":"IFERROR(Table3[[#This Row],[Average $ Raised per 1% of Time]]*$R$6,\"\")","v":""},{"$f":"IFERROR(Table3[[#This Row],[Average $ Raised per 1% of Time]]*$S$6,\"\")","v":""},{"$f":"IFERROR(Table3[[#This Row],[Average $ Raised per 1% of Time]]*$T$6,\"\")","v":""},{"$f":"IFERROR(Table3[[#This Row],[Average $ Raised per 1% of Time]]*$U$6,\"\")","v":""},{"$f":"IFERROR(Table3[[#This Row],[Average $ Raised per 1% of Time]]*$V$6,\"\")","v":""},{"$f":"IFERROR(Table3[[#This Row],[Average $ Raised per 1% of Time]]*$W$6,\"\")","v":""},{"$f":"IFERROR(Table3[[#This Row],[Average $ Raised per 1% of Time]]*$X$6,\"\")","v":""}]
[{"$f":"IF(Table5[Gift Officer Name]<>\"\",Table5[Gift Officer Name],\"\")","v":""},{"$f":"IFERROR(AVERAGE(Table5[[#This Row],[Total Dollars Raised in FY19]:[Total Dollars Raised in FY17]]),\"\")","v":""},{"$f":"IFERROR(AVERAGE(Table5[[#This Row],[Total Dollars Raised in FY19]:[Total Dollars Raised in FY17]])/Table5[[#This Row],[Estimated % of Time Spent on Fundraising]],\"\")","v":""},{"$f":"IFERROR(Table3[[#This Row],[Average $ Raised per 1% of Time]]*AVERAGEIF(Table5[Estimated % of Time Spent on Fundraising],\"<>\"\"\"),\"\")","v":""},{"$f":"IFERROR(Table3[[#This Row],[Average $ Raised per 1% of Time]]*$E$6,\"\")","v":""},{"$f":"IFERROR(Table3[[#This Row],[Average $ Raised per 1% of Time]]*$F$6,\"\")","v":""},{"$f":"IFERROR(Table3[[#This Row],[Average $ Raised per 1% of Time]]*$G$6,\"\")","v":""},{"$f":"IFERROR(Table3[[#This Row],[Average $ Raised per 1% of Time]]*$H$6,\"\")","v":""},{"$f":"IFERROR(Table3[[#This Row],[Average $ Raised per 1% of Time]]*$I$6,\"\")","v":""},{"$f":"IFERROR(Table3[[#This Row],[Average $ Raised per 1% of Time]]*$J$6,\"\")","v":""},{"$f":"IFERROR(Table3[[#This Row],[Average $ Raised per 1% of Time]]*$K$6,\"\")","v":""},{"$f":"IFERROR(Table3[[#This Row],[Average $ Raised per 1% of Time]]*$L$6,\"\")","v":""},{"$f":"IFERROR(Table3[[#This Row],[Average $ Raised per 1% of Time]]*$M$6,\"\")","v":""},{"$f":"IFERROR(Table3[[#This Row],[Average $ Raised per 1% of Time]]*$N$6,\"\")","v":""},{"$f":"IFERROR(Table3[[#This Row],[Average $ Raised per 1% of Time]]*$O$6,\"\")","v":""},{"$f":"IFERROR(Table3[[#This Row],[Average $ Raised per 1% of Time]]*$P$6,\"\")","v":""},{"$f":"IFERROR(Table3[[#This Row],[Average $ Raised per 1% of Time]]*$Q$6,\"\")","v":""},{"$f":"IFERROR(Table3[[#This Row],[Average $ Raised per 1% of Time]]*$R$6,\"\")","v":""},{"$f":"IFERROR(Table3[[#This Row],[Average $ Raised per 1% of Time]]*$S$6,\"\")","v":""},{"$f":"IFERROR(Table3[[#This Row],[Average $ Raised per 1% of Time]]*$T$6,\"\")","v":""},{"$f":"IFERROR(Table3[[#This Row],[Average $ Raised per 1% of Time]]*$U$6,\"\")","v":""},{"$f":"IFERROR(Table3[[#This Row],[Average $ Raised per 1% of Time]]*$V$6,\"\")","v":""},{"$f":"IFERROR(Table3[[#This Row],[Average $ Raised per 1% of Time]]*$W$6,\"\")","v":""},{"$f":"IFERROR(Table3[[#This Row],[Average $ Raised per 1% of Time]]*$X$6,\"\")","v":""}]
[{"$f":"IF(Table5[Gift Officer Name]<>\"\",Table5[Gift Officer Name],\"\")","v":""},{"$f":"IFERROR(AVERAGE(Table5[[#This Row],[Total Dollars Raised in FY19]:[Total Dollars Raised in FY17]]),\"\")","v":""},{"$f":"IFERROR(AVERAGE(Table5[[#This Row],[Total Dollars Raised in FY19]:[Total Dollars Raised in FY17]])/Table5[[#This Row],[Estimated % of Time Spent on Fundraising]],\"\")","v":""},{"$f":"IFERROR(Table3[[#This Row],[Average $ Raised per 1% of Time]]*AVERAGEIF(Table5[Estimated % of Time Spent on Fundraising],\"<>\"\"\"),\"\")","v":""},{"$f":"IFERROR(Table3[[#This Row],[Average $ Raised per 1% of Time]]*$E$6,\"\")","v":""},{"$f":"IFERROR(Table3[[#This Row],[Average $ Raised per 1% of Time]]*$F$6,\"\")","v":""},{"$f":"IFERROR(Table3[[#This Row],[Average $ Raised per 1% of Time]]*$G$6,\"\")","v":""},{"$f":"IFERROR(Table3[[#This Row],[Average $ Raised per 1% of Time]]*$H$6,\"\")","v":""},{"$f":"IFERROR(Table3[[#This Row],[Average $ Raised per 1% of Time]]*$I$6,\"\")","v":""},{"$f":"IFERROR(Table3[[#This Row],[Average $ Raised per 1% of Time]]*$J$6,\"\")","v":""},{"$f":"IFERROR(Table3[[#This Row],[Average $ Raised per 1% of Time]]*$K$6,\"\")","v":""},{"$f":"IFERROR(Table3[[#This Row],[Average $ Raised per 1% of Time]]*$L$6,\"\")","v":""},{"$f":"IFERROR(Table3[[#This Row],[Average $ Raised per 1% of Time]]*$M$6,\"\")","v":""},{"$f":"IFERROR(Table3[[#This Row],[Average $ Raised per 1% of Time]]*$N$6,\"\")","v":""},{"$f":"IFERROR(Table3[[#This Row],[Average $ Raised per 1% of Time]]*$O$6,\"\")","v":""},{"$f":"IFERROR(Table3[[#This Row],[Average $ Raised per 1% of Time]]*$P$6,\"\")","v":""},{"$f":"IFERROR(Table3[[#This Row],[Average $ Raised per 1% of Time]]*$Q$6,\"\")","v":""},{"$f":"IFERROR(Table3[[#This Row],[Average $ Raised per 1% of Time]]*$R$6,\"\")","v":""},{"$f":"IFERROR(Table3[[#This Row],[Average $ Raised per 1% of Time]]*$S$6,\"\")","v":""},{"$f":"IFERROR(Table3[[#This Row],[Average $ Raised per 1% of Time]]*$T$6,\"\")","v":""},{"$f":"IFERROR(Table3[[#This Row],[Average $ Raised per 1% of Time]]*$U$6,\"\")","v":""},{"$f":"IFERROR(Table3[[#This Row],[Average $ Raised per 1% of Time]]*$V$6,\"\")","v":""},{"$f":"IFERROR(Table3[[#This Row],[Average $ Raised per 1% of Time]]*$W$6,\"\")","v":""},{"$f":"IFERROR(Table3[[#This Row],[Average $ Raised per 1% of Time]]*$X$6,\"\")","v":""}]
[{"$f":"IF(Table5[Gift Officer Name]<>\"\",Table5[Gift Officer Name],\"\")","v":""},{"$f":"IFERROR(AVERAGE(Table5[[#This Row],[Total Dollars Raised in FY19]:[Total Dollars Raised in FY17]]),\"\")","v":""},{"$f":"IFERROR(AVERAGE(Table5[[#This Row],[Total Dollars Raised in FY19]:[Total Dollars Raised in FY17]])/Table5[[#This Row],[Estimated % of Time Spent on Fundraising]],\"\")","v":""},{"$f":"IFERROR(Table3[[#This Row],[Average $ Raised per 1% of Time]]*AVERAGEIF(Table5[Estimated % of Time Spent on Fundraising],\"<>\"\"\"),\"\")","v":""},{"$f":"IFERROR(Table3[[#This Row],[Average $ Raised per 1% of Time]]*$E$6,\"\")","v":""},{"$f":"IFERROR(Table3[[#This Row],[Average $ Raised per 1% of Time]]*$F$6,\"\")","v":""},{"$f":"IFERROR(Table3[[#This Row],[Average $ Raised per 1% of Time]]*$G$6,\"\")","v":""},{"$f":"IFERROR(Table3[[#This Row],[Average $ Raised per 1% of Time]]*$H$6,\"\")","v":""},{"$f":"IFERROR(Table3[[#This Row],[Average $ Raised per 1% of Time]]*$I$6,\"\")","v":""},{"$f":"IFERROR(Table3[[#This Row],[Average $ Raised per 1% of Time]]*$J$6,\"\")","v":""},{"$f":"IFERROR(Table3[[#This Row],[Average $ Raised per 1% of Time]]*$K$6,\"\")","v":""},{"$f":"IFERROR(Table3[[#This Row],[Average $ Raised per 1% of Time]]*$L$6,\"\")","v":""},{"$f":"IFERROR(Table3[[#This Row],[Average $ Raised per 1% of Time]]*$M$6,\"\")","v":""},{"$f":"IFERROR(Table3[[#This Row],[Average $ Raised per 1% of Time]]*$N$6,\"\")","v":""},{"$f":"IFERROR(Table3[[#This Row],[Average $ Raised per 1% of Time]]*$O$6,\"\")","v":""},{"$f":"IFERROR(Table3[[#This Row],[Average $ Raised per 1% of Time]]*$P$6,\"\")","v":""},{"$f":"IFERROR(Table3[[#This Row],[Average $ Raised per 1% of Time]]*$Q$6,\"\")","v":""},{"$f":"IFERROR(Table3[[#This Row],[Average $ Raised per 1% of Time]]*$R$6,\"\")","v":""},{"$f":"IFERROR(Table3[[#This Row],[Average $ Raised per 1% of Time]]*$S$6,\"\")","v":""},{"$f":"IFERROR(Table3[[#This Row],[Average $ Raised per 1% of Time]]*$T$6,\"\")","v":""},{"$f":"IFERROR(Table3[[#This Row],[Average $ Raised per 1% of Time]]*$U$6,\"\")","v":""},{"$f":"IFERROR(Table3[[#This Row],[Average $ Raised per 1% of Time]]*$V$6,\"\")","v":""},{"$f":"IFERROR(Table3[[#This Row],[Average $ Raised per 1% of Time]]*$W$6,\"\")","v":""},{"$f":"IFERROR(Table3[[#This Row],[Average $ Raised per 1% of Time]]*$X$6,\"\")","v":""}]
[{"$f":"IF(Table5[Gift Officer Name]<>\"\",Table5[Gift Officer Name],\"\")","v":""},{"$f":"IFERROR(AVERAGE(Table5[[#This Row],[Total Dollars Raised in FY19]:[Total Dollars Raised in FY17]]),\"\")","v":""},{"$f":"IFERROR(AVERAGE(Table5[[#This Row],[Total Dollars Raised in FY19]:[Total Dollars Raised in FY17]])/Table5[[#This Row],[Estimated % of Time Spent on Fundraising]],\"\")","v":""},{"$f":"IFERROR(Table3[[#This Row],[Average $ Raised per 1% of Time]]*AVERAGEIF(Table5[Estimated % of Time Spent on Fundraising],\"<>\"\"\"),\"\")","v":""},{"$f":"IFERROR(Table3[[#This Row],[Average $ Raised per 1% of Time]]*$E$6,\"\")","v":""},{"$f":"IFERROR(Table3[[#This Row],[Average $ Raised per 1% of Time]]*$F$6,\"\")","v":""},{"$f":"IFERROR(Table3[[#This Row],[Average $ Raised per 1% of Time]]*$G$6,\"\")","v":""},{"$f":"IFERROR(Table3[[#This Row],[Average $ Raised per 1% of Time]]*$H$6,\"\")","v":""},{"$f":"IFERROR(Table3[[#This Row],[Average $ Raised per 1% of Time]]*$I$6,\"\")","v":""},{"$f":"IFERROR(Table3[[#This Row],[Average $ Raised per 1% of Time]]*$J$6,\"\")","v":""},{"$f":"IFERROR(Table3[[#This Row],[Average $ Raised per 1% of Time]]*$K$6,\"\")","v":""},{"$f":"IFERROR(Table3[[#This Row],[Average $ Raised per 1% of Time]]*$L$6,\"\")","v":""},{"$f":"IFERROR(Table3[[#This Row],[Average $ Raised per 1% of Time]]*$M$6,\"\")","v":""},{"$f":"IFERROR(Table3[[#This Row],[Average $ Raised per 1% of Time]]*$N$6,\"\")","v":""},{"$f":"IFERROR(Table3[[#This Row],[Average $ Raised per 1% of Time]]*$O$6,\"\")","v":""},{"$f":"IFERROR(Table3[[#This Row],[Average $ Raised per 1% of Time]]*$P$6,\"\")","v":""},{"$f":"IFERROR(Table3[[#This Row],[Average $ Raised per 1% of Time]]*$Q$6,\"\")","v":""},{"$f":"IFERROR(Table3[[#This Row],[Average $ Raised per 1% of Time]]*$R$6,\"\")","v":""},{"$f":"IFERROR(Table3[[#This Row],[Average $ Raised per 1% of Time]]*$S$6,\"\")","v":""},{"$f":"IFERROR(Table3[[#This Row],[Average $ Raised per 1% of Time]]*$T$6,\"\")","v":""},{"$f":"IFERROR(Table3[[#This Row],[Average $ Raised per 1% of Time]]*$U$6,\"\")","v":""},{"$f":"IFERROR(Table3[[#This Row],[Average $ Raised per 1% of Time]]*$V$6,\"\")","v":""},{"$f":"IFERROR(Table3[[#This Row],[Average $ Raised per 1% of Time]]*$W$6,\"\")","v":""},{"$f":"IFERROR(Table3[[#This Row],[Average $ Raised per 1% of Time]]*$X$6,\"\")","v":""}]
[{"$f":"IF(Table5[Gift Officer Name]<>\"\",Table5[Gift Officer Name],\"\")","v":""},{"$f":"IFERROR(AVERAGE(Table5[[#This Row],[Total Dollars Raised in FY19]:[Total Dollars Raised in FY17]]),\"\")","v":""},{"$f":"IFERROR(AVERAGE(Table5[[#This Row],[Total Dollars Raised in FY19]:[Total Dollars Raised in FY17]])/Table5[[#This Row],[Estimated % of Time Spent on Fundraising]],\"\")","v":""},{"$f":"IFERROR(Table3[[#This Row],[Average $ Raised per 1% of Time]]*AVERAGEIF(Table5[Estimated % of Time Spent on Fundraising],\"<>\"\"\"),\"\")","v":""},{"$f":"IFERROR(Table3[[#This Row],[Average $ Raised per 1% of Time]]*$E$6,\"\")","v":""},{"$f":"IFERROR(Table3[[#This Row],[Average $ Raised per 1% of Time]]*$F$6,\"\")","v":""},{"$f":"IFERROR(Table3[[#This Row],[Average $ Raised per 1% of Time]]*$G$6,\"\")","v":""},{"$f":"IFERROR(Table3[[#This Row],[Average $ Raised per 1% of Time]]*$H$6,\"\")","v":""},{"$f":"IFERROR(Table3[[#This Row],[Average $ Raised per 1% of Time]]*$I$6,\"\")","v":""},{"$f":"IFERROR(Table3[[#This Row],[Average $ Raised per 1% of Time]]*$J$6,\"\")","v":""},{"$f":"IFERROR(Table3[[#This Row],[Average $ Raised per 1% of Time]]*$K$6,\"\")","v":""},{"$f":"IFERROR(Table3[[#This Row],[Average $ Raised per 1% of Time]]*$L$6,\"\")","v":""},{"$f":"IFERROR(Table3[[#This Row],[Average $ Raised per 1% of Time]]*$M$6,\"\")","v":""},{"$f":"IFERROR(Table3[[#This Row],[Average $ Raised per 1% of Time]]*$N$6,\"\")","v":""},{"$f":"IFERROR(Table3[[#This Row],[Average $ Raised per 1% of Time]]*$O$6,\"\")","v":""},{"$f":"IFERROR(Table3[[#This Row],[Average $ Raised per 1% of Time]]*$P$6,\"\")","v":""},{"$f":"IFERROR(Table3[[#This Row],[Average $ Raised per 1% of Time]]*$Q$6,\"\")","v":""},{"$f":"IFERROR(Table3[[#This Row],[Average $ Raised per 1% of Time]]*$R$6,\"\")","v":""},{"$f":"IFERROR(Table3[[#This Row],[Average $ Raised per 1% of Time]]*$S$6,\"\")","v":""},{"$f":"IFERROR(Table3[[#This Row],[Average $ Raised per 1% of Time]]*$T$6,\"\")","v":""},{"$f":"IFERROR(Table3[[#This Row],[Average $ Raised per 1% of Time]]*$U$6,\"\")","v":""},{"$f":"IFERROR(Table3[[#This Row],[Average $ Raised per 1% of Time]]*$V$6,\"\")","v":""},{"$f":"IFERROR(Table3[[#This Row],[Average $ Raised per 1% of Time]]*$W$6,\"\")","v":""},{"$f":"IFERROR(Table3[[#This Row],[Average $ Raised per 1% of Time]]*$X$6,\"\")","v":""}]
[{"$f":"IF(Table5[Gift Officer Name]<>\"\",Table5[Gift Officer Name],\"\")","v":""},{"$f":"IFERROR(AVERAGE(Table5[[#This Row],[Total Dollars Raised in FY19]:[Total Dollars Raised in FY17]]),\"\")","v":""},{"$f":"IFERROR(AVERAGE(Table5[[#This Row],[Total Dollars Raised in FY19]:[Total Dollars Raised in FY17]])/Table5[[#This Row],[Estimated % of Time Spent on Fundraising]],\"\")","v":""},{"$f":"IFERROR(Table3[[#This Row],[Average $ Raised per 1% of Time]]*AVERAGEIF(Table5[Estimated % of Time Spent on Fundraising],\"<>\"\"\"),\"\")","v":""},{"$f":"IFERROR(Table3[[#This Row],[Average $ Raised per 1% of Time]]*$E$6,\"\")","v":""},{"$f":"IFERROR(Table3[[#This Row],[Average $ Raised per 1% of Time]]*$F$6,\"\")","v":""},{"$f":"IFERROR(Table3[[#This Row],[Average $ Raised per 1% of Time]]*$G$6,\"\")","v":""},{"$f":"IFERROR(Table3[[#This Row],[Average $ Raised per 1% of Time]]*$H$6,\"\")","v":""},{"$f":"IFERROR(Table3[[#This Row],[Average $ Raised per 1% of Time]]*$I$6,\"\")","v":""},{"$f":"IFERROR(Table3[[#This Row],[Average $ Raised per 1% of Time]]*$J$6,\"\")","v":""},{"$f":"IFERROR(Table3[[#This Row],[Average $ Raised per 1% of Time]]*$K$6,\"\")","v":""},{"$f":"IFERROR(Table3[[#This Row],[Average $ Raised per 1% of Time]]*$L$6,\"\")","v":""},{"$f":"IFERROR(Table3[[#This Row],[Average $ Raised per 1% of Time]]*$M$6,\"\")","v":""},{"$f":"IFERROR(Table3[[#This Row],[Average $ Raised per 1% of Time]]*$N$6,\"\")","v":""},{"$f":"IFERROR(Table3[[#This Row],[Average $ Raised per 1% of Time]]*$O$6,\"\")","v":""},{"$f":"IFERROR(Table3[[#This Row],[Average $ Raised per 1% of Time]]*$P$6,\"\")","v":""},{"$f":"IFERROR(Table3[[#This Row],[Average $ Raised per 1% of Time]]*$Q$6,\"\")","v":""},{"$f":"IFERROR(Table3[[#This Row],[Average $ Raised per 1% of Time]]*$R$6,\"\")","v":""},{"$f":"IFERROR(Table3[[#This Row],[Average $ Raised per 1% of Time]]*$S$6,\"\")","v":""},{"$f":"IFERROR(Table3[[#This Row],[Average $ Raised per 1% of Time]]*$T$6,\"\")","v":""},{"$f":"IFERROR(Table3[[#This Row],[Average $ Raised per 1% of Time]]*$U$6,\"\")","v":""},{"$f":"IFERROR(Table3[[#This Row],[Average $ Raised per 1% of Time]]*$V$6,\"\")","v":""},{"$f":"IFERROR(Table3[[#This Row],[Average $ Raised per 1% of Time]]*$W$6,\"\")","v":""},{"$f":"IFERROR(Table3[[#This Row],[Average $ Raised per 1% of Time]]*$X$6,\"\")","v":""}]
[{"$f":"IF(Table5[Gift Officer Name]<>\"\",Table5[Gift Officer Name],\"\")","v":{"$error":"#VALUE!"}},{"$f":"IFERROR(AVERAGE(Table5[[#This Row],[Total Dollars Raised in FY19]:[Total Dollars Raised in FY17]]),\"\")","v":""},{"$f":"IFERROR(AVERAGE(Table5[[#This Row],[Total Dollars Raised in FY19]:[Total Dollars Raised in FY17]])/Table5[[#This Row],[Estimated % of Time Spent on Fundraising]],\"\")","v":""},{"$f":"IFERROR(Table3[[#This Row],[Average $ Raised per 1% of Time]]*AVERAGEIF(Table5[Estimated % of Time Spent on Fundraising],\"<>\"\"\"),\"\")","v":""},{"$f":"IFERROR(Table3[[#This Row],[Average $ Raised per 1% of Time]]*$E$6,\"\")","v":""},{"$f":"IFERROR(Table3[[#This Row],[Average $ Raised per 1% of Time]]*$F$6,\"\")","v":""},{"$f":"IFERROR(Table3[[#This Row],[Average $ Raised per 1% of Time]]*$G$6,\"\")","v":""},{"$f":"IFERROR(Table3[[#This Row],[Average $ Raised per 1% of Time]]*$H$6,\"\")","v":""},{"$f":"IFERROR(Table3[[#This Row],[Average $ Raised per 1% of Time]]*$I$6,\"\")","v":""},{"$f":"IFERROR(Table3[[#This Row],[Average $ Raised per 1% of Time]]*$J$6,\"\")","v":""},{"$f":"IFERROR(Table3[[#This Row],[Average $ Raised per 1% of Time]]*$K$6,\"\")","v":""},{"$f":"IFERROR(Table3[[#This Row],[Average $ Raised per 1% of Time]]*$L$6,\"\")","v":""},{"$f":"IFERROR(Table3[[#This Row],[Average $ Raised per 1% of Time]]*$M$6,\"\")","v":""},{"$f":"IFERROR(Table3[[#This Row],[Average $ Raised per 1% of Time]]*$N$6,\"\")","v":""},{"$f":"IFERROR(Table3[[#This Row],[Average $ Raised per 1% of Time]]*$O$6,\"\")","v":""},{"$f":"IFERROR(Table3[[#This Row],[Average $ Raised per 1% of Time]]*$P$6,\"\")","v":""},{"$f":"IFERROR(Table3[[#This Row],[Average $ Raised per 1% of Time]]*$Q$6,\"\")","v":""},{"$f":"IFERROR(Table3[[#This Row],[Average $ Raised per 1% of Time]]*$R$6,\"\")","v":""},{"$f":"IFERROR(Table3[[#This Row],[Average $ Raised per 1% of Time]]*$S$6,\"\")","v":""},{"$f":"IFERROR(Table3[[#This Row],[Average $ Raised per 1% of Time]]*$T$6,\"\")","v":""},{"$f":"IFERROR(Table3[[#This Row],[Average $ Raised per 1% of Time]]*$U$6,\"\")","v":""},{"$f":"IFERROR(Table3[[#This Row],[Average $ Raised per 1% of Time]]*$V$6,\"\")","v":""},{"$f":"IFERROR(Table3[[#This Row],[Average $ Raised per 1% of Time]]*$W$6,\"\")","v":""},{"$f":"IFERROR(Table3[[#This Row],[Average $ Raised per 1% of Time]]*$X$6,\"\")","v":""}]
[{"$f":"IF(Table5[Gift Officer Name]<>\"\",Table5[Gift Officer Name],\"\")","v":{"$error":"#VALUE!"}},{"$f":"IFERROR(AVERAGE(Table5[[#This Row],[Total Dollars Raised in FY19]:[Total Dollars Raised in FY17]]),\"\")","v":""},{"$f":"IFERROR(AVERAGE(Table5[[#This Row],[Total Dollars Raised in FY19]:[Total Dollars Raised in FY17]])/Table5[[#This Row],[Estimated % of Time Spent on Fundraising]],\"\")","v":""},{"$f":"IFERROR(Table3[[#This Row],[Average $ Raised per 1% of Time]]*AVERAGEIF(Table5[Estimated % of Time Spent on Fundraising],\"<>\"\"\"),\"\")","v":""},{"$f":"IFERROR(Table3[[#This Row],[Average $ Raised per 1% of Time]]*$E$6,\"\")","v":""},{"$f":"IFERROR(Table3[[#This Row],[Average $ Raised per 1% of Time]]*$F$6,\"\")","v":""},{"$f":"IFERROR(Table3[[#This Row],[Average $ Raised per 1% of Time]]*$G$6,\"\")","v":""},{"$f":"IFERROR(Table3[[#This Row],[Average $ Raised per 1% of Time]]*$H$6,\"\")","v":""},{"$f":"IFERROR(Table3[[#This Row],[Average $ Raised per 1% of Time]]*$I$6,\"\")","v":""},{"$f":"IFERROR(Table3[[#This Row],[Average $ Raised per 1% of Time]]*$J$6,\"\")","v":""},{"$f":"IFERROR(Table3[[#This Row],[Average $ Raised per 1% of Time]]*$K$6,\"\")","v":""},{"$f":"IFERROR(Table3[[#This Row],[Average $ Raised per 1% of Time]]*$L$6,\"\")","v":""},{"$f":"IFERROR(Table3[[#This Row],[Average $ Raised per 1% of Time]]*$M$6,\"\")","v":""},{"$f":"IFERROR(Table3[[#This Row],[Average $ Raised per 1% of Time]]*$N$6,\"\")","v":""},{"$f":"IFERROR(Table3[[#This Row],[Average $ Raised per 1% of Time]]*$O$6,\"\")","v":""},{"$f":"IFERROR(Table3[[#This Row],[Average $ Raised per 1% of Time]]*$P$6,\"\")","v":""},{"$f":"IFERROR(Table3[[#This Row],[Average $ Raised per 1% of Time]]*$Q$6,\"\")","v":""},{"$f":"IFERROR(Table3[[#This Row],[Average $ Raised per 1% of Time]]*$R$6,\"\")","v":""},{"$f":"IFERROR(Table3[[#This Row],[Average $ Raised per 1% of Time]]*$S$6,\"\")","v":""},{"$f":"IFERROR(Table3[[#This Row],[Average $ Raised per 1% of Time]]*$T$6,\"\")","v":""},{"$f":"IFERROR(Table3[[#This Row],[Average $ Raised per 1% of Time]]*$U$6,\"\")","v":""},{"$f":"IFERROR(Table3[[#This Row],[Average $ Raised per 1% of Time]]*$V$6,\"\")","v":""},{"$f":"IFERROR(Table3[[#This Row],[Average $ Raised per 1% of Time]]*$W$6,\"\")","v":""},{"$f":"IFERROR(Table3[[#This Row],[Average $ Raised per 1% of Time]]*$X$6,\"\")","v":""}]
[{"$f":"IF(Table5[Gift Officer Name]<>\"\",Table5[Gift Officer Name],\"\")","v":{"$error":"#VALUE!"}},{"$f":"IFERROR(AVERAGE(Table5[[#This Row],[Total Dollars Raised in FY19]:[Total Dollars Raised in FY17]]),\"\")","v":""},{"$f":"IFERROR(AVERAGE(Table5[[#This Row],[Total Dollars Raised in FY19]:[Total Dollars Raised in FY17]])/Table5[[#This Row],[Estimated % of Time Spent on Fundraising]],\"\")","v":""},{"$f":"IFERROR(Table3[[#This Row],[Average $ Raised per 1% of Time]]*AVERAGEIF(Table5[Estimated % of Time Spent on Fundraising],\"<>\"\"\"),\"\")","v":""},{"$f":"IFERROR(Table3[[#This Row],[Average $ Raised per 1% of Time]]*$E$6,\"\")","v":""},{"$f":"IFERROR(Table3[[#This Row],[Average $ Raised per 1% of Time]]*$F$6,\"\")","v":""},{"$f":"IFERROR(Table3[[#This Row],[Average $ Raised per 1% of Time]]*$G$6,\"\")","v":""},{"$f":"IFERROR(Table3[[#This Row],[Average $ Raised per 1% of Time]]*$H$6,\"\")","v":""},{"$f":"IFERROR(Table3[[#This Row],[Average $ Raised per 1% of Time]]*$I$6,\"\")","v":""},{"$f":"IFERROR(Table3[[#This Row],[Average $ Raised per 1% of Time]]*$J$6,\"\")","v":""},{"$f":"IFERROR(Table3[[#This Row],[Average $ Raised per 1% of Time]]*$K$6,\"\")","v":""},{"$f":"IFERROR(Table3[[#This Row],[Average $ Raised per 1% of Time]]*$L$6,\"\")","v":""},{"$f":"IFERROR(Table3[[#This Row],[Average $ Raised per 1% of Time]]*$M$6,\"\")","v":""},{"$f":"IFERROR(Table3[[#This Row],[Average $ Raised per 1% of Time]]*$N$6,\"\")","v":""},{"$f":"IFERROR(Table3[[#This Row],[Average $ Raised per 1% of Time]]*$O$6,\"\")","v":""},{"$f":"IFERROR(Table3[[#This Row],[Average $ Raised per 1% of Time]]*$P$6,\"\")","v":""},{"$f":"IFERROR(Table3[[#This Row],[Average $ Raised per 1% of Time]]*$Q$6,\"\")","v":""},{"$f":"IFERROR(Table3[[#This Row],[Average $ Raised per 1% of Time]]*$R$6,\"\")","v":""},{"$f":"IFERROR(Table3[[#This Row],[Average $ Raised per 1% of Time]]*$S$6,\"\")","v":""},{"$f":"IFERROR(Table3[[#This Row],[Average $ Raised per 1% of Time]]*$T$6,\"\")","v":""},{"$f":"IFERROR(Table3[[#This Row],[Average $ Raised per 1% of Time]]*$U$6,\"\")","v":""},{"$f":"IFERROR(Table3[[#This Row],[Average $ Raised per 1% of Time]]*$V$6,\"\")","v":""},{"$f":"IFERROR(Table3[[#This Row],[Average $ Raised per 1% of Time]]*$W$6,\"\")","v":""},{"$f":"IFERROR(Table3[[#This Row],[Average $ Raised per 1% of Time]]*$X$6,\"\")","v":""}]
[{"$f":"IF(Table5[Gift Officer Name]<>\"\",Table5[Gift Officer Name],\"\")","v":{"$error":"#VALUE!"}},{"$f":"IFERROR(AVERAGE(Table5[[#This Row],[Total Dollars Raised in FY19]:[Total Dollars Raised in FY17]]),\"\")","v":""},{"$f":"IFERROR(AVERAGE(Table5[[#This Row],[Total Dollars Raised in FY19]:[Total Dollars Raised in FY17]])/Table5[[#This Row],[Estimated % of Time Spent on Fundraising]],\"\")","v":""},{"$f":"IFERROR(Table3[[#This Row],[Average $ Raised per 1% of Time]]*AVERAGEIF(Table5[Estimated % of Time Spent on Fundraising],\"<>\"\"\"),\"\")","v":""},{"$f":"IFERROR(Table3[[#This Row],[Average $ Raised per 1% of Time]]*$E$6,\"\")","v":""},{"$f":"IFERROR(Table3[[#This Row],[Average $ Raised per 1% of Time]]*$F$6,\"\")","v":""},{"$f":"IFERROR(Table3[[#This Row],[Average $ Raised per 1% of Time]]*$G$6,\"\")","v":""},{"$f":"IFERROR(Table3[[#This Row],[Average $ Raised per 1% of Time]]*$H$6,\"\")","v":""},{"$f":"IFERROR(Table3[[#This Row],[Average $ Raised per 1% of Time]]*$I$6,\"\")","v":""},{"$f":"IFERROR(Table3[[#This Row],[Average $ Raised per 1% of Time]]*$J$6,\"\")","v":""},{"$f":"IFERROR(Table3[[#This Row],[Average $ Raised per 1% of Time]]*$K$6,\"\")","v":""},{"$f":"IFERROR(Table3[[#This Row],[Average $ Raised per 1% of Time]]*$L$6,\"\")","v":""},{"$f":"IFERROR(Table3[[#This Row],[Average $ Raised per 1% of Time]]*$M$6,\"\")","v":""},{"$f":"IFERROR(Table3[[#This Row],[Average $ Raised per 1% of Time]]*$N$6,\"\")","v":""},{"$f":"IFERROR(Table3[[#This Row],[Average $ Raised per 1% of Time]]*$O$6,\"\")","v":""},{"$f":"IFERROR(Table3[[#This Row],[Average $ Raised per 1% of Time]]*$P$6,\"\")","v":""},{"$f":"IFERROR(Table3[[#This Row],[Average $ Raised per 1% of Time]]*$Q$6,\"\")","v":""},{"$f":"IFERROR(Table3[[#This Row],[Average $ Raised per 1% of Time]]*$R$6,\"\")","v":""},{"$f":"IFERROR(Table3[[#This Row],[Average $ Raised per 1% of Time]]*$S$6,\"\")","v":""},{"$f":"IFERROR(Table3[[#This Row],[Average $ Raised per 1% of Time]]*$T$6,\"\")","v":""},{"$f":"IFERROR(Table3[[#This Row],[Average $ Raised per 1% of Time]]*$U$6,\"\")","v":""},{"$f":"IFERROR(Table3[[#This Row],[Average $ Raised per 1% of Time]]*$V$6,\"\")","v":""},{"$f":"IFERROR(Table3[[#This Row],[Average $ Raised per 1% of Time]]*$W$6,\"\")","v":""},{"$f":"IFERROR(Table3[[#This Row],[Average $ Raised per 1% of Time]]*$X$6,\"\")","v":""}]
[{"$f":"IF(Table5[Gift Officer Name]<>\"\",Table5[Gift Officer Name],\"\")","v":{"$error":"#VALUE!"}},{"$f":"IFERROR(AVERAGE(Table5[[#This Row],[Total Dollars Raised in FY19]:[Total Dollars Raised in FY17]]),\"\")","v":""},{"$f":"IFERROR(AVERAGE(Table5[[#This Row],[Total Dollars Raised in FY19]:[Total Dollars Raised in FY17]])/Table5[[#This Row],[Estimated % of Time Spent on Fundraising]],\"\")","v":""},{"$f":"IFERROR(Table3[[#This Row],[Average $ Raised per 1% of Time]]*AVERAGEIF(Table5[Estimated % of Time Spent on Fundraising],\"<>\"\"\"),\"\")","v":""},{"$f":"IFERROR(Table3[[#This Row],[Average $ Raised per 1% of Time]]*$E$6,\"\")","v":""},{"$f":"IFERROR(Table3[[#This Row],[Average $ Raised per 1% of Time]]*$F$6,\"\")","v":""},{"$f":"IFERROR(Table3[[#This Row],[Average $ Raised per 1% of Time]]*$G$6,\"\")","v":""},{"$f":"IFERROR(Table3[[#This Row],[Average $ Raised per 1% of Time]]*$H$6,\"\")","v":""},{"$f":"IFERROR(Table3[[#This Row],[Average $ Raised per 1% of Time]]*$I$6,\"\")","v":""},{"$f":"IFERROR(Table3[[#This Row],[Average $ Raised per 1% of Time]]*$J$6,\"\")","v":""},{"$f":"IFERROR(Table3[[#This Row],[Average $ Raised per 1% of Time]]*$K$6,\"\")","v":""},{"$f":"IFERROR(Table3[[#This Row],[Average $ Raised per 1% of Time]]*$L$6,\"\")","v":""},{"$f":"IFERROR(Table3[[#This Row],[Average $ Raised per 1% of Time]]*$M$6,\"\")","v":""},{"$f":"IFERROR(Table3[[#This Row],[Average $ Raised per 1% of Time]]*$N$6,\"\")","v":""},{"$f":"IFERROR(Table3[[#This Row],[Average $ Raised per 1% of Time]]*$O$6,\"\")","v":""},{"$f":"IFERROR(Table3[[#This Row],[Average $ Raised per 1% of Time]]*$P$6,\"\")","v":""},{"$f":"IFERROR(Table3[[#This Row],[Average $ Raised per 1% of Time]]*$Q$6,\"\")","v":""},{"$f":"IFERROR(Table3[[#This Row],[Average $ Raised per 1% of Time]]*$R$6,\"\")","v":""},{"$f":"IFERROR(Table3[[#This Row],[Average $ Raised per 1% of Time]]*$S$6,\"\")","v":""},{"$f":"IFERROR(Table3[[#This Row],[Average $ Raised per 1% of Time]]*$T$6,\"\")","v":""},{"$f":"IFERROR(Table3[[#This Row],[Average $ Raised per 1% of Time]]*$U$6,\"\")","v":""},{"$f":"IFERROR(Table3[[#This Row],[Average $ Raised per 1% of Time]]*$V$6,\"\")","v":""},{"$f":"IFERROR(Table3[[#This Row],[Average $ Raised per 1% of Time]]*$W$6,\"\")","v":""},{"$f":"IFERROR(Table3[[#This Row],[Average $ Raised per 1% of Time]]*$X$6,\"\")","v":""}]
[{"$f":"IF(Table5[Gift Officer Name]<>\"\",Table5[Gift Officer Name],\"\")","v":{"$error":"#VALUE!"}},{"$f":"IFERROR(AVERAGE(Table5[[#This Row],[Total Dollars Raised in FY19]:[Total Dollars Raised in FY17]]),\"\")","v":""},{"$f":"IFERROR(AVERAGE(Table5[[#This Row],[Total Dollars Raised in FY19]:[Total Dollars Raised in FY17]])/Table5[[#This Row],[Estimated % of Time Spent on Fundraising]],\"\")","v":""},{"$f":"IFERROR(Table3[[#This Row],[Average $ Raised per 1% of Time]]*AVERAGEIF(Table5[Estimated % of Time Spent on Fundraising],\"<>\"\"\"),\"\")","v":""},{"$f":"IFERROR(Table3[[#This Row],[Average $ Raised per 1% of Time]]*$E$6,\"\")","v":""},{"$f":"IFERROR(Table3[[#This Row],[Average $ Raised per 1% of Time]]*$F$6,\"\")","v":""},{"$f":"IFERROR(Table3[[#This Row],[Average $ Raised per 1% of Time]]*$G$6,\"\")","v":""},{"$f":"IFERROR(Table3[[#This Row],[Average $ Raised per 1% of Time]]*$H$6,\"\")","v":""},{"$f":"IFERROR(Table3[[#This Row],[Average $ Raised per 1% of Time]]*$I$6,\"\")","v":""},{"$f":"IFERROR(Table3[[#This Row],[Average $ Raised per 1% of Time]]*$J$6,\"\")","v":""},{"$f":"IFERROR(Table3[[#This Row],[Average $ Raised per 1% of Time]]*$K$6,\"\")","v":""},{"$f":"IFERROR(Table3[[#This Row],[Average $ Raised per 1% of Time]]*$L$6,\"\")","v":""},{"$f":"IFERROR(Table3[[#This Row],[Average $ Raised per 1% of Time]]*$M$6,\"\")","v":""},{"$f":"IFERROR(Table3[[#This Row],[Average $ Raised per 1% of Time]]*$N$6,\"\")","v":""},{"$f":"IFERROR(Table3[[#This Row],[Average $ Raised per 1% of Time]]*$O$6,\"\")","v":""},{"$f":"IFERROR(Table3[[#This Row],[Average $ Raised per 1% of Time]]*$P$6,\"\")","v":""},{"$f":"IFERROR(Table3[[#This Row],[Average $ Raised per 1% of Time]]*$Q$6,\"\")","v":""},{"$f":"IFERROR(Table3[[#This Row],[Average $ Raised per 1% of Time]]*$R$6,\"\")","v":""},{"$f":"IFERROR(Table3[[#This Row],[Average $ Raised per 1% of Time]]*$S$6,\"\")","v":""},{"$f":"IFERROR(Table3[[#This Row],[Average $ Raised per 1% of Time]]*$T$6,\"\")","v":""},{"$f":"IFERROR(Table3[[#This Row],[Average $ Raised per 1% of Time]]*$U$6,\"\")","v":""},{"$f":"IFERROR(Table3[[#This Row],[Average $ Raised per 1% of Time]]*$V$6,\"\")","v":""},{"$f":"IFERROR(Table3[[#This Row],[Average $ Raised per 1% of Time]]*$W$6,\"\")","v":""},{"$f":"IFERROR(Table3[[#This Row],[Average $ Raised per 1% of Time]]*$X$6,\"\")","v":""}]

{"sheet":"Chart Data","index":6,"n_rows":51,"n_cols":21,"rows_kept":51,"cut":false,"hidden":true,"merged":[[2,2,2,5]]}
[]
[]
[null,null,"WW: Right now they are linear graphs, I can make them non linear by putting in arbitrary values showing that if you spend less than 50 or 60% of your time fundraising you won't get the same returns year over year, it would diminish"]
[]
["Projected Data Values"]
["% of time","Year 1","Year 2","Year 3","Year 4","Year 5"]
[5,{"$f":"SUMIF(Table3[[ 5 ]],\"<>0\")","v":0},{"$f":"Table4[[#This Row],[Year 1]]*2","v":0},{"$f":"Table4[[#This Row],[Year 1]]*3","v":0},{"$f":"Table4[[#This Row],[Year 1]]*4","v":0},{"$f":"Table4[[#This Row],[Year 1]]*5","v":0}]
[10,{"$f":"SUMIF(Table3[10],\"<>0\")","v":0},{"$f":"Table4[[#This Row],[Year 1]]*2","v":0},{"$f":"Table4[[#This Row],[Year 1]]*3","v":0},{"$f":"Table4[[#This Row],[Year 1]]*4","v":0},{"$f":"Table4[[#This Row],[Year 1]]*5","v":0}]
[15,{"$f":"SUMIF(Table3[15],\"<>0\")","v":0},{"$f":"Table4[[#This Row],[Year 1]]*2","v":0},{"$f":"Table4[[#This Row],[Year 1]]*3","v":0},{"$f":"Table4[[#This Row],[Year 1]]*4","v":0},{"$f":"Table4[[#This Row],[Year 1]]*5","v":0}]
[20,{"$f":"SUMIF(Table3[20],\"<>0\")","v":0},{"$f":"Table4[[#This Row],[Year 1]]*2","v":0},{"$f":"Table4[[#This Row],[Year 1]]*3","v":0},{"$f":"Table4[[#This Row],[Year 1]]*4","v":0},{"$f":"Table4[[#This Row],[Year 1]]*5","v":0}]
[25,{"$f":"SUMIF(Table3[25],\"<>0\")","v":0},{"$f":"Table4[[#This Row],[Year 1]]*2","v":0},{"$f":"Table4[[#This Row],[Year 1]]*3","v":0},{"$f":"Table4[[#This Row],[Year 1]]*4","v":0},{"$f":"Table4[[#This Row],[Year 1]]*5","v":0}]
[30,{"$f":"SUMIF(Table3[30],\"<>0\")","v":0},{"$f":"Table4[[#This Row],[Year 1]]*2","v":0},{"$f":"Table4[[#This Row],[Year 1]]*3","v":0},{"$f":"Table4[[#This Row],[Year 1]]*4","v":0},{"$f":"Table4[[#This Row],[Year 1]]*5","v":0}]
[35,{"$f":"SUMIF(Table3[35],\"<>0\")","v":0},{"$f":"Table4[[#This Row],[Year 1]]*2","v":0},{"$f":"Table4[[#This Row],[Year 1]]*3","v":0},{"$f":"Table4[[#This Row],[Year 1]]*4","v":0},{"$f":"Table4[[#This Row],[Year 1]]*5","v":0}]
[40,{"$f":"SUMIF(Table3[40],\"<>0\")","v":0},{"$f":"Table4[[#This Row],[Year 1]]*2","v":0},{"$f":"Table4[[#This Row],[Year 1]]*3","v":0},{"$f":"Table4[[#This Row],[Year 1]]*4","v":0},{"$f":"Table4[[#This Row],[Year 1]]*5","v":0}]
[45,{"$f":"SUMIF(Table3[45],\"<>0\")","v":0},{"$f":"Table4[[#This Row],[Year 1]]*2","v":0},{"$f":"Table4[[#This Row],[Year 1]]*3","v":0},{"$f":"Table4[[#This Row],[Year 1]]*4","v":0},{"$f":"Table4[[#This Row],[Year 1]]*5","v":0}]
[50,{"$f":"SUMIF(Table3[50],\"<>0\")","v":0},{"$f":"Table4[[#This Row],[Year 1]]*2","v":0},{"$f":"Table4[[#This Row],[Year 1]]*3","v":0},{"$f":"Table4[[#This Row],[Year 1]]*4","v":0},{"$f":"Table4[[#This Row],[Year 1]]*5","v":0}]
[55,{"$f":"SUMIF(Table3[55],\"<>0\")","v":0},{"$f":"Table4[[#This Row],[Year 1]]*2","v":0},{"$f":"Table4[[#This Row],[Year 1]]*3","v":0},{"$f":"Table4[[#This Row],[Year 1]]*4","v":0},{"$f":"Table4[[#This Row],[Year 1]]*5","v":0}]
[60,{"$f":"SUMIF(Table3[60],\"<>0\")","v":0},{"$f":"Table4[[#This Row],[Year 1]]*2","v":0},{"$f":"Table4[[#This Row],[Year 1]]*3","v":0},{"$f":"Table4[[#This Row],[Year 1]]*4","v":0},{"$f":"Table4[[#This Row],[Year 1]]*5","v":0}]
[65,{"$f":"SUMIF(Table3[65],\"<>0\")","v":0},{"$f":"Table4[[#This Row],[Year 1]]*2","v":0},{"$f":"Table4[[#This Row],[Year 1]]*3","v":0},{"$f":"Table4[[#This Row],[Year 1]]*4","v":0},{"$f":"Table4[[#This Row],[Year 1]]*5","v":0}]
[70,{"$f":"SUMIF(Table3[70],\"<>0\")","v":0},{"$f":"Table4[[#This Row],[Year 1]]*2","v":0},{"$f":"Table4[[#This Row],[Year 1]]*3","v":0},{"$f":"Table4[[#This Row],[Year 1]]*4","v":0},{"$f":"Table4[[#This Row],[Year 1]]*5","v":0}]
[75,{"$f":"SUMIF(Table3[75],\"<>0\")","v":0},{"$f":"Table4[[#This Row],[Year 1]]*2","v":0},{"$f":"Table4[[#This Row],[Year 1]]*3","v":0},{"$f":"Table4[[#This Row],[Year 1]]*4","v":0},{"$f":"Table4[[#This Row],[Year 1]]*5","v":0}]
[80,{"$f":"SUMIF(Table3[80],\"<>0\")","v":0},{"$f":"Table4[[#This Row],[Year 1]]*2","v":0},{"$f":"Table4[[#This Row],[Year 1]]*3","v":0},{"$f":"Table4[[#This Row],[Year 1]]*4","v":0},{"$f":"Table4[[#This Row],[Year 1]]*5","v":0}]
[85,{"$f":"SUMIF(Table3[85],\"<>0\")","v":0},{"$f":"Table4[[#This Row],[Year 1]]*2","v":0},{"$f":"Table4[[#This Row],[Year 1]]*3","v":0},{"$f":"Table4[[#This Row],[Year 1]]*4","v":0},{"$f":"Table4[[#This Row],[Year 1]]*5","v":0}]
[90,{"$f":"SUMIF(Table3[90],\"<>0\")","v":0},{"$f":"Table4[[#This Row],[Year 1]]*2","v":0},{"$f":"Table4[[#This Row],[Year 1]]*3","v":0},{"$f":"Table4[[#This Row],[Year 1]]*4","v":0},{"$f":"Table4[[#This Row],[Year 1]]*5","v":0}]
[95,{"$f":"SUMIF(Table3[95],\"<>0\")","v":0},{"$f":"Table4[[#This Row],[Year 1]]*2","v":0},{"$f":"Table4[[#This Row],[Year 1]]*3","v":0},{"$f":"Table4[[#This Row],[Year 1]]*4","v":0},{"$f":"Table4[[#This Row],[Year 1]]*5","v":0}]
[100,{"$f":"SUMIF(Table3[100],\"<>0\")","v":0},{"$f":"Table4[[#This Row],[Year 1]]*2","v":0},{"$f":"Table4[[#This Row],[Year 1]]*3","v":0},{"$f":"Table4[[#This Row],[Year 1]]*4","v":0},{"$f":"Table4[[#This Row],[Year 1]]*5","v":0}]
[]
[]
["Current State Projected Values "]
["% of Time","Year 1","Year 2","Year 3","Year 4","Year 5"]
[{"$f":"'Predictive Model'!$D$11","v":{"$error":"#DIV/0!"}},{"$f":"SUMIF(Table3[Projected Current State],\"<>0\")","v":0},{"$f":"B31*2","v":0},{"$f":"B31*3","v":0},{"$f":"B31*4","v":0},{"$f":"B31*5","v":0}]
[]
[]
["Graph Values"]
[null,5,10,15,20,25,30,35,40,45,50,55,60,65,70,75,80,85,90,95,100]
["Year 1",{"$f":"IF('Predictive Model'!$D$24>=$B$35,B7,\"\")","v":0},{"$f":"IF('Predictive Model'!$D$24>=$C$35,B8,\"\")","v":0},{"$f":"IF('Predictive Model'!$D$24>=$D$35,B9,\"\")","v":0},{"$f":"IF('Predictive Model'!$D$24>=$E$35,B10,\"\")","v":0},{"$f":"IF('Predictive Model'!$D$24>=$F$35,B11,\"\")","v":""},{"$f":"IF('Predictive Model'!$D$24>=$G$35,B12,\"\")","v":""},{"$f":"IF('Predictive Model'!$D$24>=$H$35,B13,\"\")","v":""},{"$f":"IF('Predictive Model'!$D$24>=$I$35,B14,\"\")","v":""},{"$f":"IF('Predictive Model'!$D$24>=$J$35,B15,\"\")","v":""},{"$f":"IF('Predictive Model'!$D$24>=$K$35,B16,\"\")","v":""},{"$f":"IF('Predictive Model'!$D$24>=$L$35,B17,\"\")","v":""},{"$f":"IF('Predictive Model'!$D$24>=$M$35,B18,\"\")","v":""},{"$f":"IF('Predictive Model'!$D$24>=$N$35,B19,\"\")","v":""},{"$f":"IF('Predictive Model'!$D$24>=$O$35,B20,\"\")","v":""},{"$f":"IF('Predictive Model'!$D$24>=$P$35,B21,\"\")","v":""},{"$f":"IF('Predictive Model'!$D$24>=$Q$35,B22,\"\")","v":""},{"$f":"IF('Predictive Model'!$D$24>=$R$35,B23,\"\")","v":""},{"$f":"IF('Predictive Model'!$D$24>=$S$35,B24,\"\")","v":""},{"$f":"IF('Predictive Model'!$D$24>=$T$35,B25,\"\")","v":""},{"$f":"IF('Predictive Model'!$D$24>=$U$35,B26,\"\")","v":""}]
["Year 2",{"$f":"IF('Predictive Model'!$D$24>=$B$35,C7,\"\")","v":0},{"$f":"IF('Predictive Model'!$D$24>=$C$35,C8,\"\")","v":0},{"$f":"IF('Predictive Model'!$D$24>=$D$35,C9,\"\")","v":0},{"$f":"IF('Predictive Model'!$D$24>=$E$35,C10,\"\")","v":0},{"$f":"IF('Predictive Model'!$D$24>=$F$35,C11,\"\")","v":""},{"$f":"IF('Predictive Model'!$D$24>=$G$35,C12,\"\")","v":""},{"$f":"IF('Predictive Model'!$D$24>=$H$35,C13,\"\")","v":""},{"$f":"IF('Predictive Model'!$D$24>=$I$35,C14,\"\")","v":""},{"$f":"IF('Predictive Model'!$D$24>=$J$35,C15,\"\")","v":""},{"$f":"IF('Predictive Model'!$D$24>=$K$35,C16,\"\")","v":""},{"$f":"IF('Predictive Model'!$D$24>=$L$35,C17,\"\")","v":""},{"$f":"IF('Predictive Model'!$D$24>=$M$35,C18,\"\")","v":""},{"$f":"IF('Predictive Model'!$D$24>=$N$35,C19,\"\")","v":""},{"$f":"IF('Predictive Model'!$D$24>=$O$35,C20,\"\")","v":""},{"$f":"IF('Predictive Model'!$D$24>=$P$35,C21,\"\")","v":""},{"$f":"IF('Predictive Model'!$D$24>=$Q$35,C22,\"\")","v":""},{"$f":"IF('Predictive Model'!$D$24>=$R$35,C23,\"\")","v":""},{"$f":"IF('Predictive Model'!$D$24>=$S$35,C24,\"\")","v":""},{"$f":"IF('Predictive Model'!$D$24>=$T$35,C25,\"\")","v":""},{"$f":"IF('Predictive Model'!$D$24>=$U$35,C26,\"\")","v":""}]
["Year 3",{"$f":"IF('Predictive Model'!$D$24>=$B$35,D7,\"\")","v":0},{"$f":"IF('Predictive Model'!$D$24>=$C$35,D8,\"\")","v":0},{"$f":"IF('Predictive Model'!$D$24>=$D$35,D9,\"\")","v":0},{"$f":"IF('Predictive Model'!$D$24>=$E$35,D10,\"\")","v":0},{"$f":"IF('Predictive Model'!$D$24>=$F$35,D11,\"\")","v":""},{"$f":"IF('Predictive Model'!$D$24>=$G$35,D12,\"\")","v":""},{"$f":"IF('Predictive Model'!$D$24>=$H$35,D13,\"\")","v":""},{"$f":"IF('Predictive Model'!$D$24>=$I$35,D14,\"\")","v":""},{"$f":"IF('Predictive Model'!$D$24>=$J$35,D15,\"\")","v":""},{"$f":"IF('Predictive Model'!$D$24>=$K$35,D16,\"\")","v":""},{"$f":"IF('Predictive Model'!$D$24>=$L$35,D17,\"\")","v":""},{"$f":"IF('Predictive Model'!$D$24>=$M$35,D18,\"\")","v":""},{"$f":"IF('Predictive Model'!$D$24>=$N$35,D19,\"\")","v":""},{"$f":"IF('Predictive Model'!$D$24>=$O$35,D20,\"\")","v":""},{"$f":"IF('Predictive Model'!$D$24>=$P$35,D21,\"\")","v":""},{"$f":"IF('Predictive Model'!$D$24>=$Q$35, D22,\"\")","v":""},{"$f":"IF('Predictive Model'!$D$24>=$R$35,D23,\"\")","v":""},{"$f":"IF('Predictive Model'!$D$24>=$S$35,D24,\"\")","v":""},{"$f":"IF('Predictive Model'!$D$24>=$T$35,D25,\"\")","v":""},{"$f":"IF('Predictive Model'!$D$24>=$U$35,D26,\"\")","v":""}]
["Year 4",{"$f":"IF('Predictive Model'!$D$24>=$B$35,E7,\"\")","v":0},{"$f":"IF('Predictive Model'!$D$24>=$C$35,E8,\"\")","v":0},{"$f":"IF('Predictive Model'!$D$24>=$D$35,E9,\"\")","v":0},{"$f":"IF('Predictive Model'!$D$24>=$E$35,E10,\"\")","v":0},{"$f":"IF('Predictive Model'!$D$24>=$F$35,E11,\"\")","v":""},{"$f":"IF('Predictive Model'!$D$24>=$G$35,E12,\"\")","v":""},{"$f":"IF('Predictive Model'!$D$24>=$H$35,E13,\"\")","v":""},{"$f":"IF('Predictive Model'!$D$24>=$I$35,E14,\"\")","v":""},{"$f":"IF('Predictive Model'!$D$24>=$J$35,E15,\"\")","v":""},{"$f":"IF('Predictive Model'!$D$24>=$K$35,E16,\"\")","v":""},{"$f":"IF('Predictive Model'!$D$24>=$L$35,E17,\"\")","v":""},{"$f":"IF('Predictive Model'!$D$24>=$M$35,E18,\"\")","v":""},{"$f":"IF('Predictive Model'!$D$24>=$N$35,E19,\"\")","v":""},{"$f":"IF('Predictive Model'!$D$24>=$O$35,E20,\"\")","v":""},{"$f":"IF('Predictive Model'!$D$24>=$P$35,E21,\"\")","v":""},{"$f":"IF('Predictive Model'!$D$24>=$Q$35,E22,\"\")","v":""},{"$f":"IF('Predictive Model'!$D$24>=$R$35,E23,\"\")","v":""},{"$f":"IF('Predictive Model'!$D$24>=$S$35,E24,\"\")","v":""},{"$f":"IF('Predictive Model'!$D$24>=$T$35,E25,\"\")","v":""},{"$f":"IF('Predictive Model'!$D$24>=$U$35,E26,\"\")","v":""}]
["Year 5",{"$f":"IF('Predictive Model'!$D$24>=$B$35,F7,\"\")","v":0},{"$f":"IF('Predictive Model'!$D$24>=$C$35,F8,\"\")","v":0},{"$f":"IF('Predictive Model'!$D$24>=$D$35,F9,\"\")","v":0},{"$f":"IF('Predictive Model'!$D$24>=$E$35,F10,\"\")","v":0},{"$f":"IF('Predictive Model'!$D$24>=$F$35,F11,\"\")","v":""},{"$f":"IF('Predictive Model'!$D$24>=$G$35,F12,\"\")","v":""},{"$f":"IF('Predictive Model'!$D$24>=$H$35,F13,\"\")","v":""},{"$f":"IF('Predictive Model'!$D$24>=$I$35,F14,\"\")","v":""},{"$f":"IF('Predictive Model'!$D$24>=$J$35,F15,\"\")","v":""},{"$f":"IF('Predictive Model'!$D$24>=$K$35,F16,\"\")","v":""},{"$f":"IF('Predictive Model'!$D$24>=$L$35,F17,\"\")","v":""},{"$f":"IF('Predictive Model'!$D$24>=$M$35,F18,\"\")","v":""},{"$f":"IF('Predictive Model'!$D$24>=$N$35,F19,\"\")","v":""},{"$f":"IF('Predictive Model'!$D$24>=$O$35,F20,\"\")","v":""},{"$f":"IF('Predictive Model'!$D$24>=$P$35,F21,\"\")","v":""},{"$f":"IF('Predictive Model'!$D$24>=$Q$35,F22,\"\")","v":""},{"$f":"IF('Predictive Model'!$D$24>=$R$35,F23,\"\")","v":""},{"$f":"IF('Predictive Model'!$D$24>=$S$35,F24,\"\")","v":""},{"$f":"IF('Predictive Model'!$D$24>=$T$35,F25,\"\")","v":""},{"$f":"IF('Predictive Model'!$D$24>=$U$35,F26,\"\")","v":""}]
[]
[]
[]
[]
[]
[null,"Current State","Ideal State"]
["Year 1",{"$f":"B31","v":0},{"$f":"INDEX('Chart Data'!B36:U36,MATCH('Predictive Model'!D24,'Chart Data'!B35:U35))","v":0}]
["Year 2",{"$f":"C31","v":0},{"$f":"INDEX('Chart Data'!B37:U37,MATCH('Predictive Model'!D24,'Chart Data'!B35:U35))","v":0}]
["Year 3",{"$f":"D31","v":0},{"$f":"INDEX('Chart Data'!B38:U38,MATCH('Predictive Model'!D24,'Chart Data'!B35:U35))","v":0}]
["Year 4",{"$f":"E31","v":0},{"$f":"INDEX('Chart Data'!B39:U39,MATCH('Predictive Model'!D24,'Chart Data'!B35:U35))","v":0}]
["Year 5",{"$f":"F31","v":0},{"$f":"INDEX('Chart Data'!B40:U40,MATCH('Predictive Model'!D24,'Chart Data'!B35:U35))","v":0}]

{"sheet":"Dropdown list","index":7,"n_rows":22,"n_cols":11,"rows_kept":22,"cut":false,"hidden":true,"merged":[[7,0,14,0]]}
[]
[null,null,null,null,null,null,null,null,null,null,"% Time Spent on Fundraising Drop Down"]
[null,null,null,null,null,null,null,null,null,null,5]
["Axis","x","y",null,null,null,null,null,null,null,{"$f":"K3+5","v":10}]
["Max",5,{"$f":"'Chart Data'!F26+2000000","v":2000000},null,null,null,null,null,null,null,{"$f":"K4+5","v":15}]
["Min",1,0,null,null,null,null,null,null,null,20]
["Tick",1,1000000,null,null,null,null,null,null,null,25]
[null,null,null,null,null,null,null,null,null,null,30]
[null,null,null,null,null,null,null,null,null,null,35]
[null,null,null,null,null,null,null,null,null,null,40]
[null,null,null,null,null,null,null,null,null,null,45]
[null,null,null,null,null,null,null,null,null,null,50]
[null,null,null,null,null,null,null,null,null,null,55]
[null,null,null,null,null,null,null,null,null,null,60]
[null,null,null,null,null,null,null,null,null,null,65]
[null,null,null,null,null,null,null,null,null,null,70]
[null,null,null,null,null,null,null,null,null,null,75]
[null,null,null,null,null,null,null,null,null,null,80]
[null,null,null,null,null,null,null,null,null,null,85]
[null,null,null,null,null,null,null,null,null,null,90]
[null,null,null,null,null,null,null,null,null,null,95]
[null,null,null,null,null,null,null,null,null,null,100]